Workbook

Sheet Βαθμολογία 
A2: Κατάταξη | B2: Σύλλογος | C2: Βόλος Δυσκολία 3/7/21 | D2: boulder Αλμυρός 4/7/21 | E2: Δυσκολία Κομοτηνη Α αγώνας 25-26/9/21 | F2: boulder OAKA 16-17/10/21 | G2: Δυσκολία Βόλος Β Αγώνας 23-24/10/21 | H2: Σύνολο | K2: Θέση | L2: Βαθμοί | M2: Σε ισοπαλίες προσθετονται οι βαθμοί στη σειρά και διαιρούνται με τον αριθμό των αθλητων που ισοβαθμούν. Γι ΄ αυτό προκύπτουν δεκαδικά | N2: Σε κάθε κατηγορία υπολογίζονται οι τρεις καλύτεροι αθλητές από ένα Σύλλογο. Αν έχει 4, 5 ή και παραπάνω αθλητες σε μία κατηγορία μόνο οι τρεις καλύτεροι δίνουν βαθμολογία στον Σύλλογο
A3: 1 | B3: Ε.Ο.Σ. ΑΧΑΡΝΩΝ | C3: 494 | D3: ='boulder Συλλόγοι'!F11 -> 522 | E3: =Σύλλογοι!K5 -> 480 | F3: ='boulder ΟΑΚΑ Σύλλογοι'!J2 -> 927 | G3: ='Β αγώνας δυσκ. Συλλογοι '!K2 -> 830 | H3: =SUM(C3:G3) -> 3253 | K3: 1 | L3: 100
A4: 2 | B4: Ε.Ο.Σ. ΒΟΛΟΥ | C4: 539 | D4: ='boulder Συλλόγοι'!F23 -> 500 | E4: =Σύλλογοι!K6 -> 470 | F4: ='boulder ΟΑΚΑ Σύλλογοι'!J10 -> 297 | G4: ='Β αγώνας δυσκ. Συλλογοι '!K5 -> 511 | H4: =SUM(C4:G4) -> 2317 | K4: 2 | L4: 80
A5: 3 | B5: Ο.Σ. ΑΙΓΙΝΙΟΥ | C5: 383 | D5: ='boulder Συλλόγοι'!F32 -> 357 | E5: =Σύλλογοι!K7 -> 410 | F5: ='boulder ΟΑΚΑ Σύλλογοι'!J7 -> 342 | G5: ='Β αγώνας δυσκ. Συλλογοι '!K3 -> 661 | H5: =SUM(C5:G5) -> 2153 | K5: 3 | L5: 65
A6: 4 | B6: Ε.Ο.Σ. ΑΘΗΝΩΝ | C6: 180 | D6: ='boulder Συλλόγοι'!F38 -> 245 | E6: =Σύλλογοι!K10 -> 288 | F6: ='boulder ΟΑΚΑ Σύλλογοι'!J3 -> 811 | G6: ='Β αγώνας δυσκ. Συλλογοι '!K8 -> 395 | H6: =SUM(C6:G6) -> 1919 | K6: 4 | L6: 55
A7: 5 | B7: Π.Ο.Σ. ΠΕΤΡΟΥΠΟΛΗΣ | C7: 175 | D7: ='boulder Συλλόγοι'!F52 -> 171 | E7: =Σύλλογοι!K13 -> 168 | F7: ='boulder ΟΑΚΑ Σύλλογοι'!J4 -> 727.25 | G7: ='Β αγώνας δυσκ. Συλλογοι '!K4 -> 542 | H7: =SUM(C7:G7) -> 1783.25 | K7: 5 | L7: 51
A8: 6 | B8: Ε.Ο.Σ. ΞΑΝΘΗΣ | C8: 98 | D8: ='boulder Συλλόγοι'!F73 -> 98 | E8: =Σύλλογοι!K3 -> 540 | F8: ='boulder ΟΑΚΑ Σύλλογοι'!J5 -> 400 | G8: ='Β αγώνας δυσκ. Συλλογοι '!K7 -> 415 | H8: =SUM(C8:G8) -> 1551 | K8: 6 | L8: 47
A9: 7 | B9: Σ.Ε.Ο ΘΕΣΣΑΛΟΝΙΚΗΣ | C9: 0 | D9: 0 | E9: =Σύλλογοι!K4 -> 509 | F9: ='boulder ΟΑΚΑ Σύλλογοι'!J8 -> 335 | G9: ='Β αγώνας δυσκ. Συλλογοι '!K6 -> 468 | H9: =SUM(C9:G9) -> 1312 | K9: 7 | L9: 43
A10: 8 | B10: Ο.Λ. ΑΡΙΔΑΙΑΣ | C10: 245 | D10: ='boulder Συλλόγοι'!F46 -> 231 | E10: =Σύλλογοι!K8 -> 396 | F10: 0 | G10: ='Β αγώνας δυσκ. Συλλογοι '!K9 -> 375 | H10: =SUM(C10:G10) -> 1247 | K10: 8 | L10: 40
A11: 9 | B11: Ε.Π.Ο.Σ. ΦΥΛΗΣ | C11: 100 | D11: ='boulder Συλλόγοι'!J9 -> 142 | E11: 0 | F11: ='boulder ΟΑΚΑ Σύλλογοι'!J6 -> 342.75 | G11: ='Β αγώνας δυσκ. Συλλογοι '!K14 -> 94 | H11: =SUM(C11:G11) -> 678.75 | K11: 9 | L11: 37
A12: 10 | B12: Ε.Ο.Σ. ΚΟΜΟΤΗΝΗΣ | C12: 51 | D12: ='boulder Συλλόγοι'!J12 -> 43 | E12: =Σύλλογοι!K9 -> 382 | F12: 0 | G12: ='Β αγώνας δυσκ. Συλλογοι '!K11 -> 179 | H12: =SUM(C12:G12) -> 655 | K12: 10 | L12: 34
A13: 11 | B13: Σ.Χ.Ο. ΚΑΒΑΛΑΣ | C13: 130 | D13: ='boulder Συλλόγοι'!F57 -> 165 | E13: =Σύλλογοι!K14 -> 143 | F13: ='boulder ΟΑΚΑ Σύλλογοι'!J13 -> 129 | G13: ='Β αγώνας δυσκ. Συλλογοι '!K16 -> 80 | H13: =SUM(C13:G13) -> 647 | K13: 11 | L13: 31
A14: 12 | B14: Ο.Σ. ΣΙΑΤΙΣΤΑΣ | C14: 0 | D14: 0 | E14: =Σύλλογοι!K11 -> 283 | F14: 0 | G14: ='Β αγώνας δυσκ. Συλλογοι '!K10 -> 262 | H14: =SUM(C14:G14) -> 545 | K14: 12 | L14: 28
A15: 13 | B15: Ε.Ο.Σ. ΧΑΛΚΙΔΑΣ | C15: 0 | D15: 0 | E15: =Σύλλογοι!K16 -> 51 | F15: ='boulder ΟΑΚΑ Σύλλογοι'!J9 -> 314 | G15: ='Β αγώνας δυσκ. Συλλογοι '!K13 -> 120 | H15: =SUM(C15:G15) -> 485 | K15: 13 | L15: 26
A16: 14 | B16: Ε.Ο.Σ. ΑΛΜΥΡΟΥ | C16: 80 | D16: ='boulder Συλλόγοι'!J10 -> 102 | E16: =Σύλλογοι!K15 -> 55 | F16: ='boulder ΟΑΚΑ Σύλλογοι'!J12 -> 148.5 | G16: ='Β αγώνας δυσκ. Συλλογοι '!K15 -> 88 | H16: =SUM(C16:G16) -> 473.5 | K16: 14 | L16: 24
A17: 15 | B17: Σ.Ο.Δ. ΚΑΣΤΟΡΙΑΣ | C17: 0 | D17: 0 | E17: =Σύλλογοι!K12 -> 196 | F17: ='boulder ΟΑΚΑ Σύλλογοι'!J15 -> 72.5 | G17: ='Β αγώνας δυσκ. Συλλογοι '!K12 -> 170 | H17: =SUM(C17:G17) -> 438.5 | K17: 15 | L17: 22
A18: 16 | B18: Π.Ο. ΑΘΗΝΩΝ | C18: 0 | D18: 0 | E18: 0 | F18: ='boulder ΟΑΚΑ Σύλλογοι'!J11 -> 286 | G18: 0 | H18: =SUM(C18:G18) -> 286 | K18: 16 | L18: 20
A19: 17 | B19: Ο.Λ. ΚΑΛΑΜΠΑΚΑΣ | C19: 0 | D19: 0 | E19: =Σύλλογοι!K18 -> 47 | F19: ='boulder ΟΑΚΑ Σύλλογοι'!J18 -> 47 | G19: ='Β αγώνας δυσκ. Συλλογοι '!K20 -> 43 | H19: =SUM(C19:G19) -> 137 | K19: 17 | L19: 18
A20: 18 | B20: Ε.Ο.Σ.ΘΕΣΣΑΛΟΝΙΚΗΣ | C20: 0 | D20: 0 | E20: 0 | F20: ='boulder ΟΑΚΑ Σύλλογοι'!J16 -> 55 | G20: ='Β αγώνας δυσκ. Συλλογοι '!K19 -> 47 | H20: =SUM(C20:G20) -> 102 | K20: 18 | L20: 16
A21: 19 | B21: Ο.Α.Λ. ΘΕΣΣΑΛΟΝΙΚΗΣ | C21: 0 | D21: 0 | E21: 0 | F21: ='boulder ΟΑΚΑ Σύλλογοι'!J17 -> 51 | G21: ='Β αγώνας δυσκ. Συλλογοι '!K18 -> 47 | H21: =SUM(C21:G21) -> 98 | K21: 19 | L21: 14
A22: 20 | B22: Ε.Ο.Σ. ΗΡΑΚΛΕΙΟΥ | C22: 0 | D22: 0 | E22: 0 | F22: ='boulder ΟΑΚΑ Σύλλογοι'!J14 -> 80 | G22: 0 | H22: =SUM(C22:G22) -> 80 | K22: 20 | L22: 12
A23: 21 | B23: Ε.Ο.Σ. ΠΑΤΡΑΣ | C23: 0 | D23: 0 | E23: 0 | F23: 0 | G23: ='Β αγώνας δυσκ. Συλλογοι '!K17 -> 51 | H23: =SUM(C23:G23) -> 51 | K23: 21 | L23: 10
A24: 22 | B24: Λ.Ο.Χ. ΚΑΒΑΛΑΣ | C24: 0 | D24: 0 | E24: =Σύλλογοι!K17 -> 47 | F24: 0 | G24: 0 | H24: =SUM(C24:G24) -> 47 | K24: 22 | L24: 9
A25: 23 | B25: Ε.Ο.Σ. ΕΛΕΥΣΙΝΑΣ | C25: 0 | D25: 0 | E25: 0 | F25: ='boulder ΟΑΚΑ Σύλλογοι'!J19 -> 34 | G25: 0 | H25: =SUM(C25:G25) -> 34 | K25: 23 | L25: 8
K26: 24 | L26: 7
K27: 25 | L27: 6
K28: 26 | L28: 5
K29: 27 | L29: 4
K30: 28 | L30: 3
K31: 29 | L31: 2
K32: 30 | L32: 1

Sheet Μετάλλια Σύνολο
B2: Πίνακας Μεταλλίων Συνολικά
A3: Κατάταξη | B3: Σύλλογος | C3: Χρυσά | D3: Αργυρά | E3: Χαλκινα | F3: Σύνολο
A4: 1 | B4: Ε.Ο.Σ. ΑΧΑΡΝΩΝ | C4: 12 | D4: =D25+D35+D50+D64 -> 4 | E4: 8 | F4: =SUM(C4:E4) -> 24
A5: 2 | B5: Ε.Ο.Σ. ΞΑΝΘΗΣ | C5: 7 | D5: 4 | E5: =E48+E66 -> 2 | F5: =SUM(C5:E5) -> 13
A6: 3 | B6: Ο.Λ. ΑΡΙΔΑΙΑΣ | C6: 6 | D6: 4 | E6: =E23+E37+E49 -> 2 | F6: =SUM(C6:E6) -> 12
A7: 4 | B7: Ε.Ο.Σ. ΒΟΛΟΥ | C7: 5 | D7: 7 | E7: =E26+E38+E51+E68 -> 3 | F7: =SUM(C7:E7) -> 15
A8: 5 | B8: Ε.Ο.Σ. ΑΘΗΝΩΝ | C8: =C27+C36+C52+C65 -> 5 | D8: 6 | E8: 6 | F8: =SUM(C8:E8) -> 17
A9: 6 | B9: Ο.Σ. ΑΙΓΙΝΙΟΥ | C9: 5 | D9: 4 | E9: 7 | F9: =SUM(C9:E9) -> 16
A10: 7 | B10: Σ.Χ.Ο. ΚΑΒΑΛΑΣ | C10: =C29+C39+C54+C73 -> 2 | D10: 2 | E10: =E29+E39+E54+E73 -> 3 | F10: =SUM(C10:E10) -> 7
A11: 8 | B11: Ε.Ο.Σ. ΧΑΛΚΙΔΑΣ | C11: 2 | D11: 0 | E11: 1 | F11: =SUM(C11:E11) -> 3
A12: 9 | B12: Π.Ο.Σ. ΠΕΤΡΟΥΠΟΛΗΣ | C12: 1 | D12: 6 | E12: 5 | F12: =SUM(C12:E12) -> 12
A13: 10 | B13: Ε.Π.Ο.Σ. ΦΥΛΗΣ | C13: =C28+C41+C72 -> 1 | D13: =D28+D41+D72 -> 2 | E13: =E28+E41+E72 -> 1 | F13: =SUM(C13:E13) -> 4
A14: 11 | B14: Σ.Ε.Ο ΘΕΣΣΑΛΟΝΙΚΗΣ | C14: 0 | D14: 5 | E14: 3 | F14: =SUM(C14:E14) -> 8
A15: 12 | B15: Σ.Ο.Δ. ΚΑΣΤΟΡΙΑΣ | C15: =C56+C75 -> 0 | D15: 3 | E15: =E56+E75 -> 1 | F15: =SUM(C15:E15) -> 4
A16: 13 | B16: Ε.Ο.Σ. ΗΡΑΚΛΕΙΟΥ | C16: 0 | D16: 1 | E16: 0 | F16: =SUM(C16:E16) -> 1
A17: 14 | B17: Ε.Ο.Σ. ΚΟΜΟΤΗΝΗΣ | C17: 0 | D17: 0 | E17: 2 | F17: =SUM(C17:E17) -> 2
A18: 15 | B18: Ε.Ο.Σ. ΑΛΜΥΡΟΥ | C18: 0 | D18: 0 | E18: 1 | F18: =SUM(C18:E18) -> 1
B20: Αγώνας Δυσκολίας Βόλος 3/7/21
B21: Πίνακας Μεταλλίων
A22: Κατάταξη | B22: Σύλλογος | C22: Χρυσά | D22: Αργυρά | E22: Χαλκινα | F22: Σύνολο
A23: 1 | B23: Ο.Λ. ΑΡΙΔΑΙΑΣ | C23: 1 | D23: 1 | E23: 1 | F23: =SUM(C23:E23) -> 3
A24: 2 | B24: Ο.Σ. ΑΙΓΙΝΙΟΥ | C24: 1 | D24: 1 | E24: 1 | F24: =SUM(C24:E24) -> 3
A25: 3 | B25: Ε.Ο.Σ. ΑΧΑΡΝΩΝ | C25: 1 | D25: 2 | F25: =SUM(C25:E25) -> 3
A26: 4 | B26: Ε.Ο.Σ. ΒΟΛΟΥ | C26: 1 | D26: 1 | E26: 1 | F26: =SUM(C26:E26) -> 3
A27: 5 | B27: Ε.Ο.Σ. ΑΘΗΝΩΝ | C27: 1 | D27: 1 | F27: =SUM(C27:E27) -> 2
A28: 6 | B28: Ε.Π.Ο.Σ. ΦΥΛΗΣ | C28: 1 | F28: =SUM(C28:E28) -> 1
A29: 7 | B29: Σ.Χ.Ο. ΚΑΒΑΛΑΣ | E29: 2 | F29: =SUM(C29:E29) -> 2
A30: 8 | B30: Π.Ο.Σ. ΠΕΤΡΟΥΠΟΛΗΣ | E30: 1 | F30: =SUM(C30:E30) -> 1
B32: Αγώνας Boulder Αλμυρός 4/7/2021
B33: Πίνακας Μεταλλίων
A34: Κατάταξη | B34: Σύλλογος | C34: Χρυσά | D34: Αργυρά | E34: Χαλκινα | F34: Σύνολο
A35: 1 | B35: Ε.Ο.Σ. ΑΧΑΡΝΩΝ | C35: 2 | D35: 1 | E35: 1 | F35: =SUM(C35:E35) -> 4
A36: 2 | B36: Ε.Ο.Σ. ΑΘΗΝΩΝ | C36: 1 | D36: 1 | E36: 1 | F36: =SUM(C36:E36) -> 3
A37: 3 | B37: Ο.Λ. ΑΡΙΔΑΙΑΣ | C37: 1 | D37: 1 | F37: =SUM(C37:E37) -> 2
A38: 4 | B38: Ε.Ο.Σ. ΒΟΛΟΥ | C38: 1 | D38: 1 | F38: =SUM(C38:E38) -> 2
A39: 5 | B39: Σ.Χ.Ο. ΚΑΒΑΛΑΣ | C39: 1 | E39: 1 | F39: =SUM(C39:E39) -> 2
A40: 6 | B40: Ο.Σ. ΑΙΓΙΝΙΟΥ | D40: 1 | E40: 2 | F40: =SUM(C40:E40) -> 3
A41: 7 | B41: Ε.Π.Ο.Σ. ΦΥΛΗΣ | D41: 1 | F41: =SUM(C41:E41) -> 1
A42: 8 | B42: Π.Ο.Σ. ΠΕΤΡΟΥΠΟΛΗΣ | E42: 2 | F42: =SUM(C42:E42) -> 2
B45: Αγώνας Δυσκολίας Κομοτηνη 24-25/9/21
B46: Πίνακας Μεταλλίων
A47: Κατάταξη | B47: Σύλλογος | C47: Χρυσά | D47: Αργυρά | E47: Χαλκινα | F47: Σύνολο
A48: 1 | B48: Ε.Ο.Σ. ΞΑΝΘΗΣ | C48: 3 | D48: 1 | E48: 1 | F48: =SUM(C48:E48) -> 5
A49: 2 | B49: Ο.Λ. ΑΡΙΔΑΙΑΣ | C49: 2 | D49: 1 | E49: 1 | F49: =SUM(C49:E49) -> 4
A50: 3 | B50: Ε.Ο.Σ. ΑΧΑΡΝΩΝ | C50: 2 | E50: 2 | F50: =SUM(C50:E50) -> 4
A51: 4 | B51: Ε.Ο.Σ. ΒΟΛΟΥ | C51: 1 | D51: 2 | E51: 1 | F51: =SUM(C51:E51) -> 4
A52: 5 | B52: Ε.Ο.Σ. ΑΘΗΝΩΝ | C52: 1 | D52: 1 | E52: 1 | F52: =SUM(C52:E52) -> 3
A53: 5 | B53: Ο.Σ. ΑΙΓΙΝΙΟΥ | C53: 1 | D53: 1 | E53: 1 | F53: =SUM(C53:E53) -> 3
A54: 7 | B54: Σ.Χ.Ο. ΚΑΒΑΛΑΣ | C54: 1 | F54: =SUM(C54:E54) -> 1
A55: 8 | B55: Σ.Ε.Ο ΘΕΣΣΑΛΟΝΙΚΗΣ | D55: 3 | E55: 1 | F55: =SUM(C55:E55) -> 4
A56: 9 | B56: Σ.Ο.Δ. ΚΑΣΤΟΡΙΑΣ | D56: 1 | E56: 1 | F56: =SUM(C56:E56) -> 2
A57: 10 | B57: Π.Ο.Σ. ΠΕΤΡΟΥΠΟΛΗΣ | D57: 1 | F57: =SUM(C57:E57) -> 1
A58: 11 | B58: Ε.Ο.Σ. ΚΟΜΟΤΗΝΗΣ | E58: 2 | F58: =SUM(C58:E58) -> 2
F59: =SUM(F48:F58) -> 33
B61: Πίνακας Μεταλλίων
B62: 16-17/10/2021 ΟΑΚΑ Boulder Κύπελλο
A63: Κατάταξη | B63: Συλλογος | C63: Χρυσά | D63: Αργυρά | E63: Χαλκινα | F63: Σύνολο
A64: 1 | B64: Ε.Ο.Σ. ΑΧΑΡΝΩΝ | C64: 3 | D64: 1 | E64: 2 | F64: =SUM(C64:E64) -> 6
A65: 2 | B65: Ε.Ο.Σ. ΑΘΗΝΩΝ | C65: 2 | D65: 2 | E65: 2 | F65: =SUM(C65:E65) -> 6
A66: 3 | B66: Ε.Ο.Σ. ΞΑΝΘΗΣ | C66: 2 | D66: 1 | E66: 1 | F66: =SUM(C66:E66) -> 4
A67: 4 | B67: Ε.Ο.Σ. ΧΑΛΚΙΔΑΣ | C67: 2 | F67: =SUM(C67:E67) -> 2
A68: 5 | B68: Ε.Ο.Σ. ΒΟΛΟΥ | C68: 1 | D68: 1 | E68: 1 | F68: =SUM(C68:E68) -> 3
A69: 6 | B69: Π.Ο. ΑΘΗΝΩΝ | C69: 1 | D69: 1 | F69: =SUM(C69:E69) -> 2
A70: 7 | B70: Ο.Σ. ΑΙΓΙΝΙΟΥ | C70: 1 | E70: 1 | F70: =SUM(C70:E70) -> 2
A71: 8 | B71: Π.Ο.Σ. ΠΕΤΡΟΥΠΟΛΗΣ | D71: 4 | F71: =SUM(C71:E71) -> 4
A72: 9 | B72: Ε.Π.Ο.Σ. ΦΥΛΗΣ | D72: 1 | E72: 1 | F72: =SUM(C72:E72) -> 2
A73: 10 | B73: Σ.Χ.Ο. ΚΑΒΑΛΑΣ | D73: 1 | F73: =SUM(C73:E73) -> 1
A74: 11 | B74: Ε.Ο.Σ. ΗΡΑΚΛΕΙΟΥ | D74: 1 | F74: =SUM(C74:E74) -> 1
A75: 12 | B75: Σ.Ο.Δ. ΚΑΣΤΟΡΙΑΣ | D75: 1 | F75: =SUM(C75:E75) -> 1
A76: 13 | B76: Σ.Ε.Ο ΘΕΣΣΑΛΟΝΙΚΗΣ | E76: 2 | F76: =SUM(C76:E76) -> 2
A77: 14 | B77: Ε.Ο.Σ. ΑΛΜΥΡΟΥ | E77: 1 | F77: =SUM(C77:E77) -> 1
F78: =SUM(F64:F76) -> 36
B80: Πίνακας Μεταλλίων
B81: Δυσκολία Βόλος Β Αγώνας 23-24/10/21
B82: Σύλλογος | C82: Χρυσά | D82: Αργυρά | E82: Χαλκινα | F82: Σύνολο
A83: 1 | B83: Ε.Ο.Σ. ΑΧΑΡΝΩΝ | C83: 4 | E83: 3 | F83: =SUM(C83:E83) -> 7
A84: 2 | B84: Ε.Ο.Σ. ΞΑΝΘΗΣ | C84: 2 | D84: 2 | F84: =SUM(C84:E84) -> 4
A85: 3 | B85: Ο.Σ. ΑΙΓΙΝΙΟΥ | C85: 2 | D85: 1 | E85: 2 | F85: =SUM(C85:E85) -> 5
A86: 4 | B86: Ο.Λ. ΑΡΙΔΑΙΑΣ | C86: 2 | D86: 1 | F86: =SUM(C86:E86) -> 3
A87: 5 | B87: Ε.Ο.Σ. ΒΟΛΟΥ | C87: 1 | D87: 2 | F87: =SUM(C87:E87) -> 3
A88: 6 | B88: Π.Ο.Σ. ΠΕΤΡΟΥΠΟΛΗΣ | C88: 1 | D88: 1 | E88: 2 | F88: =SUM(C88:E88) -> 4
A89: 7 | B89: Σ.Ε.Ο ΘΕΣΣΑΛΟΝΙΚΗΣ | D89: 2 | E89: 2 | F89: =SUM(C89:E89) -> 4
A90: 8 | B90: Ε.Ο.Σ. ΑΘΗΝΩΝ | D90: 1 | E90: 2 | F90: =SUM(C90:E90) -> 3
A91: 9 | B91: Σ.Ο.Δ. ΚΑΣΤΟΡΙΑΣ | D91: 1 | F91: =SUM(C91:E91) -> 1
A92: 10 | B92: Σ.Χ.Ο. ΚΑΒΑΛΑΣ | D92: 1 | F92: =SUM(C92:E92) -> 1
A93: 11 | B93: Ε.Ο.Σ. ΧΑΛΚΙΔΑΣ | E93: 1 | F93: =SUM(C93:E93) -> 1
F94: =SUM(F83:F93) -> 36

Sheet Σύλλογοι Αθλητές Βαθμοί
A1: 1 | B1: Ε.Ο.Σ. ΑΧΑΡΝΩΝ | C1: Βόλος Δυσκολία 3/7/21 | D1: boulder Αλμυρός 4/7/21 | E1: Δυσκολία Κομοτηνη Α αγώνας 25-26/9/21 | F1: boulder OAKA 16-17/10/21 | G1: Δυσκολία Βόλος Β Αγώνας 23-24/10/21 | H1: Σύνολο | K1: Σύλλογος | L1: Αθλητές Σύνολο | M1: Αθλητές που πήγαν και στους 5 αγώνες (Παμπαίδες Κορασίδες Α.Β.Γ,Δ.) | N1: Αθλητές που πήγαν και στους 3 αγώνες από (Παίδες Κορασίδες μέχρι Ανδρες Γυναίκες)
A2: 1 | B2: ΜΙΧΑΗΛΙΔΟΥ ΑΓΓΕΛΙΚΗ | C2: 80 | D2: 100 | E2: 100 | F2: 100 | G2: 100 | H2: =SUM(C2:G2) -> 480 | J2: 1 | K2: Ε.Ο.Σ. ΑΧΑΡΝΩΝ | L2: 19 | M2: 5 | N2: 2
A3: 2 | B3: ΚΑΡΑΓΕΩΡΓΟΠΟΥΛΟΥ ΜΑΡΛΕΝ | C3: 80 | D3: 80 | E3: 100 | F3: 55 | G3: 100 | H3: =SUM(C3:G3) -> 415 | J3: 2 | K3: Ε.Ο.Σ. ΒΟΛΟΥ | L3: 12 | M3: 4 | N3: 0
A4: 3 | B4: ΜΗΧΑΗΛΙΔΟΥ ΕΥΘΥΜΙΑ | C4: 100 | D4: 100 | E4: 55 | F4: 100 | G4: 55 | H4: =SUM(C4:G4) -> 410 | J4: 3 | K4: Ο.Σ. ΑΙΓΙΝΙΟΥ | L4: 10 | M4: 3 | N4: 2
A5: 4 | B5: ΠΕΡΔΙΚΑΡΗ ΛΥΔΙΑ - ΘΕΟΔΩΡΑ | C5: 51 | D5: 65 | E5: 55 | F5: 100 | G5: 65 | H5: =SUM(C5:G5) -> 336 | J5: 4 | K5: Ε.Ο.Σ. ΑΘΗΝΩΝ | L5: 14 | M5: 2 | N5: 1
A6: 5 | B6: ΜΑΥΡΟΥΔΗΣ ΝΙΚΟΛΑΟΣ | C6: 55 | D6: 55 | F6: 51 | G6: 65 | H6: =SUM(C6:G6) -> 226 | J6: 5 | K6: Π.Ο.Σ. ΠΕΤΡΟΥΠΟΛΗΣ | L6: 17 | M6: 2 | N6: 0
A7: 6 | B7: ΘΕΟΧΑΡΟΠΟΥΛΟΣ ΘΕΟΦΑΝΗΣ-ΕΡΜΗΣ | E7: 65 | F7: 53 | G7: 100 | H7: =SUM(C7:G7) -> 218 | J7: 6 | K7: Ε.Ο.Σ. ΞΑΝΘΗΣ | L7: 7 | M7: 0 | N7: 5
A8: 7 | B8: ΦΙΛΙΠΠΙΔΗΣ ΑΝΑΣΤΑΣΗΣ | E8: 65 | F8: 80 | G8: 65 | H8: =SUM(C8:G8) -> 210 | J8: 7 | K8: Σ.Ε.Ο ΘΕΣΣΑΛΟΝΙΚΗΣ | L8: 10 | M8: 0 | N8: 8
A9: 8 | B9: ΝΙΚΟΛΑΝΤΟΣ ΓΙΩΡΓΟΣ | C9: 51 | D9: 51 | F9: 60 | G9: 47 | H9: =SUM(C9:G9) -> 209 | J9: 8 | K9: Ο.Λ. ΑΡΙΔΑΙΑΣ | L9: 8 | M9: 0 | N9: 0
A10: 9 | B10: ΠΕΡΔΙΚΑΡΗ ΙΡΙΔΑ | C10: 40 | D10: 31 | E10: 40 | F10: 31 | G10: 55 | H10: =SUM(C10:G10) -> 197 | J10: 9 | K10: Ε.Π.Ο.Σ. ΦΥΛΗΣ | L10: 8 | M10: 0 | N10: 0
A11: 10 | B11: ΟΡΦΑΝΟΣ ΓΕΩΡΓΙΟΣ | F11: 65 | G11: 100 | H11: =SUM(C11:G11) -> 165 | J11: 10 | K11: Ε.Ο.Σ. ΚΟΜΟΤΗΝΗΣ | L11: 8 | M11: 0 | N11: 0
A12: 11 | B12: ΝΙΚΟΛΑΝΤΟΥ ΑΙΚΑΤΕΡΙΝΗ | C12: 37 | D12: 40 | F12: 28 | G12: 31 | H12: =SUM(C12:G12) -> 136 | J12: 11 | K12: Σ.Χ.Ο. ΚΑΒΑΛΑΣ | L12: 2 | M12: 1 | N12: 0
A13: 12 | B13: ΔΗΜΟΥ ΑΛΕΞΑΝΔΡΟΣ | F13: 55 | G13: 47 | H13: =SUM(C13:G13) -> 102 | J13: 12 | K13: Ο.Σ. ΣΙΑΤΙΣΤΑΣ | L13: 8 | M13: 0 | N13: 0
A14: 13 | B14: ΜΩΡΑΙΤΗΣ ΓΙΩΡΓΟΣ-ΦΟΙΒΟΣ | F14: 53 | H14: =SUM(C14:G14) -> 53 | J14: 13 | K14: Ε.Ο.Σ. ΧΑΛΚΙΔΑΣ | L14: 5 | M14: 0 | N14: 0
A15: 14 | B15: ΜΠΑΜΠΑΣΑΝΙΔΗΣ-ΠΑΝΑΣ ΑΡΗΣ | F15: 47 | H15: =SUM(C15:G15) -> 47 | J15: 14 | K15: Ε.Ο.Σ. ΑΛΜΥΡΟΥ | L15: 3 | M15: 0 | N15: 0
A16: 15 | B16: ΘΕΟΔΩΡΟΥ ΔΑΝΑΗ | F16: 43 | H16: =SUM(C16:G16) -> 43 | J16: 15 | K16: Σ.Ο.Δ. ΚΑΣΤΟΡΙΑΣ | L16: 3 | M16: 0 | N16: 0
A17: 16 | B17: ΚΟΥΝΤΟΥΡΑΚΗΣ ΜΑΡΚΟΣ | F17: 34 | H17: =SUM(C17:G17) -> 34 | J17: 16 | K17: Π.Ο. ΑΘΗΝΩΝ | L17: 4 | M17: 0 | N17: 0
A18: 17 | B18: ΤΖΕΚΟΥ ΙΝΩ | F18: 19 | H18: =SUM(C18:G18) -> 19 | J18: 17 | K18: Ο.Λ. ΚΑΛΑΜΠΑΚΑΣ | L18: 1 | M18: 0 | N18: 0
A19: 18 | B19: ΠΑΠΠΑ ΜΙΧΑΕΛΑ | F19: 15 | H19: =SUM(C19:G19) -> 15 | J19: 18 | K19: Ε.Ο.Σ.ΘΕΣΣΑΛΟΝΙΚΗΣ | L19: 1 | M19: 0 | N19: 0
A20: 19 | B20: ΑΡΤΙΝΟΥ ΝΑΤΑΛΙΑ | F20: 9.75 | H20: =SUM(C20:G20) -> 9.75 | J20: 19 | K20: Ο.Α.Λ. ΘΕΣΣΑΛΟΝΙΚΗΣ | L20: 1 | M20: 0 | N20: 0
C21: =SUM(C2:C20) -> 494 | D21: =SUM(D2:D20) -> 522 | E21: =SUM(E2:E20) -> 480 | F21: =SUM(F2:F20) -> 998.75 | G21: =SUM(G2:G20) -> 830 | H21: =G21+F22+E21+D21+C21 -> 3253 | J21: 20 | K21: Ε.Ο.Σ. ΗΡΑΚΛΕΙΟΥ | L21: 1 | M21: 0 | N21: 0
F22: =F21-F23 -> 927 | J22: 21 | K22: Ε.Ο.Σ. ΠΑΤΡΑΣ | L22: 1 | M22: 0 | N22: 0
F23: =F20+F19+F12+F18 -> 71.75 | J23: 22 | K23: Λ.Ο.Χ. ΚΑΒΑΛΑΣ | L23: 1 | M23: 0 | N23: 0
J24: 23 | K24: Ε.Ο.Σ. ΕΛΕΥΣΙΝΑΣ | L24: 1 | M24: 0 | N24: 0
A25: 2 | B25: Ε.Ο.Σ. ΒΟΛΟΥ | C25: Βόλος Δυσκολία 3/7/21 | D25: boulder Αλμυρός 4/7/21 | E25: Δυσκολία Κομοτηνη Α αγώνας 25-26/9/21 | F25: boulder OAKA 16-17/10/21 | G25: Δυσκολία Βόλος Β Αγώνας 23-24/10/21 | H25: Σύνολο | K25: Σύνολο αθλητές | L25: =SUM(L2:L24) -> 145 | M25: =SUM(M2:M24) -> 17 | N25: =SUM(N2:N24) -> 18
A26: 1 | B26: ΜΙΧΑΗΛΙΔΗΣ ΝΙΚΟΛΑΟΣ | C26: 100 | D26: 100 | E26: 100 | F26: 100 | G26: 100 | H26: =SUM(C26:G26) -> 500
A27: 2 | B27: ΣΠΥΡΟΥ ΙΑΣΟΝΑΣ | C27: 80 | D27: 80 | E27: 80 | G27: 80 | H27: =SUM(C27:G27) -> 320
A28: 3 | B28: ΓΕΡΟΒΑΣΙΛΗ ΟΛΓΑ | C28: 65 | D28: 47 | E28: 80 | F28: 65 | G28: 43 | H28: =SUM(C28:G28) -> 300
A29: 4 | B29: ΓΕΡΟΒΑΣΙΛΗ ΑΝΝΑ | C29: 43 | D29: 40 | E29: 47 | F29: 80 | G29: 40 | H29: =SUM(C29:G29) -> 250
A30: 5 | B30: ΜΑΓΓΙΤΣΗ ΜΑΡΙΑ | C30: 51 | D30: 37 | E30: 65 | F30: 15 | G30: 34 | H30: =SUM(C30:G30) -> 202
A31: 6 | B31: ΚΟΠΑΝΟΥ ΕΥΓΕΝΕΙΑ | C31: 47 | D31: 43 | E31: 51 | G31: 51 | H31: =SUM(C31:G31) -> 192
A32: 7 | B32: ΝΕΟΥ ΣΤΥΛΙΑΝΗ | E32: 47 | F32: 37 | G32: 80 | H32: =SUM(C32:G32) -> 164
A33: 8 | B33: ΣΠΥΡΟΥ ΑΡΤΕΜΙΣ | C33: 55 | D33: 55 | E33: 47 | H33: =SUM(C33:G33) -> 157
A34: 9 | B34: ΕΥΑΓΓΕΛΟΥ ΕΜΜΑΝΟΥΗΛ | C34: 47 | D34: 47 | G34: 34 | H34: =SUM(C34:G34) -> 128
A35: 10 | B35: ΣΑΜΑΡΑ ΙΖΑΜΠΕΛΛΑ | C35: 51 | D35: 51 | H35: =SUM(C35:G35) -> 102
A36: 11 | B36: ΔΗΜΗΤΣΙΑΝΟΥ ΝΕΦΕΛΗ | G36: 43 | H36: =SUM(G36) -> 43
A37: 12 | B37: ΚΟΠΑΝΟΣ ΠΑΝΑΓΙΩΤΗΣ | G37: 40 | H37: =SUM(G37) -> 40
C38: =SUM(C26:C37) -> 539 | D38: =SUM(D26:D37) -> 500 | E38: =SUM(E26:E37) -> 517 | F38: =SUM(F26:F37) -> 297 | G38: =SUM(G26:G37) -> 545 | H38: =G39+F38+E39+D38+C38 -> 2317
E39: =E38-E32 -> 470 | G39: =G38-G30 -> 511
A41: 3 | B41: Ο.Σ. ΑΙΓΙΝΙΟΥ | C41: Βόλος Δυσκολία 3/7/21 | D41: boulder Αλμυρός 4/7/21 | E41: Δυσκολία Κομοτηνη Α αγώνας 25-26/9/21 | F41: boulder OAKA 16-17/10/21 | G41: Δυσκολία Βόλος Β Αγώνας 23-24/10/21 | H41: Σύνολο
A42: 1 | B42: ΑΠΟΣΤΟΛΟΠΟΥΛΟΣ ΙΩΑΝΝΗΣ | C42: 100 | D42: 80 | E42: 80 | F42: 65 | G42: 100 | H42: =SUM(C42:G42) -> 425
A43: 2 | B43: ΣΠΑΝΟΣ ΝΙΚΟΛΑΟΣ | C43: 80 | D43: 65 | E43: 55 | F43: 51 | G43: 65 | H43: =SUM(C43:G43) -> 316
A44: 3 | B44: ΣΠΑΝΟΥ ΕΥΤΥΧΙΑ | E44: 100 | F44: 100 | G44: 100 | H44: =SUM(C44:G44) -> 300
A45: 4 | B45: ΤΣΙΡΕΛΗΣ ΑΘΑΝΑΣΙΟΣ | C45: 65 | D45: 65 | E45: 65 | G45: 55 | H45: =SUM(C45:G45) -> 250
A46: 5 | B46: ΠΑΠΑΤΡΙΑΝΤΑΦΥΛΛΟΥ ΦΑΝΗ | C46: 43 | D46: 55 | E46: 55 | F46: 24 | G46: 65 | H46: =SUM(C46:G46) -> 242
A47: 6 | B47: ΖΟΥΛΟΥΜΗΣ ΑΝΑΣΤΑΣΙΟΣ | C47: 55 | D47: 55 | G47: 51 | H47: =SUM(C47:G47) -> 161
A48: 7 | B48: ΠΑΠΑΤΡΙΑΝΤΑΦΥΛΛΟΥ ΝΙΚΟΛΑΟΣ | E48: 55 | F48: 47 | G48: 47 | H48: =SUM(C48:G48) -> 149
A49: 8 | B49: ΖΟΥΛΟΥΜΗ ΚΩΝΣΤΑΝΤΙΝΑ | C49: 40 | D49: 37 | G49: 43 | H49: =SUM(C49:G49) -> 120
A50: 9 | B50: ΜΠΕΝΟΣ ΙΩΑΝΝΗΣ | F50: 55 | G50: 55 | H50: =SUM(C50:G50) -> 110
A51: 10 | B51: ΠΑΤΣΙΑ ΣΤΕΡΓΙΑΝΗ ΕΛΕΥΘΕΡΙΑ | G51: 80 | H51: =SUM(C51:G51) -> 80
C52: =SUM(C42:C51) -> 383 | D52: =SUM(D42:D51) -> 357 | E52: =SUM(E42:E51) -> 410 | F52: =SUM(F42:F51) -> 342 | G52: =SUM(G42:G51) -> 661 | H52: =SUM(H42:H51) -> 2153
A55: 4 | B55: Ε.Ο.Σ. ΑΘΗΝΩΝ | C55: Βόλος Δυσκολία 3/7/21 | D55: boulder Αλμυρός 4/7/21 | E55: Δυσκολία Κομοτηνη Α αγώνας 25-26/9/21 | F55: boulder OAKA 16-17/10/21 | G55: Δυσκολία Βόλος Β Αγώνας 23-24/10/21 | H55: Σύνολο
A56: 1 | B56: ΠΑΠΑΔΗΜΗΤΡΙΟΥ ΕΥΑΓΓΕΛΟΣ | C56: 80 | D56: 100 | E56: 100 | F56: 80 | G56: 80 | H56: =SUM(C56:G56) -> 440
A57: 2 | B57: ΠΑΠΑΛΕΞΗΣ ΓΕΩΡΓΙΟΣ | C57: 100 | D57: 80 | E57: 65 | F57: 100 | G57: 55 | H57: =SUM(C57:G57) -> 400
A58: 3 | B58: ΚΑΒΒΑΔΙΑ ΜΑΡΙΑ | E58: 80 | F58: 55 | G58: 65 | H58: =SUM(C58:G58) -> 200
A59: 4 | B59: ΚΑΒΒΑΔΙΑ ΕΙΡΗΝΗ ΑΝΝΑ | D59: 65 | E59: 43 | F59: 47 | H59: =SUM(C59:G59) -> 155
A60: 5 | B60: ΕΥΣΤΑΘΙΑΔΗΣ ΦΙΛΙΠΠΟΣ | F60: 65 | G60: 65 | H60: =SUM(C60:G60) -> 130
A61: 6 | B61: ΑΛΕΞΑΝΔΡΗΣ ΙΑΣΩΝ | F61: 51 | G61: 51 | H61: =SUM(C61:G61) -> 102
A62: 7 | B62: ΣΙΔΕΡΗΣ ΚΩΝΣΤΑΝΤΙΝΟΣ | F62: 100 | H62: =SUM(C62:G62) -> 100
A63: 8 | B63: ΧΑΛΔΑΙΟΥ ΣΟΦΙΑ | F63: 47 | G63: 51 | H63: =SUM(C63:G63) -> 98
A64: 9 | B64: ΚΟΔΡΟΣ ΙΩΑΝΝΗΣ | F64: 72.5 | H64: =SUM(C64:G64) -> 72.5
A65: 10 | B65: ΣΕΜΠΡΟΣ ΒΙΚΤΩΡ | F65: 65 | H65: =SUM(C65:G65) -> 65
A66: 11 | B66: ΚΟΥΤΡΕΤΣΗ ΚΛΕΙΩ | F66: 19 | G66: 28 | H66: =SUM(C66:G66) -> 47
A67: 12 | B67: HONG XUJING | F67: 40 | H67: =SUM(C67:G67) -> 40
A68: 13 | B68: ΖΙΟΥΒΑ ΑΡΤΕΜΙΣ | F68: 38.5 | H68: =SUM(C68:G68) -> 38.5
A69: 14 | B69: ΛΑΜΠΡΙΔΗΣ ΝΤΑΝΙΕΛ ΣΒΑΝΤ | F69: 31 | H69: =SUM(C69:G69) -> 31
C70: =SUM(C56:C69) -> 180 | D70: =SUM(D56:D69) -> 245 | E70: =SUM(E56:E69) -> 288 | F70: =SUM(F56:F69) -> 811 | G70: =SUM(G56:G69) -> 395 | H70: =SUM(C70:G70) -> 1919
A73: 5 | B73: Π.Ο.Σ. ΠΕΤΡΟΥΠΟΛΗΣ | C73: Βόλος Δυσκολία 3/7/21 | D73: boulder Αλμυρός 4/7/21 | E73: Δυσκολία Κομοτηνη Α αγώνας 25-26/9/21 | F73: boulder OAKA 16-17/10/21 | G73: Δυσκολία Βόλος Β Αγώνας 23-24/10/21 | H73: Σύνολο
A74: 1 | B74: ΑΘΑΝΑΣΑΚΗΣ ΕΜΜΑΝΟΥΗΛ | C74: 65 | D74: 60 | E74: 80 | F74: 55 | G74: 100 | H74: =SUM(C74:G74) -> 360
A75: 2 | B75: ΚΟΥΚΟΥΒΙΝΗΣ ΟΡΦΕΑΣ | C75: 55 | D75: 60 | E75: 51 | F75: 51 | G75: 51 | H75: =SUM(C75:G75) -> 268
A76: 3 | B76: ΛΥΤΙΝΑ ΣΩΤΗΡΙΑ | C76: 55 | D76: 51 | F76: 26 | G76: 40 | H76: =SUM(C76:G76) -> 172
A77: 4 | B77: ΠΑΚΟΣ ΗΡΑΚΛΗΣ | F77: 80 | G77: 80 | H77: =SUM(F77:G77) -> 160
A78: 5 | B78: ΚΩΒΑΙΟΥ ΣΟΦΙΑ | F78: 72.5 | G78: 65 | H78: =SUM(C78:G78) -> 137.5
A79: 6 | B79: ΣΙΑΞΑΜΠΑΝΗΣ ΣΕΡΑΦΕΙΜ | F79: 80 | G79: 43 | H79: =SUM(C79:G79) -> 123
A80: 7 | B80: ΜΑΚΑΡΙΤΗΣ ΝΙΚΟΛΑΟΣ | F80: 53 | G80: 65 | H80: =SUM(F80:G80) -> 118
A81: 8 | B81: ΚΥΡΙΑΖΗΣ ΕΥΘΥΜΗΣ | F81: 72.5 | H81: =SUM(F81:G81) -> 72.5
A82: 9 | B82: ΚΑΖΑΔΕΗ ΑΛΕΞΑΝΔΡΑ | F82: 34 | G82: 37 | H82: =SUM(C82:G82) -> 71
A83: 10 | B83: ΑΘΑΝΑΣΑΚΗ ΜΑΡΙΑ-ΓΕΡΑΣΙΜΙΑ | E83: 37 | F83: 9.75 | G83: 24 | H83: =SUM(C83:G83) -> 70.75
A84: 11 | B84: ΜΟΣΑΛΟΣ ΜΑΤΘΑΙΟΣ | F84: 47 | H84: =SUM(F84:G84) -> 47
A85: 12 | B85: ΘΑΛΑΣΣΙΝΟΣ ΑΡΗΣ | F85: 45 | H85: =SUM(F85:G85) -> 45
A86: 13 | B86: ΜΠΙΤΑΣ ΧΡΗΣΤΟΣ | F86: 41.5 | H86: =SUM(F86:G86) -> 41.5
A87: 14 | B87: ΧΑΤΖΗΣ ΟΡΦΕΑΣ | F87: 37 | H87: =SUM(F87:G87) -> 37
A88: 15 | B88: ΡΟΖΑ ΑΡΙΣΤΕΑ-ΑΝΝΑ | G88: 37 | H88: =SUM(F88:G88) -> 37
A89: 16 | B89: ΚΥΡΙΑΖΗΣ ΓΕΩΡΓΙΟΣ | F89: 23 | H89: =SUM(F89:G89) -> 23
A90: 17 | B90: ΧΑΤΖΟΠΟΥΛΟΥ ΡΑΦΑΕΛΑ | F90: 9.75 | H90: =SUM(F90:G90) -> 9.75
C91: =SUM(C74:C90) -> 175 | D91: =SUM(D74:D90) -> 171 | E91: =SUM(E74:E90) -> 168 | F91: =SUM(F74:F90) -> 737 | G91: =SUM(G74:G90) -> 542 | H91: =G91+F92+E91+D91+C91 -> 1783.25
F92: =F91-F83 -> 727.25
A94: 6 | B94: Ε.Ο.Σ. ΞΑΝΘΗΣ | C94: Βόλος Δυσκολία 3/7/21 | D94: boulder Αλμυρός 4/7/21 | E94: Δυσκολία Κομοτηνη Α αγώνας 25-26/9/21 | F94: boulder OAKA 16-17/10/21 | G94: Δυσκολία Βόλος Β Αγώνας 23-24/10/21 | H94: Σύνολο
A95: 1 | B95: ΒΑΛΣΑΜΙΔΗΣ ΜΑΤΘΑΙΟΣ | E95: 100 | F95: 100 | G95: 80 | H95: =SUM(E95:G95) -> 280
A96: 2 | B96: ΠΑΛΤΑΤΣΙΔΟΥ ΖΩΗ | E96: 100 | F96: 80 | G96: 100 | H96: =SUM(E96:G96) -> 280
A97: 3 | B97: ΜΠΕΡΤΟΣ ΒΑΣΙΛΕΙΟΣ | E97: 100 | F97: 65 | G97: 100 | H97: =SUM(E97:G97) -> 265
A98: 4 | B98: ΒΑΛΣΑΜΙΔΗΣ ΙΑΣΩΝΑΣ | E98: 80 | F98: 100 | G98: 80 | H98: =SUM(E98:G98) -> 260
A99: 5 | B99: ΒΑΛΣΑΜΙΔΗ ΔΑΝΑΗ | E99: 65 | F99: 55 | G99: 55 | H99: =SUM(E99:G99) -> 175
A100: 6 | B100: ΑΚΡΙΤΙΔΗΣ ΕΥΣΤΡΑΤΙΟΣ | C100: 47 | D100: 47 | E100: 55 | H100: =SUM(C100:G100) -> 149
A101: 7 | B101: ΑΚΡΙΤΙΔΗΣ ΘΕΟΔΩΡΟΣ | C101: 51 | D101: 51 | E101: 40 | H101: =SUM(C101:G101) -> 142
C102: =SUM(C95:C101) -> 98 | D102: =SUM(D95:D101) -> 98 | E102: =SUM(E95:E101) -> 540 | F102: =SUM(F95:F101) -> 400 | G102: =SUM(G95:G101) -> 415 | H102: =SUM(H95:H101) -> 1551
A105: 7 | B105: Σ.Ε.Ο ΘΕΣΣΑΛΟΝΙΚΗΣ | C105: Βόλος Δυσκολία 3/7/21 | D105: boulder Αλμυρός 4/7/21 | E105: Δυσκολία Κομοτηνη Α αγώνας 25-26/9/21 | F105: boulder OAKA 16-17/10/21 | G105: Δυσκολία Βόλος Β Αγώνας 23-24/10/21 | H105: Σύνολο
A106: 1 | B106: ΠΕΤΑΛΙΔΟΥ ΜΥΡΤΩ | E106: 80 | F106: 65 | G106: 80 | H106: =SUM(E106:G106) -> 225
A107: 2 | B107: ΜΑΓΚΙΟΡΟΥ ΕΡΜΙΟΝΗ | E107: 65 | F107: 65 | G107: 80 | H107: =SUM(E107:G107) -> 210
A108: 3 | B108: ΤΣΙΑΟΥΣΗΣ ΟΡΦΕΑΣ | E108: 80 | F108: 40 | G108: 65 | H108: =SUM(E108:G108) -> 185
...

Sheet δυσκολίας β αγώνας Βόλος
B2: ΠΑΓΚΟΡΑΣΙΔΕΣ Γ | C2: Σύλλογος | D2: ετος γεν. | E2: Κατηγορία | F2: θεση | G2: βαθμοί | J2: Θέση | K2: Βαθμοί
A3: 1 | B3: ΚΑΡΑΓΕΩΡΓΟΠΟΥΛΟΥ ΜΑΡΛΕΝ | C3: Ε.Ο.Σ. ΑΧΑΡΝΩΝ | D3: 2013 | E3: ΠΑΓΚΟΡΑΣΙΔΕΣ Γ | F3: 1 | G3: 100 | J3: 1 | K3: 100
A4: 2 | B4: ΠΑΠΑΝΔΡΕΟΥ ΜΑΡΙΑΝΘΗ | C4: Σ.Ο.Δ. ΚΑΣΤΟΡΙΑΣ | D4: 2012 | E4: ΠΑΓΚΟΡΑΣΙΔΕΣ Γ | F4: 2 | G4: 80 | J4: 2 | K4: 80
A5: 3 | B5: ΚΩΒΑΙΟΥ ΣΟΦΙΑ | C5: Π.Ο.Σ. ΠΕΤΡΟΥΠΟΛΗΣ | D5: 2012 | E5: ΠΑΓΚΟΡΑΣΙΔΕΣ Γ | F5: 3 | G5: 65 | J5: 3 | K5: 65
A6: 4 | B6: ΜΙΧΑΗΛΙΔΟΥ ΕΥΘΥΜΙΑ | C6: Ε.Ο.Σ. ΑΧΑΡΝΩΝ | D6: 2012 | E6: ΠΑΓΚΟΡΑΣΙΔΕΣ Γ | F6: 4 | G6: 55 | J6: 4 | K6: 55
A7: 5 | B7: ΤΣΑΦΗ ΑΛΕΞΑΝΔΡΑ | C7: Ο.Σ. ΣΙΑΤΙΣΤΑΣ | D7: 2012 | E7: ΠΑΓΚΟΡΑΣΙΔΕΣ Γ | F7: 5 | G7: 51 | J7: 5 | K7: 51
A8: 6 | B8: ΚΩΣΤΑΡΑ ΝΕΦΕΛΗ | C8: Σ.Ο.Δ. ΚΑΣΤΟΡΙΑΣ | D8: 2012 | E8: ΠΑΓΚΟΡΑΣΙΔΕΣ Γ | F8: 6 | G8: 47 | J8: 6 | K8: 47
A9: 7 | B9: ΔΗΜΗΤΣΙΑΝΟΥ ΝΕΦΕΛΗ | C9: Ε.Ο.Σ. ΒΟΛΟΥ | D9: 2012 | E9: ΠΑΓΚΟΡΑΣΙΔΕΣ Γ | F9: 7 | G9: 43 | J9: 7 | K9: 43
A10: 8 | B10: ΝΑΣΛΑ ΒΑΛΕΝΤΙΝΗ | C10: Ο.Λ. ΑΡΙΔΑΙΑΣ | D10: 2013 | E10: ΠΑΓΚΟΡΑΣΙΔΕΣ Γ | F10: 8 | G10: 40 | J10: 8 | K10: 40
J11: 9 | K11: 37
J12: 10 | K12: 34
B13: ΠΑΜΠΑΙΔΕΣ Γ | C13: Σύλλογος | D13: ετος γεν. | E13: Κατηγορία | F13: Θέση | G13: Βαθμοί | J13: 11 | K13: 31
A14: 1 | B14: ΜΙΧΑΗΛΙΔΗΣ ΝΙΚΟΛΑΟΣ | C14: Ε.Ο.Σ. ΒΟΛΟΥ | D14: 2012 | E14: ΠΑΜΠΑΙΔΕΣ Γ | F14: 1 | G14: 100 | J14: 12 | K14: 28
A15: 2 | B15: ΣΠΥΡΟΥ ΙΑΣΩΝΑΣ | C15: Ε.Ο.Σ. ΒΟΛΟΥ | D15: 2012 | E15: ΠΑΜΠΑΙΔΕΣ Γ | F15: 2 | G15: 80 | J15: 13 | K15: 26
A16: 3 | B16: ΜΑΥΡΟΥΔΗΣ ΝΙΚΟΛΑΟΣ | C16: Ε.Ο.Σ. ΑΧΑΡΝΩΝ | D16: 2012 | E16: ΠΑΜΠΑΙΔΕΣ Γ | F16: 3 | G16: 65 | J16: 14 | K16: 24
A17: 4 | B17: ΤΣΙΡΕΛΗΣ ΑΘΑΝΑΣΙΟΣ | C17: Ο.Σ. ΑΙΓΙΝΙΟΥ | D17: 2013 | E17: ΠΑΜΠΑΙΔΕΣ Γ | F17: 4 | G17: 55 | J17: 15 | K17: 22
A18: 5 | B18: ΓΕΩΡΓΑΤΟΣ ΚΩΝΣΤΑΝΤΙΝΟΣ | C18: Ε.Π.Ο.Σ. ΦΥΛΗΣ | D18: 2012 | E18: ΠΑΜΠΑΙΔΕΣ Γ | F18: 5 | G18: 51 | J18: 16 | K18: 20
A19: 6 | B19: ΝΙΚΟΛΑΝΤΟΣ ΓΙΩΡΓΟΣ | C19: Ε.Ο.Σ. ΑΧΑΡΝΩΝ | D19: 2013 | E19: ΠΑΜΠΑΙΔΕΣ Γ | F19: 6 | G19: 47 | J19: 17 | K19: 18
A20: 7 | B20: ΣΙΑΞΑΜΠΑΝΗΣ ΣΕΡΑΦΕΙΜ | C20: Π.Ο.Σ. ΠΕΤΡΟΥΠΟΛΗΣ | D20: 2012 | E20: ΠΑΜΠΑΙΔΕΣ Γ | F20: 7 | G20: 43 | J20: 18 | K20: 16
A21: 8 | B21: ΚΟΠΑΝΟΣ ΠΑΝΑΓΙΩΤΗΣ | C21: Ε.Ο.Σ. ΒΟΛΟΥ | D21: 2013 | E21: ΠΑΜΠΑΙΔΕΣ Γ | F21: 8 | G21: 40 | J21: 19 | K21: 14
J22: 20 | K22: 12
B23: ΠΑΓΚΟΡΑΣΙΔΕΣ Β | C23: Σύλλογος | D23: ετος γεν. | E23: Κατηγορία | F23: θεση | G23: βαθμοί | J23: 21 | K23: 10
A24: 1 | B24: ΜΙΧΑΗΛΙΔΟΥ ΑΓΓΕΛΙΚΗ | C24: Ε.Ο.Σ. ΑΧΑΡΝΩΝ | D24: 2010 | E24: ΠΑΓΚΟΡΑΣΙΔΕΣ Β | F24: 1 | G24: 100 | J24: 22 | K24: 9
A25: 2 | B25: ΝΕΟΥ ΣΤΕΛΛΑ | C25: Ε.Ο.Σ. ΒΟΛΟΥ | D25: 2011 | E25: ΠΑΓΚΟΡΑΣΙΔΕΣ Β | F25: 2 | G25: 80 | J25: 23 | K25: 8
A26: 3 | B26: ΠΑΠΑΤΡΙΑΝΤΑΦΥΛΛΟΥ ΦΑΝΗ | C26: Ο.Σ. ΑΙΓΙΝΙΟΥ | D26: 2010 | E26: ΠΑΓΚΟΡΑΣΙΔΕΣ Β | F26: 3 | G26: 65 | J26: 24 | K26: 7
A27: 4 | B27: ΠΕΡΔΙΚΑΡΗ ΙΡΙΔΑ | C27: Ε.Ο.Σ. ΑΧΑΡΝΩΝ | D27: 2011 | E27: ΠΑΓΚΟΡΑΣΙΔΕΣ Β | F27: 4 | G27: 55 | J27: 25 | K27: 6
A28: 5 | B28: ΚΟΠΑΝΟΥ ΕΥΓΕΝΙΑ | C28: Ε.Ο.Σ. ΒΟΛΟΥ | D28: 2011 | E28: ΠΑΓΚΟΡΑΣΙΔΕΣ Β | F28: 5 | G28: 51 | J28: 26 | K28: 5
A29: 6 | B29: ΜΠΑΜΠΑΤΖΙΚΟΥ ΙΩΑΝΝΑ | C29: Ο.Α.Λ. ΘΕΣΣΑΛΟΝΙΚΗΣ | D29: 2011 | E29: ΠΑΓΚΟΡΑΣΙΔΕΣ Β | F29: 6 | G29: 47 | J29: 27 | K29: 4
A30: 7 | B30: ΓΕΡΟΒΑΣΙΛΗ ΟΛΓΑ | C30: Ε.Ο.Σ. ΒΟΛΟΥ | D30: 2011 | E30: ΠΑΓΚΟΡΑΣΙΔΕΣ Β | F30: 7 | G30: 43 | J30: 28 | K30: 3
A31: 8 | B31: ΛΥΤΙΝΑ ΣΩΤΗΡΙΑ | C31: Π.Ο.Σ. ΠΕΤΡΟΥΠΟΛΗΣ | D31: 2011 | E31: ΠΑΓΚΟΡΑΣΙΔΕΣ Β | F31: 8 | G31: 40 | J31: 29 | K31: 2
A32: 9 | B32: ΚΑΖΑΔΕΗ ΑΛΕΞΑΝΔΡΑ | C32: Π.Ο.Σ. ΠΕΤΡΟΥΠΟΛΗΣ | D32: 2011 | E32: ΠΑΓΚΟΡΑΣΙΔΕΣ Β | F32: 9 | G32: 37 | J32: 30 | K32: 1
A33: 10 | B33: ΜΑΓΓΙΤΣΗ ΜΑΡΙΑ | C33: Ε.Ο.Σ. ΒΟΛΟΥ | D33: 2011 | E33: ΠΑΓΚΟΡΑΣΙΔΕΣ Β | F33: 10 | G33: 34
A34: 11 | B34: ΝΙΚΟΛΑΝΤΟΥ ΑΙΚΑΤΕΡΙΝΗ | C34: Ε.Ο.Σ. ΑΧΑΡΝΩΝ | D34: 2011 | E34: ΠΑΓΚΟΡΑΣΙΔΕΣ Β | F34: 11 | G34: 31
A35: 12 | B35: ΚΟΥΤΡΕΤΣΗ ΚΛΕΙΩ | C35: Ε.Ο.Σ. ΑΘΗΝΩΝ | D35: 2010 | E35: ΠΑΓΚΟΡΑΣΙΔΕΣ Β | F35: 12 | G35: 28
A36: 13 | B36: ΜΑΡΚΟΠΟΥΛΟΥ ΧΡΙΣΤΙΝΑ | C36: Ο.Σ. ΣΙΑΤΙΣΤΑΣ | D36: 2010 | E36: ΠΑΓΚΟΡΑΣΙΔΕΣ Β | F36: 13 | G36: 26
A37: 14 | B37: ΑΘΑΝΑΣΑΚΗ ΜΑΡΙΑ-ΓΕΡΑΣΙΜΙΑ | C37: Π.Ο.Σ. ΠΕΤΡΟΥΠΟΛΗΣ | D37: 2011 | E37: ΠΑΓΚΟΡΑΣΙΔΕΣ Β | F37: 14 | G37: 24
B39: ΠΑΜΠΑΙΔΕΣ Β | C39: Σύλλογος | D39: ετος γεν. | E39: Κατηγορία | F39: Θέση | G39: Βαθμοί
A40: 1 | B40: ΑΠΟΣΤΟΛΟΠΟΥΛΟΣ ΙΩΑΝΝΗΣ | C40: Ο.Σ. ΑΙΓΙΝΙΟΥ | D40: 2010 | E40: ΠΑΜΠΑΙΔΕΣ Β | F40: 1 | G40: 100
A41: 2 | B41: ΒΑΚΟΝΔΙΟΣ ΜΑΡΚΟΣ | C41: Σ.Χ.Ο. ΚΑΒΑΛΑΣ | D41: 2010 | E41: ΠΑΜΠΑΙΔΕΣ Β | F41: 2 | G41: 80
A42: 3 | B42: ΣΠΑΝΟΣ ΝΙΚΟΛΑΟΣ | C42: Ο.Σ. ΑΙΓΙΝΙΟΥ | D42: 2010 | E42: ΠΑΜΠΑΙΔΕΣ Β | F42: 3 | G42: 65
A43: 4 | B43: ΜΠΟΤΣΚΑΡΗΣ ΓΕΩΡΓΙΟΣ | C43: Ο.Σ. ΣΙΑΤΙΣΤΑΣ | D43: 2010 | E43: ΠΑΜΠΑΙΔΕΣ Β | F43: 4 | G43: 55
A44: 5 | B44: ΖΟΥΛΟΥΜΗΣ ΑΝΑΣΤΑΣΙΟΣ | C44: Ο.Σ. ΑΙΓΙΝΙΟΥ | D44: 2010 | E44: ΠΑΜΠΑΙΔΕΣ Β | F44: 5 | G44: 51
A45: 6 | B45: ΔΗΜΟΥ ΑΛΕΞΑΝΔΡΟΣ | C45: Ε.Ο.Σ. ΑΧΑΡΝΩΝ | D45: 2011 | E45: ΠΑΜΠΑΙΔΕΣ Β | F45: 6 | G45: 47
A46: 7 | B46: ΜΙΧΑΗΛΙΔΗΣ ΓΕΩΡΓΙΟΣ | C46: Σ.Ο.Δ. ΚΑΣΤΟΡΙΑΣ | D46: 2011 | E46: ΠΑΜΠΑΙΔΕΣ Β | F46: 7 | G46: 43
A47: 8 | B47: ΤΣΑΦΗΣ ΙΩΑΝΝΗΣ | C47: Ο.Σ. ΣΙΑΤΙΣΤΑΣ | D47: 2010 | E47: ΠΑΜΠΑΙΔΕΣ Β | F47: 8 | G47: 40
A48: 9 | B48: ΤΖΙΑΦΑΣ ΒΑΣΙΛΕΙΟΣ | C48: Ε.Ο.Σ. ΑΛΜΥΡΟΥ | D48: 2011 | E48: ΠΑΜΠΑΙΔΕΣ Β | F48: 9 | G48: 37
A49: 10 | B49: ΕΥΑΓΓΕΛΟΥ ΕΜΜΑΝΟΥΗΛ | C49: Ε.Ο.Σ. ΒΟΛΟΥ | D49: 2010 | E49: ΠΑΜΠΑΙΔΕΣ Β | F49: 10 | G49: 34
B51: ΠΑΓΚΟΡΑΣΙΔΕΣ Α | C51: Σύλλογος | D51: ετος γεν. | E51: Κατηγορία | F51: θεση | G51: βαθμοί
A52: 1 | B52: ΠΑΠΑΔΗΜΗΤΡΙΟΥ ΜΑΡΚΕΛΛΑ | C52: Ο.Λ. ΑΡΙΔΑΙΑΣ | D52: 2009 | E52: ΠΑΓΚΟΡΑΣΙΔΕΣ Α | F52: 1 | G52: 100
A53: 2 | B53: ΚΩΤΣΟΥ ΒΑΣΙΛΙΚΗ | C53: Ο.Λ. ΑΡΙΔΑΙΑΣ | D53: 2009 | E53: ΠΑΓΚΟΡΑΣΙΔΕΣ Α | F53: 2 | G53: 80
A54: 3 | B54: ΠΕΡΔΙΚΑΡΗ ΛΥΔΙΑ-ΘΕΟΔΩΡΑ | C54: Ε.Ο.Σ. ΑΧΑΡΝΩΝ | D54: 2009 | E54: ΠΑΓΚΟΡΑΣΙΔΕΣ Α | F54: 3 | G54: 65
A55: 4 | B55: ΚΕΝΤΕΡΤΖΙΔΟΥ ΘΕΟΦΑΝΩ | C55: Ο.Λ. ΑΡΙΔΑΙΑΣ | D55: 2008 | E55: ΠΑΓΚΟΡΑΣΙΔΕΣ Α | F55: 4 | G55: 55
A56: 5 | B56: ΒΕΡΓΑ ΦΩΤΕΙΝΗ | C56: Ε.Ο.Σ. ΑΛΜΥΡΟΥ | D56: 2008 | E56: ΠΑΓΚΟΡΑΣΙΔΕΣ Α | F56: 5 | G56: 51
A57: 6 | B57: ΕΞΑΚΟΙΔΗ ΣΜΑΡΑΓΔΑ | C57: Ε.Ο.Σ. ΚΟΜΟΤΗΝΗΣ | D57: 2009 | E57: ΠΑΓΚΟΡΑΣΙΔΕΣ Α | F57: 6 | G57: 47
A58: 7 | B58: ΖΟΥΛΟΥΜΗ ΚΩΝΣΤΑΝΤΝΑ | C58: Ο.Σ. ΑΙΓΙΝΙΟΥ | D58: 2008 | E58: ΠΑΓΚΟΡΑΣΙΔΕΣ Α | F58: 7 | G58: 43
A59: 8 | B59: ΓΕΡΟΒΑΣΙΛΗ ΑΝΝΑ | C59: Ε.Ο.Σ. ΒΟΛΟΥ | D59: 2009 | E59: ΠΑΓΚΟΡΑΣΙΔΕΣ Α | F59: 8 | G59: 40
A60: 9 | B60: ΠΕΤΡΑΚΟΠΟΥΛΟΥ ΝΙΚΟΛΕΤΑ | C60: Ε.Ο.Σ. ΚΟΜΟΤΗΝΗΣ | D60: 2009 | E60: ΠΑΓΚΟΡΑΣΙΔΕΣ Α | F60: 9 | G60: 37
B62: ΠΑΜΠΑΙΔΕΣ A | C62: Σύλλογος | D62: ετος γεν. | E62: Κατηγορία | F62: Θέση | G62: Βαθμοί
A63: 1 | B63: ΑΘΑΝΑΣΑΚΗΣ ΕΜΜΑΝΟΥΗΛ | C63: Π.Ο.Σ. ΠΕΤΡΟΥΠΟΛΗΣ | D63: 2008 | E63: ΠΑΜΠΑΙΔΕΣ A | F63: 1 | G63: 100
A64: 2 | B64: ΠΑΠΑΔΗΜΗΤΡΙΟΥ ΕΥΑΓΓΕΛΟΣ | C64: Ε.Ο.Σ. ΑΘΗΝΩΝ | D64: 2008 | E64: ΠΑΜΠΑΙΔΕΣ A | F64: 2 | G64: 80
A65: 3 | B65: ΕΥΣΤΑΘΙΑΔΗΣ ΦΙΛΙΠΠΟΣ | C65: Ε.Ο.Σ. ΑΘΗΝΩΝ | D65: 2008 | E65: ΠΑΜΠΑΙΔΕΣ A | F65: 3 | G65: 65
A66: 4 | B66: ΠΑΠΑΛΕΞΗΣ ΓΕΩΡΓΙΟΣ | C66: Ε.Ο.Σ. ΑΘΗΝΩΝ | D66: 2008 | E66: ΠΑΜΠΑΙΔΕΣ A | F66: 4 | G66: 55
A67: 5 | B67: ΚΟΥΚΟΥΒΙΝΗΣ ΟΡΦΕΑΣ | C67: Π.Ο.Σ. ΠΕΤΡΟΥΠΟΛΗΣ | D67: 2008 | E67: ΠΑΜΠΑΙΔΕΣ A | F67: 5 | G67: 51
A68: 6 | B68: ΤΣΑΚΝΑΚΗΣ ΘΕΟΦΑΝΗΣ | C68: Ο.Σ. ΣΙΑΤΙΣΤΑΣ | D68: 2008 | E68: ΠΑΜΠΑΙΔΕΣ A | F68: 6 | G68: 47
A69: 7 | B69: ΤΖΩΝΟΣ ΑΝΑΣΤΑΣΙΟΣ | C69: Ο.Σ. ΣΙΑΤΙΣΤΑΣ | D69: 2008 | E69: ΠΑΜΠΑΙΔΕΣ A | F69: 7 | G69: 43
A70: 8 | B70: ΣΙΜΟΠΟΥΛΟΣ ΦΙΛΙΠΠΟΣ | C70: Ε.Ο.Σ. ΚΟΜΟΤΗΝΗΣ | D70: 2008 | E70: ΠΑΜΠΑΙΔΕΣ A | F70: 8 | G70: 40
B72: ΚΟΡΑΣΙΔΕΣ | C72: Σύλλογος | D72: ετος γεν. | E72: Κατηγορία | F72: θεση | G72: βαθμοί
A73: 1 | B73: ΣΠΑΝΟΥ ΕΥΤΥΧΙΑ | C73: Ο.Σ. ΑΙΓΙΝΙΟΥ | D73: 2006 | E73: ΚΟΡΑΣΙΔΕΣ | F73: 1 | G73: 100
A74: 2 | B74: ΜΑΓΚΙΟΡΟΥ ΕΡΜΙΟΝΗ | C74: Σ.Ε.Ο ΘΕΣΣΑΛΟΝΙΚΗΣ | D74: 2007 | E74: ΚΟΡΑΣΙΔΕΣ | F74: 2 | G74: 80
A75: 3 | B75: ΚΑΒΒΑΔΙΑ ΜΑΡΙΑ | C75: Ε.Ο.Σ. ΑΘΗΝΩΝ | D75: 2007 | E75: ΚΟΡΑΣΙΔΕΣ | F75: 3 | G75: 65
A76: 4 | B76: ΧΑΤΖΗΧΡΙΣΤΟΔΟΥΛΟΥ ΜΑΡΙΑ ΑΓΓΕΛΙΚΗ | C76: Ε.Ο.Σ. ΚΟΜΟΤΗΝΗΣ | D76: 2006 | E76: ΚΟΡΑΣΙΔΕΣ | F76: 4 | G76: 55
A77: 5 | B77: ΧΑΛΔΑΙΟΥ ΣΟΦΙΑ | C77: Ε.Ο.Σ. ΑΘΗΝΩΝ | D77: 2006 | E77: ΚΟΡΑΣΙΔΕΣ | F77: 5 | G77: 51
B79: ΠΑΙΔΕΣ | C79: Σύλλογος | D79: ετος γεν. | E79: Κατηγορία | F79: θεση | G79: βαθμοί
A80: 1 | B80: ΜΠΕΡΤΟΣ ΒΑΣΙΛΕΙΟΣ | C80: Ε.Ο.Σ. ΞΑΝΘΗΣ | D80: 2006 | E80: ΠΑΙΔΕΣ | F80: 1 | G80: 100
A81: 2 | B81: ΒΑΛΣΑΜΙΔΗΣ ΙΑΣΩΝΑΣ | C81: Ε.Ο.Σ. ΞΑΝΘΗΣ | D81: 2006 | E81: ΠΑΙΔΕΣ | F81: 2 | G81: 80
A82: 3 | B82: ΦΙΛΙΠΠΙΔΗΣ ΑΝΑΣΤΑΣΗΣ | C82: Ε.Ο.Σ. ΑΧΑΡΝΩΝ | D82: 2006 | E82: ΠΑΙΔΕΣ | F82: 3 | G82: 65
A83: 4 | B83: ΜΠΕΝΟΣ ΙΩΑΝΝΗΣ | C83: Ο.Σ. ΑΙΓΙΝΙΟΥ | D83: 2006 | E83: ΠΑΙΔΕΣ | F83: 4 | G83: 55
A84: 5 | B84: ΑΛΕΞΑΝΔΡΗΣ ΙΑΣΩΝ | C84: Ε.Ο.Σ. ΑΘΗΝΩΝ | D84: 2007 | E84: ΠΑΙΔΕΣ | F84: 5 | G84: 51
A85: 6 | B85: ΠΑΠΑΤΡΙΑΝΤΑΦΥΛΛΟΥ ΝΙΚΟΛΑΟΣ | C85: Ο.Σ. ΑΙΓΙΝΙΟΥ | D85: 2007 | E85: ΠΑΙΔΕΣ | F85: 6 | G85: 47
B87: ΝΕΑΝΙΔΕΣ | C87: Σύλλογος | D87: ετος γεν. | E87: Κατηγορία | F87: θεση | G87: βαθμοί
A88: 1 | B88: ΠΑΛΤΑΤΣΙΔΟΥ ΖΩΗ | C88: Ε.Ο.Σ. ΞΑΝΘΗΣ | D88: 2005 | E88: ΝΕΑΝΙΔΕΣ | F88: 1 | G88: 100
A89: 2 | B89: ΠΑΤΣΙΑ ΣΤΕΡΓΙΑΝΗ ΕΛΕΥΘΕΡΙΑ | C89: Ο.Σ. ΑΙΓΙΝΙΟΥ | D89: 2005 | E89: ΝΕΑΝΙΔΕΣ | F89: 2 | G89: 80
A90: 3 | B90: ΜΑΓΚΙΟΡΟΥ ΧΡΥΣΗ | C90: Σ.Ε.Ο ΘΕΣΣΑΛΟΝΙΚΗΣ | D90: 2005 | E90: ΝΕΑΝΙΔΕΣ | F90: 3 | G90: 65
B92: ΕΦΗΒΟΙ | C92: Σύλλογος | D92: ετος γεν. | E92: Κατηγορία | F92: θεση | G92: βαθμοί
A93: 1 | B93: ΟΡΦΑΝΟΣ ΓΕΩΡΓΙΟΣ | C93: Ε.Ο.Σ. ΑΧΑΡΝΩΝ | D93: 2005 | E93: ΕΦΗΒΟΙ | F93: 1 | G93: 100
A94: 2 | B94: ΠΑΚΟΣ ΗΡΑΚΛΗΣ | C94: Π.Ο.Σ. ΠΕΤΡΟΥΠΟΛΗΣ | D94: 2005 | E94: ΕΦΗΒΟΙ | F94: 2 | G94: 80
A95: 3 | B95: ΜΑΚΑΡΙΤΗΣ ΝΙΚΟΛΑΟΣ | C95: Π.Ο.Σ. ΠΕΤΡΟΥΠΟΛΗΣ | D95: 2004 | E95: ΕΦΗΒΟΙ | F95: 3 | G95: 65
B97: ΓΥΝΑΙΚΕΣ | C97: Σύλλογος | D97: ετος γεν. | E97: Κατηγορία | F97: θεση | G97: βαθμοί
A98: 1 | B98: ΛΙΟΥΝΗ ΑΘΑΝΑΣΙΑ | C98: Ο.Λ. ΑΡΙΔΑΙΑΣ | D98: 2001 | E98: ΓΥΝΑΙΚΕΣ | F98: 1 | G98: 100
A99: 2 | B99: ΠΕΤΑΛΙΔΟΥ ΜΥΡΤΩ | C99: Σ.Ε.Ο ΘΕΣΣΑΛΟΝΙΚΗΣ | D99: 1995 | E99: ΓΥΝΑΙΚΕΣ | F99: 2 | G99: 80
A100: 3 | B100: ΚΑΛΛΙΑ ΕΥΔΟΞΙΑ-ΑΙΚΑΤΕΡΙΝΗ | C100: Ε.Ο.Σ. ΧΑΛΚΙΔΑΣ | D100: 2001 | E100: ΓΥΝΑΙΚΕΣ | F100: 3 | G100: 65
A101: 4 | B101: ΒΑΛΣΑΜΙΔΗ ΔΑΝΑΗ | C101: Ε.Ο.Σ. ΞΑΝΘΗΣ | D101: 2001 | E101: ΓΥΝΑΙΚΕΣ | F101: 4 | G101: 55
A102: 5 | B102: ΓΕΩΡΓΙΟΥ ΜΑΡΙΑ | C102: Ε.Ο.Σ. ΠΑΤΡΑΣ | D102: 1990 | E102: ΓΥΝΑΙΚΕΣ | F102: 5 | G102: 51
A103: 6 | B103: ΚΑΤΕΡΗ ΑΛΕΞΑΝΔΡΑ | C103: Σ.Ε.Ο ΘΕΣΣΑΛΟΝΙΚΗΣ | D103: 1989 | E103: ΓΥΝΑΙΚΕΣ | F103: 6 | G103: 47
A104: 7 | B104: ΝΤΡΟΥΓΙΑ ΧΡΙΣΤΙΝΑ | C104: Ο.Λ. ΚΑΛΑΜΠΑΚΑΣ | D104: 1990 | E104: ΓΥΝΑΙΚΕΣ | F104: 7 | G104: 43
A105: 8 | B105: ΦΩΚΑ ΣΟΦΙΑ | C105: Σ.Ε.Ο ΘΕΣΣΑΛΟΝΙΚΗΣ | D105: 1990 | E105: ΓΥΝΑΙΚΕΣ | F105: 8 | G105: 40
A106: 9 | B106: ΡΟΖΑ ΑΡΙΣΤΕΑ-ΑΝΝΑ | C106: Π.Ο.Σ. ΠΕΤΡΟΥΠΟΛΗΣ | D106: 2001 | E106: ΓΥΝΑΙΚΕΣ | F106: 9 | G106: 37
B108: ΑΝΔΡΕΣ | C108: Σύλλογος | D108: ετος γεν. | E108: Κατηγορία | F108: θεση | G108: βαθμοί
A109: 1 | B109: ΘΕΟΧΑΡΟΠΟΥΛΟΣ ΘΕΟΦΑΝΗΣ-ΕΡΜΗΣ | C109: Ε.Ο.Σ. ΑΧΑΡΝΩΝ | D109: 2000 | E109: ΑΝΔΡΕΣ | F109: 1 | G109: 100
A110: 2 | B110: ΒΑΛΣΑΜΙΔΗΣ ΜΑΤΘΑΙΟΣ | C110: Ε.Ο.Σ. ΞΑΝΘΗΣ | D110: 1999 | E110: ΑΝΔΡΕΣ | F110: 2 | G110: 80
...

Sheet Β αγώνας δυσκ. Συλλογοι 
I1: Κατάταξη | J1: Συλλογος | K1: βαθμοί
A2: 1 | B2: Ε.Ο.Σ. ΑΧΑΡΝΩΝ | I2: 1 | J2: Ε.Ο.Σ. ΑΧΑΡΝΩΝ | K2: =G15 -> 830
A3: 1 | B3: ΚΑΡΑΓΕΩΡΓΟΠΟΥΛΟΥ ΜΑΡΛΕΝ | C3: Ε.Ο.Σ. ΑΧΑΡΝΩΝ | D3: 2013 | E3: ΠΑΓΚΟΡΑΣΙΔΕΣ Γ | F3: 1 | G3: 100 | I3: 2 | J3: Ο.Σ. ΑΙΓΙΝΙΟΥ | K3: =G28 -> 661
A4: 2 | B4: ΜΙΧΑΗΛΙΔΟΥ ΕΥΘΥΜΙΑ | C4: Ε.Ο.Σ. ΑΧΑΡΝΩΝ | D4: 2012 | E4: ΠΑΓΚΟΡΑΣΙΔΕΣ Γ | F4: 4 | G4: 55 | I4: 3 | J4: Π.Ο.Σ. ΠΕΤΡΟΥΠΟΛΗΣ | K4: =G41 -> 542
A5: 3 | B5: ΜΑΥΡΟΥΔΗΣ ΝΙΚΟΛΑΟΣ | C5: Ε.Ο.Σ. ΑΧΑΡΝΩΝ | D5: 2012 | E5: ΠΑΜΠΑΙΔΕΣ Γ | F5: 3 | G5: 65 | I5: 4 | J5: Ε.Ο.Σ. ΒΟΛΟΥ | K5: =G54 -> 511
A6: 4 | B6: ΝΙΚΟΛΑΝΤΟΣ ΓΙΩΡΓΟΣ | C6: Ε.Ο.Σ. ΑΧΑΡΝΩΝ | D6: 2013 | E6: ΠΑΜΠΑΙΔΕΣ Γ | F6: 6 | G6: 47 | I6: 5 | J6: Σ.Ε.Ο ΘΕΣΣΑΛΟΝΙΚΗΣ | K6: =G67 -> 468
A7: 5 | B7: ΜΙΧΑΗΛΙΔΟΥ ΑΓΓΕΛΙΚΗ | C7: Ε.Ο.Σ. ΑΧΑΡΝΩΝ | D7: 2010 | E7: ΠΑΓΚΟΡΑΣΙΔΕΣ Β | F7: 1 | G7: 100 | I7: 6 | J7: Ε.Ο.Σ. ΞΑΝΘΗΣ | K7: =G75 -> 415
A8: 6 | B8: ΠΕΡΔΙΚΑΡΗ ΙΡΙΔΑ | C8: Ε.Ο.Σ. ΑΧΑΡΝΩΝ | D8: 2011 | E8: ΠΑΓΚΟΡΑΣΙΔΕΣ Β | F8: 4 | G8: 55 | I8: 7 | J8: Ε.Ο.Σ. ΑΘΗΝΩΝ | K8: =G85 -> 395
A9: 7 | B9: ΝΙΚΟΛΑΝΤΟΥ ΑΙΚΑΤΕΡΙΝΗ | C9: Ε.Ο.Σ. ΑΧΑΡΝΩΝ | D9: 2011 | E9: ΠΑΓΚΟΡΑΣΙΔΕΣ Β | F9: 11 | G9: 31 | I9: 8 | J9: Ο.Λ. ΑΡΙΔΑΙΑΣ | K9: =G94 -> 375
A10: 8 | B10: ΔΗΜΟΥ ΑΛΕΞΑΝΔΡΟΣ | C10: Ε.Ο.Σ. ΑΧΑΡΝΩΝ | D10: 2011 | E10: ΠΑΜΠΑΙΔΕΣ Β | F10: 6 | G10: 47 | I10: 9 | J10: Ο.Σ. ΣΙΑΤΙΣΤΑΣ | K10: =G103 -> 262
A11: 9 | B11: ΠΕΡΔΙΚΑΡΗ ΛΥΔΙΑ-ΘΕΟΔΩΡΑ | C11: Ε.Ο.Σ. ΑΧΑΡΝΩΝ | D11: 2009 | E11: ΠΑΓΚΟΡΑΣΙΔΕΣ Α | F11: 3 | G11: 65 | I11: 10 | J11: Ε.Ο.Σ. ΚΟΜΟΤΗΝΗΣ | K11: =G110 -> 179
A12: 10 | B12: ΦΙΛΙΠΠΙΔΗΣ ΑΝΑΣΤΑΣΗΣ | C12: Ε.Ο.Σ. ΑΧΑΡΝΩΝ | D12: 2006 | E12: ΠΑΙΔΕΣ | F12: 3 | G12: 65 | I12: 11 | J12: Σ.Ο.Δ. ΚΑΣΤΟΡΙΑΣ | K12: =G116 -> 170
A13: 11 | B13: ΟΡΦΑΝΟΣ ΓΕΩΡΓΙΟΣ | C13: Ε.Ο.Σ. ΑΧΑΡΝΩΝ | D13: 2005 | E13: ΕΦΗΒΟΙ | F13: 1 | G13: 100 | I13: 12 | J13: Ε.Ο.Σ. ΧΑΛΚΙΔΑΣ | K13: =G121 -> 120
A14: 12 | B14: ΘΕΟΧΑΡΟΠΟΥΛΟΣ ΘΕΟΦΑΝΗΣ-ΕΡΜΗΣ | C14: Ε.Ο.Σ. ΑΧΑΡΝΩΝ | D14: 2000 | E14: ΑΝΔΡΕΣ | F14: 1 | G14: 100 | I14: 13 | J14: Ε.Π.Ο.Σ. ΦΥΛΗΣ | K14: =G126 -> 94
G15: =SUM(G3:G14) -> 830 | I15: 14 | J15: Ε.Ο.Σ. ΑΛΜΥΡΟΥ | K15: =G131 -> 88
I16: 15 | J16: Σ.Χ.Ο. ΚΑΒΑΛΑΣ | K16: =G135 -> 80
A17: 2 | B17: Ο.Σ. ΑΙΓΙΝΙΟΥ | I17: 16 | J17: Ε.Ο.Σ. ΠΑΤΡΑΣ | K17: =G139 -> 51
A18: 1 | B18: ΤΣΙΡΕΛΗΣ ΑΘΑΝΑΣΙΟΣ | C18: Ο.Σ. ΑΙΓΙΝΙΟΥ | D18: 2013 | E18: ΠΑΜΠΑΙΔΕΣ Γ | F18: 4 | G18: 55 | I18: 17 | J18: Ο.Α.Λ. ΘΕΣΣΑΛΟΝΙΚΗΣ | K18: =G147 -> 47
A19: 2 | B19: ΠΑΠΑΤΡΙΑΝΤΑΦΥΛΛΟΥ ΦΑΝΗ | C19: Ο.Σ. ΑΙΓΙΝΙΟΥ | D19: 2010 | E19: ΠΑΓΚΟΡΑΣΙΔΕΣ Β | F19: 3 | G19: 65 | I19: 18 | J19: Ε.Ο.Σ. ΘΕΣΣΑΛΟΝΙΚΗΣ | K19: =G147 -> 47
A20: 3 | B20: ΑΠΟΣΤΟΛΟΠΟΥΛΟΣ ΙΩΑΝΝΗΣ | C20: Ο.Σ. ΑΙΓΙΝΙΟΥ | D20: 2010 | E20: ΠΑΜΠΑΙΔΕΣ Β | F20: 1 | G20: 100 | I20: 19 | J20: Ο.Λ. ΚΑΛΑΜΠΑΚΑΣ | K20: =G151 -> 43
A21: 4 | B21: ΣΠΑΝΟΣ ΝΙΚΟΛΑΟΣ | C21: Ο.Σ. ΑΙΓΙΝΙΟΥ | D21: 2010 | E21: ΠΑΜΠΑΙΔΕΣ Β | F21: 3 | G21: 65
A22: 5 | B22: ΖΟΥΛΟΥΜΗΣ ΑΝΑΣΤΑΣΙΟΣ | C22: Ο.Σ. ΑΙΓΙΝΙΟΥ | D22: 2010 | E22: ΠΑΜΠΑΙΔΕΣ Β | F22: 5 | G22: 51
A23: 6 | B23: ΖΟΥΛΟΥΜΗ ΚΩΝΣΤΑΝΤΝΑ | C23: Ο.Σ. ΑΙΓΙΝΙΟΥ | D23: 2008 | E23: ΠΑΓΚΟΡΑΣΙΔΕΣ Α | F23: 7 | G23: 43
A24: 7 | B24: ΣΠΑΝΟΥ ΕΥΤΥΧΙΑ | C24: Ο.Σ. ΑΙΓΙΝΙΟΥ | D24: 2006 | E24: ΚΟΡΑΣΙΔΕΣ | F24: 1 | G24: 100
A25: 8 | B25: ΜΠΕΝΟΣ ΙΩΑΝΝΗΣ | C25: Ο.Σ. ΑΙΓΙΝΙΟΥ | D25: 2006 | E25: ΠΑΙΔΕΣ | F25: 4 | G25: 55
A26: 9 | B26: ΠΑΠΑΤΡΙΑΝΤΑΦΥΛΛΟΥ ΝΙΚΟΛΑΟΣ | C26: Ο.Σ. ΑΙΓΙΝΙΟΥ | D26: 2007 | E26: ΠΑΙΔΕΣ | F26: 6 | G26: 47
A27: 10 | B27: ΠΑΤΣΙΑ ΣΤΕΡΓΙΑΝΗ ΕΛΕΥΘΕΡΙΑ | C27: Ο.Σ. ΑΙΓΙΝΙΟΥ | D27: 2005 | E27: ΝΕΑΝΙΔΕΣ | F27: 2 | G27: 80
G28: =SUM(G18:G27) -> 661
A30: 4 | B30: Π.Ο.Σ. ΠΕΤΡΟΥΠΟΛΗΣ
A31: 1 | B31: ΚΩΒΑΙΟΥ ΣΟΦΙΑ | C31: Π.Ο.Σ. ΠΕΤΡΟΥΠΟΛΗΣ | D31: 2012 | E31: ΠΑΓΚΟΡΑΣΙΔΕΣ Γ | F31: 3 | G31: 65
A32: 2 | B32: ΣΙΑΞΑΜΠΑΝΗΣ ΣΕΡΑΦΕΙΜ | C32: Π.Ο.Σ. ΠΕΤΡΟΥΠΟΛΗΣ | D32: 2012 | E32: ΠΑΜΠΑΙΔΕΣ Γ | F32: 7 | G32: 43
A33: 3 | B33: ΛΥΤΙΝΑ ΣΩΤΗΡΙΑ | C33: Π.Ο.Σ. ΠΕΤΡΟΥΠΟΛΗΣ | D33: 2011 | E33: ΠΑΓΚΟΡΑΣΙΔΕΣ Β | F33: 8 | G33: 40
A34: 4 | B34: ΚΑΖΑΔΕΗ ΑΛΕΞΑΝΔΡΑ | C34: Π.Ο.Σ. ΠΕΤΡΟΥΠΟΛΗΣ | D34: 2011 | E34: ΠΑΓΚΟΡΑΣΙΔΕΣ Β | F34: 9 | G34: 37
A35: 5 | B35: ΑΘΑΝΑΣΑΚΗ ΜΑΡΙΑ-ΓΕΡΑΣΙΜΙΑ | C35: Π.Ο.Σ. ΠΕΤΡΟΥΠΟΛΗΣ | D35: 2011 | E35: ΠΑΓΚΟΡΑΣΙΔΕΣ Β | F35: 14 | G35: 24
A36: 6 | B36: ΑΘΑΝΑΣΑΚΗΣ ΕΜΜΑΝΟΥΗΛ | C36: Π.Ο.Σ. ΠΕΤΡΟΥΠΟΛΗΣ | D36: 2008 | E36: ΠΑΜΠΑΙΔΕΣ A | F36: 1 | G36: 100
A37: 7 | B37: ΚΟΥΚΟΥΒΙΝΗΣ ΟΡΦΕΑΣ | C37: Π.Ο.Σ. ΠΕΤΡΟΥΠΟΛΗΣ | D37: 2008 | E37: ΠΑΜΠΑΙΔΕΣ A | F37: 5 | G37: 51
A38: 8 | B38: ΠΑΚΟΣ ΗΡΑΚΛΗΣ | C38: Π.Ο.Σ. ΠΕΤΡΟΥΠΟΛΗΣ | D38: 2005 | E38: ΕΦΗΒΟΙ | F38: 2 | G38: 80
A39: 9 | B39: ΜΑΚΑΡΙΤΗΣ ΝΙΚΟΛΑΟΣ | C39: Π.Ο.Σ. ΠΕΤΡΟΥΠΟΛΗΣ | D39: 2004 | E39: ΕΦΗΒΟΙ | F39: 3 | G39: 65
A40: 10 | B40: ΡΟΖΑ ΑΡΙΣΤΕΑ-ΑΝΝΑ | C40: Π.Ο.Σ. ΠΕΤΡΟΥΠΟΛΗΣ | D40: 2001 | E40: ΓΥΝΑΙΚΕΣ | F40: 9 | G40: 37
G41: =SUM(G31:G40) -> 542
A43: 3 | B43: Ε.Ο.Σ. ΒΟΛΟΥ
A44: 1 | B44: ΔΗΜΗΤΣΙΑΝΟΥ ΝΕΦΕΛΗ | C44: Ε.Ο.Σ. ΒΟΛΟΥ | D44: 2012 | E44: ΠΑΓΚΟΡΑΣΙΔΕΣ Γ | F44: 7 | G44: 43
A45: 2 | B45: ΜΙΧΑΗΛΙΔΗΣ ΝΙΚΟΛΑΟΣ | C45: Ε.Ο.Σ. ΒΟΛΟΥ | D45: 2012 | E45: ΠΑΜΠΑΙΔΕΣ Γ | F45: 1 | G45: 100
A46: 3 | B46: ΣΠΥΡΟΥ ΙΑΣΩΝΑΣ | C46: Ε.Ο.Σ. ΒΟΛΟΥ | D46: 2012 | E46: ΠΑΜΠΑΙΔΕΣ Γ | F46: 2 | G46: 80
A47: 4 | B47: ΚΟΠΑΝΟΣ ΠΑΝΑΓΙΩΤΗΣ | C47: Ε.Ο.Σ. ΒΟΛΟΥ | D47: 2013 | E47: ΠΑΜΠΑΙΔΕΣ Γ | F47: 8 | G47: 40
A48: 5 | B48: ΝΕΟΥ ΣΤΕΛΛΑ | C48: Ε.Ο.Σ. ΒΟΛΟΥ | D48: 2011 | E48: ΠΑΓΚΟΡΑΣΙΔΕΣ Β | F48: 2 | G48: 80
A49: 6 | B49: ΚΟΠΑΝΟΥ ΕΥΓΕΝΙΑ | C49: Ε.Ο.Σ. ΒΟΛΟΥ | D49: 2011 | E49: ΠΑΓΚΟΡΑΣΙΔΕΣ Β | F49: 5 | G49: 51
A50: 7 | B50: ΓΕΡΟΒΑΣΙΛΗ ΟΛΓΑ | C50: Ε.Ο.Σ. ΒΟΛΟΥ | D50: 2011 | E50: ΠΑΓΚΟΡΑΣΙΔΕΣ Β | F50: 7 | G50: 43
A51: 8 | B51: ΜΑΓΓΙΤΣΗ ΜΑΡΙΑ | C51: Ε.Ο.Σ. ΒΟΛΟΥ | D51: 2011 | E51: ΠΑΓΚΟΡΑΣΙΔΕΣ Β | F51: 10 | H51: 34
A52: 9 | B52: ΕΥΑΓΓΕΛΟΥ ΕΜΜΑΝΟΥΗΛ | C52: Ε.Ο.Σ. ΒΟΛΟΥ | D52: 2010 | E52: ΠΑΜΠΑΙΔΕΣ Β | F52: 10 | G52: 34
A53: 10 | B53: ΓΕΡΟΒΑΣΙΛΗ ΑΝΝΑ | C53: Ε.Ο.Σ. ΒΟΛΟΥ | D53: 2009 | E53: ΠΑΓΚΟΡΑΣΙΔΕΣ Α | F53: 8 | G53: 40
G54: =SUM(G44:G53) -> 511
A57: 5 | B57: Σ.Ε.Ο ΘΕΣΣΑΛΟΝΙΚΗΣ
A58: 1 | B58: ΜΑΓΚΙΟΡΟΥ ΕΡΜΙΟΝΗ | C58: Σ.Ε.Ο ΘΕΣΣΑΛΟΝΙΚΗΣ | D58: 2007 | E58: ΚΟΡΑΣΙΔΕΣ | F58: 2 | G58: 80
A59: 2 | B59: ΜΑΓΚΙΟΡΟΥ ΧΡΥΣΗ | C59: Σ.Ε.Ο ΘΕΣΣΑΛΟΝΙΚΗΣ | D59: 2005 | E59: ΝΕΑΝΙΔΕΣ | F59: 3 | G59: 65
A60: 3 | B60: ΠΕΤΑΛΙΔΟΥ ΜΥΡΤΩ | C60: Σ.Ε.Ο ΘΕΣΣΑΛΟΝΙΚΗΣ | D60: 1995 | E60: ΓΥΝΑΙΚΕΣ | F60: 2 | G60: 80
A61: 4 | B61: ΚΑΤΕΡΗ ΑΛΕΞΑΝΔΡΑ | C61: Σ.Ε.Ο ΘΕΣΣΑΛΟΝΙΚΗΣ | D61: 1989 | E61: ΓΥΝΑΙΚΕΣ | F61: 6 | G61: 47
A62: 5 | B62: ΦΩΚΑ ΣΟΦΙΑ | C62: Σ.Ε.Ο ΘΕΣΣΑΛΟΝΙΚΗΣ | D62: 1990 | E62: ΓΥΝΑΙΚΕΣ | F62: 8 | G62: 40
A63: 6 | B63: ΤΣΙΑΟΥΣΗΣ ΟΡΦΕΑΣ | C63: Σ.Ε.Ο ΘΕΣΣΑΛΟΝΙΚΗΣ | D63: 1999 | E63: ΑΝΔΡΕΣ | F63: 3 | G63: 65
A64: 7 | B64: ΒΟΛΥΡΑΚΗΣ ΜΙΧΑΛΗΣ | C64: Σ.Ε.Ο ΘΕΣΣΑΛΟΝΙΚΗΣ | D64: 1999 | E64: ΑΝΔΡΕΣ | F64: 5 | G64: 51
A65: 8 | B65: ΠΑΛΛΑΣ ΓΙΩΡΓΟΣ | C65: Σ.Ε.Ο ΘΕΣΣΑΛΟΝΙΚΗΣ | D65: 1987 | E65: ΑΝΔΡΕΣ | F65: 8 | G65: 40
A66: 9 | B66: ΝΙΚΟΛΟΠΟΥΛΟΣ ΝΙΚΟΛΑΟΣ | C66: Σ.Ε.Ο ΘΕΣΣΑΛΟΝΙΚΗΣ | D66: 2000 | E66: ΑΝΔΡΕΣ | F66: 9 | H66: 37
G67: =SUM(G58:G66) -> 468 | H67: =SUM(H58:H66) -> 37
A69: 6 | B69: Ε.Ο.Σ. ΞΑΝΘΗΣ
A70: 1 | B70: ΜΠΕΡΤΟΣ ΒΑΣΙΛΕΙΟΣ | C70: Ε.Ο.Σ. ΞΑΝΘΗΣ | D70: 2006 | E70: ΠΑΙΔΕΣ | F70: 1 | G70: 100
A71: 2 | B71: ΒΑΛΣΑΜΙΔΗΣ ΙΑΣΩΝΑΣ | C71: Ε.Ο.Σ. ΞΑΝΘΗΣ | D71: 2006 | E71: ΠΑΙΔΕΣ | F71: 2 | G71: 80
A72: 3 | B72: ΠΑΛΤΑΤΣΙΔΟΥ ΖΩΗ | C72: Ε.Ο.Σ. ΞΑΝΘΗΣ | D72: 2005 | E72: ΝΕΑΝΙΔΕΣ | F72: 1 | G72: 100
A73: 4 | B73: ΒΑΛΣΑΜΙΔΗ ΔΑΝΑΗ | C73: Ε.Ο.Σ. ΞΑΝΘΗΣ | D73: 2001 | E73: ΓΥΝΑΙΚΕΣ | F73: 4 | G73: 55
A74: 5 | B74: ΒΑΛΣΑΜΙΔΗΣ ΜΑΤΘΑΙΟΣ | C74: Ε.Ο.Σ. ΞΑΝΘΗΣ | D74: 1999 | E74: ΑΝΔΡΕΣ | F74: 2 | G74: 80
G75: =SUM(G70:G74) -> 415
A77: 7 | B77: Ε.Ο.Σ. ΑΘΗΝΩΝ
A78: 1 | B78: ΚΟΥΤΡΕΤΣΗ ΚΛΕΙΩ | C78: Ε.Ο.Σ. ΑΘΗΝΩΝ | D78: 2010 | E78: ΠΑΓΚΟΡΑΣΙΔΕΣ Β | F78: 12 | G78: 28
A79: 2 | B79: ΠΑΠΑΔΗΜΗΤΡΙΟΥ ΕΥΑΓΓΕΛΟΣ | C79: Ε.Ο.Σ. ΑΘΗΝΩΝ | D79: 2008 | E79: ΠΑΜΠΑΙΔΕΣ A | F79: 2 | G79: 80
A80: 3 | B80: ΕΥΣΤΑΘΙΑΔΗΣ ΦΙΛΙΠΠΟΣ | C80: Ε.Ο.Σ. ΑΘΗΝΩΝ | D80: 2008 | E80: ΠΑΜΠΑΙΔΕΣ A | F80: 3 | G80: 65
A81: 4 | B81: ΠΑΠΑΛΕΞΗΣ ΓΕΩΡΓΙΟΣ | C81: Ε.Ο.Σ. ΑΘΗΝΩΝ | D81: 2008 | E81: ΠΑΜΠΑΙΔΕΣ A | F81: 4 | G81: 55
A82: 5 | B82: ΚΑΒΒΑΔΙΑ ΜΑΡΙΑ | C82: Ε.Ο.Σ. ΑΘΗΝΩΝ | D82: 2007 | E82: ΚΟΡΑΣΙΔΕΣ | F82: 3 | G82: 65
A83: 6 | B83: ΧΑΛΔΑΙΟΥ ΣΟΦΙΑ | C83: Ε.Ο.Σ. ΑΘΗΝΩΝ | D83: 2006 | E83: ΚΟΡΑΣΙΔΕΣ | F83: 5 | G83: 51
A84: 7 | B84: ΑΛΕΞΑΝΔΡΗΣ ΙΑΣΩΝ | C84: Ε.Ο.Σ. ΑΘΗΝΩΝ | D84: 2007 | E84: ΠΑΙΔΕΣ | F84: 5 | G84: 51
G85: =SUM(G78:G84) -> 395
A88: 8 | B88: Ο.Λ. ΑΡΙΔΑΙΑΣ
A89: 1 | B89: ΝΑΣΛΑ ΒΑΛΕΝΤΙΝΗ | C89: Ο.Λ. ΑΡΙΔΑΙΑΣ | D89: 2013 | E89: ΠΑΓΚΟΡΑΣΙΔΕΣ Γ | F89: 8 | G89: 40
A90: 2 | B90: ΠΑΠΑΔΗΜΗΤΡΙΟΥ ΜΑΡΚΕΛΛΑ | C90: Ο.Λ. ΑΡΙΔΑΙΑΣ | D90: 2009 | E90: ΠΑΓΚΟΡΑΣΙΔΕΣ Α | F90: 1 | G90: 100
A91: 3 | B91: ΚΩΤΣΟΥ ΒΑΣΙΛΙΚΗ | C91: Ο.Λ. ΑΡΙΔΑΙΑΣ | D91: 2009 | E91: ΠΑΓΚΟΡΑΣΙΔΕΣ Α | F91: 2 | G91: 80
A92: 4 | B92: ΚΕΝΤΕΡΤΖΙΔΟΥ ΘΕΟΦΑΝΩ | C92: Ο.Λ. ΑΡΙΔΑΙΑΣ | D92: 2008 | E92: ΠΑΓΚΟΡΑΣΙΔΕΣ Α | F92: 4 | G92: 55
A93: 5 | B93: ΛΙΟΥΝΗ ΑΘΑΝΑΣΙΑ | C93: Ο.Λ. ΑΡΙΔΑΙΑΣ | D93: 2001 | E93: ΓΥΝΑΙΚΕΣ | F93: 1 | G93: 100
G94: =SUM(G89:G93) -> 375
A96: 9 | B96: Ο.Σ. ΣΙΑΤΙΣΤΑΣ
A97: 1 | B97: ΤΣΑΦΗ ΑΛΕΞΑΝΔΡΑ | C97: Ο.Σ. ΣΙΑΤΙΣΤΑΣ | D97: 2012 | E97: ΠΑΓΚΟΡΑΣΙΔΕΣ Γ | F97: 5 | G97: 51
A98: 2 | B98: ΜΑΡΚΟΠΟΥΛΟΥ ΧΡΙΣΤΙΝΑ | C98: Ο.Σ. ΣΙΑΤΙΣΤΑΣ | D98: 2010 | E98: ΠΑΓΚΟΡΑΣΙΔΕΣ Β | F98: 13 | G98: 26
A99: 3 | B99: ΜΠΟΤΣΚΑΡΗΣ ΓΕΩΡΓΙΟΣ | C99: Ο.Σ. ΣΙΑΤΙΣΤΑΣ | D99: 2010 | E99: ΠΑΜΠΑΙΔΕΣ Β | F99: 4 | G99: 55
A100: 4 | B100: ΤΣΑΦΗΣ ΙΩΑΝΝΗΣ | C100: Ο.Σ. ΣΙΑΤΙΣΤΑΣ | D100: 2010 | E100: ΠΑΜΠΑΙΔΕΣ Β | F100: 8 | G100: 40
A101: 5 | B101: ΤΣΑΚΝΑΚΗΣ ΘΕΟΦΑΝΗΣ | C101: Ο.Σ. ΣΙΑΤΙΣΤΑΣ | D101: 2008 | E101: ΠΑΜΠΑΙΔΕΣ A | F101: 6 | G101: 47
A102: 6 | B102: ΤΖΩΝΟΣ ΑΝΑΣΤΑΣΙΟΣ | C102: Ο.Σ. ΣΙΑΤΙΣΤΑΣ | D102: 2008 | E102: ΠΑΜΠΑΙΔΕΣ A | F102: 7 | G102: 43
G103: =SUM(G97:G102) -> 262
A105: 10 | B105: Ε.Ο.Σ. ΚΟΜΟΤΗΝΗΣ
A106: 1 | B106: ΕΞΑΚΟΙΔΗ ΣΜΑΡΑΓΔΑ | C106: Ε.Ο.Σ. ΚΟΜΟΤΗΝΗΣ | D106: 2009 | E106: ΠΑΓΚΟΡΑΣΙΔΕΣ Α | F106: 6 | G106: 47
A107: 2 | B107: ΠΕΤΡΑΚΟΠΟΥΛΟΥ ΝΙΚΟΛΕΤΑ | C107: Ε.Ο.Σ. ΚΟΜΟΤΗΝΗΣ | D107: 2009 | E107: ΠΑΓΚΟΡΑΣΙΔΕΣ Α | F107: 9 | G107: 37
A108: 3 | B108: ΣΙΜΟΠΟΥΛΟΣ ΦΙΛΙΠΠΟΣ | C108: Ε.Ο.Σ. ΚΟΜΟΤΗΝΗΣ | D108: 2008 | E108: ΠΑΜΠΑΙΔΕΣ A | F108: 8 | G108: 40
A109: 4 | B109: ΧΑΤΖΗΧΡΙΣΤΟΔΟΥΛΟΥ ΜΑΡΙΑ ΑΓΓΕΛΙΚΗ | C109: Ε.Ο.Σ. ΚΟΜΟΤΗΝΗΣ | D109: 2006 | E109: ΚΟΡΑΣΙΔΕΣ | F109: 4 | G109: 55
G110: =SUM(G106:G109) -> 179
...

Sheet μεταλλια Β αγώνα δυσκ. 
B1: Δυσκολία Βόλος Β Αγώνας 23-24/10/21
B2: Σύλλογος | C2: Χρυσά | D2: Αργυρά | E2: Χαλκινα | F2: Σύνολο
A3: 1 | B3: Ε.Ο.Σ. ΑΧΑΡΝΩΝ | C3: 4 | E3: 3 | F3: =SUM(C3:E3) -> 7
A4: 2 | B4: Ε.Ο.Σ. ΞΑΝΘΗΣ | C4: 2 | D4: 2 | F4: =SUM(C4:E4) -> 4
A5: 3 | B5: Ο.Σ. ΑΙΓΙΝΙΟΥ | C5: 2 | D5: 1 | E5: 2 | F5: =SUM(C5:E5) -> 5
A6: 4 | B6: Ο.Λ. ΑΡΙΔΑΙΑΣ | C6: 2 | D6: 1 | F6: =SUM(C6:E6) -> 3
A7: 5 | B7: Ε.Ο.Σ. ΒΟΛΟΥ | C7: 1 | D7: 2 | F7: =SUM(C7:E7) -> 3
A8: 6 | B8: Π.Ο.Σ. ΠΕΤΡΟΥΠΟΛΗΣ | C8: 1 | D8: 1 | E8: 2 | F8: =SUM(C8:E8) -> 4
A9: 7 | B9: Σ.Ε.Ο ΘΕΣΣΑΛΟΝΙΚΗΣ | D9: 2 | E9: 2 | F9: =SUM(C9:E9) -> 4
A10: 8 | B10: Ε.Ο.Σ. ΑΘΗΝΩΝ | D10: 1 | E10: 2 | F10: =SUM(C10:E10) -> 3
A11: 11 | B11: Σ.Ο.Δ. ΚΑΣΤΟΡΙΑΣ | D11: 1 | F11: =SUM(C11:E11) -> 1
A12: 12 | B12: Σ.Χ.Ο. ΚΑΒΑΛΑΣ | D12: 1 | F12: =SUM(C12:E12) -> 1
A13: 15 | B13: Ε.Ο.Σ. ΧΑΛΚΙΔΑΣ | E13: 1 | F13: =SUM(C13:E13) -> 1
C14: =SUM(C3:C13) -> 12 | D14: =SUM(D3:D13) -> 12 | E14: =SUM(E3:E13) -> 12 | F14: =SUM(F3:F13) -> 36

Sheet Boulder ΟΑΚΑ
B1: ΠΑΓΚΟΡΑΣΙΔΕΣ Γ | E1: Θέση | F1: Βαθμοί | I1: Θέση | J1: Βαθμοί
A2: 1 | B2: ΜΙΧΑΗΛΙΔΟΥ ΕΥΘΥΜΙΑ | C2: Ε.Ο.Σ. ΑΧΑΡΝΩΝ | D2: ΠΑΓΚΟΡΑΣΙΔΕΣ Γ | E2: 1 | F2: 100 | I2: 1 | J2: 100
A3: 2 | B3: ΚΩΒΑΙΟΥ ΣΟΦΙΑ | C3: Π.Ο.Σ. ΠΕΤΡΟΥΠΟΛΗΣ | D3: ΠΑΓΚΟΡΑΣΙΔΕΣ Γ | E3: 2 | F3: 72.5 | I3: 2 | J3: 80
A4: 2 | B4: ΠΑΠΑΝΔΡΕΟΥ ΜΑΡΙΑΝΘΗ | C4: Σ.Ο.Δ. ΚΑΣΤΟΡΙΑΣ | D4: ΠΑΓΚΟΡΑΣΙΔΕΣ Γ | E4: 2 | F4: 72.5 | I4: 3 | J4: 65
A5: 4 | B5: ΚΑΡΑΓΕΩΡΓΟΠΟΥΛΟΥ ΜΑΡΛΕΝ | C5: Ε.Ο.Σ. ΑΧΑΡΝΩΝ | D5: ΠΑΓΚΟΡΑΣΙΔΕΣ Γ | E5: 4 | F5: 55 | I5: 4 | J5: 55
A6: 5 | B6: ΤΣΟΛΑΚΙΔΗ ΣΟΦΙΑ | C6: Ε.Π.Ο.Σ. ΦΥΛΗΣ | D6: ΠΑΓΚΟΡΑΣΙΔΕΣ Γ | E6: 5 | F6: 49 | I6: 5 | J6: 51
A7: 5 | B7: ΒΑΚΟΝΔΙΟΥ ΜΥΡΤΩ | C7: Σ.Χ.Ο. ΚΑΒΑΛΑΣ | D7: ΠΑΓΚΟΡΑΣΙΔΕΣ Γ | E7: 5 | F7: 49 | I7: 6 | J7: 47
I8: 7 | J8: 43
B9: ΠΑΝΠΑΙΔΕΣ Γ | C9: Σύλλογος | D9: Κατηγορία | E9: θεση | F9: βαθμοί | I9: 8 | J9: 40
A10: 1 | B10: ΜΙΧΑΗΛΙΔΗΣ ΝΙΚΟΛΑΟΣ | C10: Ε.Ο.Σ. ΒΟΛΟΥ | D10: ΠΑΝΠΑΙΔΕΣ Γ | E10: 1 | F10: 100 | I10: 9 | J10: 37
A11: 2 | B11: ΣΙΑΞΑΜΠΑΝΗΣ ΣΕΡΑΦΕΙΜ | C11: Π.Ο.Σ. ΠΕΤΡΟΥΠΟΛΗΣ | D11: ΠΑΝΠΑΙΔΕΣ Γ | E11: 2 | F11: 80 | I11: 10 | J11: 34
A12: 3 | B12: ΓΕΩΡΓΑΤΟΣ ΚΩΝΣΤΑΝΤΙΝΟΣ | C12: Ε.Π.Ο.Σ. ΦΥΛΗΣ | D12: ΠΑΝΠΑΙΔΕΣ Γ | E12: 3 | F12: 60 | I12: 11 | J12: 31
A13: 3 | B13: ΝΙΚΟΛΑΝΤΟΣ ΓΙΩΡΓΟΣ | C13: Ε.Ο.Σ. ΑΧΑΡΝΩΝ | D13: ΠΑΝΠΑΙΔΕΣ Γ | E13: 3 | F13: 60 | I13: 12 | J13: 28
A14: 5 | B14: ΜΑΥΡΟΥΔΗΣ ΝΙΚΟΛΑΟΣ | C14: Ε.Ο.Σ. ΑΧΑΡΝΩΝ | D14: ΠΑΝΠΑΙΔΕΣ Γ | E14: 5 | F14: 51 | I14: 13 | J14: 26
A15: 6 | B15: ΜΠΑΜΠΑΣΑΝΙΔΗΣ-ΠΑΝΑΣ ΑΡΗΣ | C15: Ε.Ο.Σ. ΑΧΑΡΝΩΝ | D15: ΠΑΝΠΑΙΔΕΣ Γ | E15: 6 | F15: 47 | I15: 14 | J15: 24
I16: 15 | J16: 22
I17: 16 | J17: 20
B18: ΠΑΝΚΟΡΑΣΙΔΕΣ Β | C18: Σύλλογος | D18: Κατηγορία | E18: θεση | F18: βαθμοί | I18: 17 | J18: 18
A19: 1 | B19: ΜΙΧΑΗΛΙΔΟΥ ΑΓΓΕΛΙΚΗ | C19: Ε.Ο.Σ. ΑΧΑΡΝΩΝ | D19: ΠΑΝΚΟΡΑΣΙΔΕΣ Β | E19: 1 | F19: 100 | I19: 18 | J19: 16
A20: 2 | B20: ΦΡΟΝΙΜΑΚΗ ΣΥΛΙΑ | C20: Ε.Π.Ο.Σ. ΦΥΛΗΣ | D20: ΠΑΝΚΟΡΑΣΙΔΕΣ Β | E20: 2 | F20: 80 | I20: 19 | J20: 14
A21: 3 | B21: ΓΕΡΟΒΑΣΙΛΗ ΟΛΓΑ | C21: Ε.Ο.Σ. ΒΟΛΟΥ | D21: ΠΑΝΚΟΡΑΣΙΔΕΣ Β | E21: 3 | F21: 65 | I21: 20 | J21: 12
A22: 4 | B22: ΚΟΥΡΕΜΕΝΟΥ ΙΟΛΗ | C22: Π.Ο. ΑΘΗΝΩΝ | D22: ΠΑΝΚΟΡΑΣΙΔΕΣ Β | E22: 4 | F22: 55 | I22: 21 | J22: 10
A23: 5 | B23: ΜΠΑΜΠΑΤΖΙΚΟΥ ΙΩΑΝΝΑ | C23: Ο.Α.Λ. ΘΕΣΣΑΛΟΝΙΚΗΣ | D23: ΠΑΝΚΟΡΑΣΙΔΕΣ Β | E23: 5 | F23: 51 | I23: 22 | J23: 9
A24: 6 | B24: ΚΑΒΒΑΔΙΑ ΕΙΡΗΝΗ-ΑΝΝΑ | C24: Ε.Ο.Σ. ΑΘΗΝΩΝ | D24: ΠΑΝΚΟΡΑΣΙΔΕΣ Β | E24: 6 | F24: 47 | I24: 23 | J24: 8
A25: 7 | B25: ΘΕΟΔΩΡΟΥ ΔΑΝΑΗ | C25: Ε.Ο.Σ. ΑΧΑΡΝΩΝ | D25: ΠΑΝΚΟΡΑΣΙΔΕΣ Β | E25: 7 | F25: 43 | I25: 24 | J25: 7
A26: 8 | B26: HONG XUJING | C26: Ε.Ο.Σ. ΑΘΗΝΩΝ | D26: ΠΑΝΚΟΡΑΣΙΔΕΣ Β | E26: 8 | F26: 40 | I26: 25 | J26: 6
A27: 9 | B27: ΝΕΟΥ ΣΤΕΛΛΑ | C27: Ε.Ο.Σ. ΒΟΛΟΥ | D27: ΠΑΝΚΟΡΑΣΙΔΕΣ Β | E27: 9 | F27: 37 | I27: 26 | J27: 5
A28: 10 | B28: ΚΑΖΑΔΕΗ ΑΛΕΞΑΝΔΡΑ | C28: Π.Ο.Σ. ΠΕΤΡΟΥΠΟΛΗΣ | D28: ΠΑΝΚΟΡΑΣΙΔΕΣ Β | E28: 10 | F28: 34 | I28: 27 | J28: 4
A29: 11 | B29: ΠΕΡΔΙΚΑΡΗ ΙΡΙΔΑ | C29: Ε.Ο.Σ. ΑΧΑΡΝΩΝ | D29: ΠΑΝΚΟΡΑΣΙΔΕΣ Β | E29: 11 | F29: 31 | I29: 28 | J29: 3
A30: 12 | B30: ΝΙΚΟΛΑΝΤΟΥ ΑΙΚΑΤΕΡΙΝΗ | C30: Ε.Ο.Σ. ΑΧΑΡΝΩΝ | D30: ΠΑΝΚΟΡΑΣΙΔΕΣ Β | E30: 12 | F30: 28 | I30: 29 | J30: 2
A31: 13 | B31: ΛΥΤΙΝΑ ΣΩΤΗΡΙΑ | C31: Π.Ο.Σ. ΠΕΤΡΟΥΠΟΛΗΣ | D31: ΠΑΝΚΟΡΑΣΙΔΕΣ Β | E31: 13 | F31: 26 | I31: 30 | J31: 1
A32: 14 | B32: ΠΑΠΑΤΡΙΑΝΤΑΦΥΛΛΟΥ ΦΑΝΗ | C32: Ο.Σ. ΑΙΓΙΝΙΟΥ | D32: ΠΑΝΚΟΡΑΣΙΔΕΣ Β | E32: 14 | F32: 24
A33: 15 | B33: ΒΑΓΕΝΑ ΑΙΚΑΤΕΡΙΝΗ | C33: Ε.Π.Ο.Σ. ΦΥΛΗΣ | D33: ΠΑΝΚΟΡΑΣΙΔΕΣ Β | E33: 15 | F33: 22
A34: 16 | B34: ΤΖΕΚΟΥ ΙΝΩ | C34: Ε.Ο.Σ. ΑΧΑΡΝΩΝ | D34: ΠΑΝΚΟΡΑΣΙΔΕΣ Β | E34: 16 | F34: 19
A35: 16 | B35: ΚΟΥΤΡΕΤΣΗ ΚΛΕΙΩ | C35: Ε.Ο.Σ. ΑΘΗΝΩΝ | D35: ΠΑΝΚΟΡΑΣΙΔΕΣ Β | E35: 16 | F35: 19
A36: 18 | B36: ΠΑΠΠΑ ΜΙΧΑΕΛΑ | C36: Ε.Ο.Σ. ΑΧΑΡΝΩΝ | D36: ΠΑΝΚΟΡΑΣΙΔΕΣ Β | E36: 18 | F36: 15
A37: 18 | B37: ΜΑΓΓΙΤΣΗ ΜΑΡΙΑ | C37: Ε.Ο.Σ. ΒΟΛΟΥ | D37: ΠΑΝΚΟΡΑΣΙΔΕΣ Β | E37: 18 | F37: 15
A38: 20 | B38: ΧΑΤΖΟΠΟΥΛΟΥ ΡΑΦΑΕΛΑ | C38: Π.Ο.Σ. ΠΕΤΡΟΥΠΟΛΗΣ | D38: ΠΑΝΚΟΡΑΣΙΔΕΣ Β | E38: 20 | F38: 9.75
A39: 20 | B39: ΑΡΤΙΝΟΥ ΝΑΤΑΛΙΑ | C39: Ε.Ο.Σ. ΑΧΑΡΝΩΝ | D39: ΠΑΝΚΟΡΑΣΙΔΕΣ Β | E39: 20 | F39: 9.75
A40: 20 | B40: ΑΘΑΝΑΣΑΚΗ ΜΑΡΙΑ-ΓΕΡΑΣΙΜΙΑ | C40: Π.Ο.Σ. ΠΕΤΡΟΥΠΟΛΗΣ | D40: ΠΑΝΚΟΡΑΣΙΔΕΣ Β | E40: 20 | F40: 9.75
A41: 20 | B41: ΠΕΦΑΝΗ ΑΡΤΕΜΙΣ | C41: Ε.Π.Ο.Σ. ΦΥΛΗΣ | D41: ΠΑΝΚΟΡΑΣΙΔΕΣ Β | E41: 20 | F41: 9.75
B43: ΠΑΝΠΑΙΔΕΣ Β | C43: Σύλλογος | D43: Κατηγορία | E43: θεση | F43: βαθμοί
A44: 1 | B44: ΠΑΠΑΝΔΡΕΟΥ ΝΙΚΟΛΑΟΣ | C44: Π.Ο. ΑΘΗΝΩΝ | D44: ΠΑΝΠΑΙΔΕΣ Β | E44: 1 | F44: 100
A45: 2 | B45: ΒΑΚΟΝΔΙΟΣ ΜΑΡΚΟΣ | C45: Σ.Χ.Ο. ΚΑΒΑΛΑΣ | D45: ΠΑΝΠΑΙΔΕΣ Β | E45: 2 | F45: 80
A46: 3 | B46: ΑΠΟΣΤΟΛΟΠΟΥΛΟΣ ΙΩΑΝΝΗΣ | C46: Ο.Σ. ΑΙΓΙΝΙΟΥ | D46: ΠΑΝΠΑΙΔΕΣ Β | E46: 3 | F46: 65
A47: 4 | B47: ΔΗΜΟΥ ΑΛΕΞΑΝΔΡΟΣ | C47: Ε.Ο.Σ. ΑΧΑΡΝΩΝ | D47: ΠΑΝΠΑΙΔΕΣ Β | E47: 4 | F47: 55
A48: 5 | B48: ΣΠΑΝΟΣ ΝΙΚΟΛΑΟΣ | C48: Ο.Σ. ΑΙΓΙΝΙΟΥ | D48: ΠΑΝΠΑΙΔΕΣ Β | E48: 5 | F48: 51
A49: 6 | B49: ΘΑΛΑΣΣΙΝΟΣ ΑΡΗΣ | C49: Π.Ο.Σ. ΠΕΤΡΟΥΠΟΛΗΣ | D49: ΠΑΝΠΑΙΔΕΣ Β | E49: 6 | F49: 45
A50: 6 | B50: ΤΖΙΑΦΑΣ ΒΑΣΙΛΕΙΟΣ | C50: Ε.Ο.Σ. ΑΛΜΥΡΟΥ | D50: ΠΑΝΠΑΙΔΕΣ Β | E50: 6 | F50: 45
B52: ΠΑΝΚΟΡΑΣΙΔΕΣ Α | C52: Σύλλογος | D52: Κατηγορία | E52: θεση | F52: βαθμοί
A53: 1 | B53: ΠΕΡΔΙΚΑΡΗ ΛΥΔΙΑ-ΘΕΟΔΩΡΑ | C53: Ε.Ο.Σ. ΑΧΑΡΝΩΝ | D53: ΠΑΝΚΟΡΑΣΙΔΕΣ Α | E53: 1 | F53: 100
A54: 2 | B54: ΓΕΡΟΒΑΣΙΛΗ ΑΝΝΑ | C54: Ε.Ο.Σ. ΒΟΛΟΥ | D54: ΠΑΝΚΟΡΑΣΙΔΕΣ Α | E54: 2 | F54: 80
A55: 3 | B55: ΒΕΡΓΑ ΦΩΤΕΙΝΗ | C55: Ε.Ο.Σ. ΑΛΜΥΡΟΥ | D55: ΠΑΝΚΟΡΑΣΙΔΕΣ Α | E55: 3 | F55: 65
B57: ΠΑΝΠΑΙΔΕΣ Α | C57: Σύλλογος | D57: Κατηγορία | E57: θεση | F57: βαθμοί
A58: 1 | B58: ΠΑΠΑΛΕΞΗΣ ΓΕΩΡΓΙΟΣ | C58: Ε.Ο.Σ. ΑΘΗΝΩΝ | D58: ΠΑΝΠΑΙΔΕΣ Α | E58: 1 | F58: 100
A59: 2 | B59: ΠΑΠΑΔΗΜΗΤΡΙΟΥ ΕΥΑΓΓΕΛΟΣ-ΦΙΛΙΠΠΟΣ | C59: Ε.Ο.Σ. ΑΘΗΝΩΝ | D59: ΠΑΝΠΑΙΔΕΣ Α | E59: 2 | F59: 80
A60: 3 | B60: ΕΥΣΤΑΘΙΑΔΗΣ ΦΙΛΙΠΠΟΣ | C60: Ε.Ο.Σ. ΑΘΗΝΩΝ | D60: ΠΑΝΠΑΙΔΕΣ Α | E60: 3 | F60: 65
A61: 4 | B61: ΑΘΑΝΑΣΑΚΗΣ ΕΜΜΑΝΟΥΗΛ | C61: Π.Ο.Σ. ΠΕΤΡΟΥΠΟΛΗΣ | D61: ΠΑΝΠΑΙΔΕΣ Α | E61: 4 | F61: 55
A62: 5 | B62: ΚΟΥΚΟΥΒΙΝΗΣ ΟΡΦΕΑΣ | C62: Π.Ο.Σ. ΠΕΤΡΟΥΠΟΛΗΣ | D62: ΠΑΝΠΑΙΔΕΣ Α | E62: 5 | F62: 51
A63: 6 | B63: ΜΟΣΑΛΟΣ ΜΑΤΘΑΙΟΣ | C63: Π.Ο.Σ. ΠΕΤΡΟΥΠΟΛΗΣ | D63: ΠΑΝΠΑΙΔΕΣ Α | E63: 6 | F63: 47
B65: ΚΟΡΑΣΙΔΕΣ | C65: Σύλλογος | D65: Κατηγορία | E65: θεση | F65: βαθμοί
A66: 1 | B66: ΣΠΑΝΟΥ ΕΥΤΥΧΙΑ | C66: Ο.Σ. ΑΙΓΙΝΙΟΥ | D66: ΚΟΡΑΣΙΔΕΣ | E66: 1 | F66: 100
A67: 2 | B67: ΚΟΡΚΑΡΗ ΑΓΓΕΛΙΚΗ | C67: Π.Ο. ΑΘΗΝΩΝ | D67: ΚΟΡΑΣΙΔΕΣ | E67: 2 | F67: 80
A68: 3 | B68: ΜΑΓΚΙΟΡΟΥ ΕΡΜΙΟΝΗ | C68: Σ.Ε.Ο ΘΕΣΣΑΛΟΝΙΚΗΣ | D68: ΚΟΡΑΣΙΔΕΣ | E68: 3 | F68: 65
A69: 4 | B69: ΚΑΒΒΑΔΙΑ ΜΑΡΙΑ | C69: Ε.Ο.Σ. ΑΘΗΝΩΝ | D69: ΚΟΡΑΣΙΔΕΣ | E69: 4 | F69: 55
A70: 5 | B70: ΠΑΠΑΝΔΡΕΟΥ ΔΑΝΑΗ | C70: Π.Ο. ΑΘΗΝΩΝ | D70: ΚΟΡΑΣΙΔΕΣ | E70: 5 | F70: 51
A71: 6 | B71: ΧΑΛΔΑΙΟΥ ΣΟΦΙΑ | C71: Ε.Ο.Σ. ΑΘΗΝΩΝ | D71: ΚΟΡΑΣΙΔΕΣ | E71: 6 | F71: 47
A72: 7 | B72: ΚΟΚΟΛΑΚΗ ΚΑΛΛΙΟΠΗ | C72: Ε.Π.Ο.Σ. ΦΥΛΗΣ | D72: ΚΟΡΑΣΙΔΕΣ | E72: 7 | F72: 43
A73: 8 | B73: ΖΙΟΥΒΑ ΑΡΤΕΜΙΣ | C73: Ε.Ο.Σ. ΑΘΗΝΩΝ | D73: ΚΟΡΑΣΙΔΕΣ | E73: 8 | F73: 38.5
A74: 8 | B74: ΠΑΠΑΝΑΤΣΙΟΥ ΗΛΕΚΤΡΑ | C74: Ε.Ο.Σ. ΑΛΜΥΡΟΥ | D74: ΚΟΡΑΣΙΔΕΣ | E74: 8 | F74: 38.5
B76: ΠΑΙΔΕΣ | C76: Σύλλογος | D76: Κατηγορία | E76: θεση | F76: βαθμοί
A77: 1 | B77: ΒΑΛΣΑΜΙΔΗΣ ΙΑΣΩΝΑΣ | C77: Ε.Ο.Σ. ΞΑΝΘΗΣ | D77: ΠΑΙΔΕΣ | E77: 1 | F77: 100
A78: 2 | B78: ΦΙΛΙΠΠΙΔΗΣ ΑΝΑΣΤΑΣΙΟΣ | C78: Ε.Ο.Σ. ΑΧΑΡΝΩΝ | D78: ΠΑΙΔΕΣ | E78: 2 | F78: 80
A79: 3 | B79: ΜΠΕΡΤΟΣ ΒΑΣΙΛΕΙΟΣ | C79: Ε.Ο.Σ. ΞΑΝΘΗΣ | D79: ΠΑΙΔΕΣ | E79: 3 | F79: 65
A80: 4 | B80: ΜΠΕΝΟΣ ΙΩΑΝΝΗΣ | C80: Ο.Σ. ΑΙΓΙΝΙΟΥ | D80: ΠΑΙΔΕΣ | E80: 4 | F80: 55
A81: 5 | B81: ΑΛΕΞΑΝΔΡΗΣ ΙΑΣΩΝ | C81: Ε.Ο.Σ. ΑΘΗΝΩΝ | D81: ΠΑΙΔΕΣ | E81: 5 | F81: 51
A82: 6 | B82: ΠΑΠΑΤΡΙΑΝΤΑΦΥΛΛΟΥ ΝΙΚΟΛΑΟΣ | C82: Ο.Σ. ΑΙΓΙΝΙΟΥ | D82: ΠΑΙΔΕΣ | E82: 6 | F82: 47
A83: 7 | B83: ΠΟΤΑΜΟΥΣΗΣ ΓΕΡΑΣΙΜΟΣ | C83: Ε.Ο.Σ. ΧΑΛΚΙΔΑΣ | D83: ΠΑΙΔΕΣ | E83: 7 | F83: 41.5
A84: 7 | B84: ΜΠΙΤΑΣ ΧΡΗΣΤΟΣ | C84: Π.Ο.Σ. ΠΕΤΡΟΥΠΟΛΗΣ | D84: ΠΑΙΔΕΣ | E84: 7 | F84: 41.5
A85: 9 | B85: ΧΑΤΖΗΣ ΟΡΦΕΑΣ | C85: Π.Ο.Σ. ΠΕΤΡΟΥΠΟΛΗΣ | D85: ΠΑΙΔΕΣ | E85: 9 | F85: 37
A86: 10 | B86: ΚΟΥΝΤΟΥΡΑΚΗΣ ΜΑΡΚΟΣ | C86: Ε.Ο.Σ. ΑΧΑΡΝΩΝ | D86: ΠΑΙΔΕΣ | E86: 10 | F86: 34
B89: ΕΦΗΒΟΙ | C89: Σύλλογος | D89: Κατηγορία | E89: θεση | F89: βαθμοί
A90: 1 | B90: ΛΑΥΡΕΝΤΑΚΗΣ ΦΙΛΙΠΠΟΣ | C90: Ε.Ο.Σ. ΧΑΛΚΙΔΑΣ | D90: ΕΦΗΒΟΙ | E90: 1 | F90: 100
A91: 2 | B91: ΠΑΚΟΣ ΗΡΑΚΛΗΣ | C91: Π.Ο.Σ. ΠΕΤΡΟΥΠΟΛΗΣ | D91: ΕΦΗΒΟΙ | E91: 2 | F91: 80
A92: 3 | B92: ΟΡΦΑΝΟΣ ΓΕΩΡΓΙΟΣ | C92: Ε.Ο.Σ. ΑΧΑΡΝΩΝ | D92: ΕΦΗΒΟΙ | E92: 3 | F92: 65
A93: 4 | B93: ΜΑΚΑΡΙΤΗΣ ΝΙΚΟΛΑΟΣ | C93: Π.Ο.Σ. ΠΕΤΡΟΥΠΟΛΗΣ | D93: ΕΦΗΒΟΙ | E93: 4 | F93: 53
A94: 4 | B94: ΜΩΡΑΙΤΗΣ ΓΙΩΡΓΟΣ-ΦΟΙΒΟΣ | C94: Ε.Ο.Σ. ΑΧΑΡΝΩΝ | D94: ΕΦΗΒΟΙ | E94: 4 | F94: 53
B96: ΝΕΟΙ ΑΝΔΡΕΣ | C96: Σύλλογος | D96: Κατηγορία | E96: θεση | F96: βαθμοί
A97: 1 | B97: ΣΙΔΕΡΗΣ ΚΩΝΣΤΑΝΤΙΝΟΣ | C97: Ε.Ο.Σ. ΑΘΗΝΩΝ | D97: ΝΕΟΙ ΑΝΔΡΕΣ | E97: 1 | F97: 100
A98: 2 | B98: ΚΟΔΡΟΣ ΙΩΑΝΝΗΣ | C98: Ε.Ο.Σ. ΑΘΗΝΩΝ | D98: ΝΕΟΙ ΑΝΔΡΕΣ | E98: 2 | F98: 72.5
A99: 2 | B99: ΚΥΡΙΑΖΗΣ ΕΥΘΥΜΗΣ | C99: Π.Ο.Σ. ΠΕΤΡΟΥΠΟΛΗΣ | D99: ΝΕΟΙ ΑΝΔΡΕΣ | E99: 2 | F99: 72.5
B101: ΓΥΝΑΙΚΕΣ | C101: Σύλλογος | D101: Κατηγορία | E101: θεση | F101: βαθμοί
A102: 1 | B102: ΚΑΛΛΙΑ ΕΥΔΟΞΙΑ-ΑΙΚΑΤΕΡΙΝΗ | C102: Ε.Ο.Σ. ΧΑΛΚΙΔΑΣ | D102: ΓΥΝΑΙΚΕΣ | E102: 1 | F102: 100
A103: 2 | B103: ΠΑΛΤΑΤΣΙΔΟΥ ΖΩΗ | C103: Ε.Ο.Σ. ΞΑΝΘΗΣ | D103: ΓΥΝΑΙΚΕΣ | E103: 2 | F103: 80
A104: 3 | B104: ΠΕΤΑΛΙΔΟΥ ΜΥΡΤΩ | C104: Σ.Ε.Ο ΘΕΣΣΑΛΟΝΙΚΗΣ | D104: ΓΥΝΑΙΚΕΣ | E104: 3 | F104: 65
A105: 4 | B105: ΒΑΛΣΑΜΙΔΗ ΔΑΝΑΗ | C105: Ε.Ο.Σ. ΞΑΝΘΗΣ | D105: ΓΥΝΑΙΚΕΣ | E105: 4 | F105: 55
A106: 5 | B106: ΕΥΑΓΓΕΛΟΠΟΥΛΟΥ ΑΝΑΣΤΑΣΙΑ | C106: Σ.Ε.Ο ΘΕΣΣΑΛΟΝΙΚΗΣ | D106: ΓΥΝΑΙΚΕΣ | E106: 5 | F106: 47
A107: 5 | B107: ΚΑΤΕΡΗ ΑΛΕΞΑΝΔΡΑ | C107: Σ.Ε.Ο ΘΕΣΣΑΛΟΝΙΚΗΣ | D107: ΓΥΝΑΙΚΕΣ | E107: 5 | F107: 47
A108: 5 | B108: ΝΤΡΟΥΓΙΑ ΧΡΙΣΤΙΝΑ | C108: Ο.Λ. ΚΑΛΑΜΠΑΚΑΣ | D108: ΓΥΝΑΙΚΕΣ | E108: 5 | F108: 47
A109: 8 | B109: ΦΩΚΑ ΣΟΦΙΑ | C109: Σ.Ε.Ο ΘΕΣΣΑΛΟΝΙΚΗΣ | D109: ΓΥΝΑΙΚΕΣ | E109: 8 | F109: 40
...

Sheet boulder ΟΑΚΑ Σύλλογοι
H1: Κατάταξη | I1: Συλλογος | J1: βαθμοί
A2: 1 | B2: Ε.Ο.Σ. ΑΧΑΡΝΩΝ | H2: 1 | I2: Ε.Ο.Σ. ΑΧΑΡΝΩΝ | J2: =F22 -> 927
A3: 1 | B3: ΜΙΧΑΗΛΙΔΟΥ ΕΥΘΥΜΙΑ | C3: Ε.Ο.Σ. ΑΧΑΡΝΩΝ | D3: ΠΑΓΚΟΡΑΣΙΔΕΣ Γ | E3: 1 | F3: 100 | H3: 2 | I3: Ε.Ο.Σ. ΑΘΗΝΩΝ | J3: =F39 -> 811
A4: 4 | B4: ΚΑΡΑΓΕΩΡΓΟΠΟΥΛΟΥ ΜΑΡΛΕΝ | C4: Ε.Ο.Σ. ΑΧΑΡΝΩΝ | D4: ΠΑΓΚΟΡΑΣΙΔΕΣ Γ | E4: 4 | F4: 55 | H4: 3 | I4: Π.Ο.Σ. ΠΕΤΡΟΥΠΟΛΗΣ | J4: =F58 -> 727.25
A5: 3 | B5: ΝΙΚΟΛΑΝΤΟΣ ΓΙΩΡΓΟΣ | C5: Ε.Ο.Σ. ΑΧΑΡΝΩΝ | D5: ΠΑΝΠΑΙΔΕΣ Γ | E5: 3 | F5: 60 | H5: 4 | I5: Ε.Ο.Σ. ΞΑΝΘΗΣ | J5: =F66 -> 400
A6: 5 | B6: ΜΑΥΡΟΥΔΗΣ ΝΙΚΟΛΑΟΣ | C6: Ε.Ο.Σ. ΑΧΑΡΝΩΝ | D6: ΠΑΝΠΑΙΔΕΣ Γ | E6: 5 | F6: 51 | H6: 5 | I6: Ε.Π.Ο.Σ. ΦΥΛΗΣ | J6: =F77 -> 342.75
A7: 6 | B7: ΜΠΑΜΠΑΣΑΝΙΔΗΣ-ΠΑΝΑΣ ΑΡΗΣ | C7: Ε.Ο.Σ. ΑΧΑΡΝΩΝ | D7: ΠΑΝΠΑΙΔΕΣ Γ | E7: 6 | F7: 47 | H7: 6 | I7: Ο.Σ. ΑΙΓΙΝΙΟΥ | J7: =F86 -> 342
A8: 1 | B8: ΜΙΧΑΗΛΙΔΟΥ ΑΓΓΕΛΙΚΗ | C8: Ε.Ο.Σ. ΑΧΑΡΝΩΝ | D8: ΠΑΝΚΟΡΑΣΙΔΕΣ Β | E8: 1 | F8: 100 | H8: 7 | I8: Σ.Ε.Ο ΘΕΣΣΑΛΟΝΙΚΗΣ | J8: =F99 -> 335
A9: 7 | B9: ΘΕΟΔΩΡΟΥ ΔΑΝΑΗ | C9: Ε.Ο.Σ. ΑΧΑΡΝΩΝ | D9: ΠΑΝΚΟΡΑΣΙΔΕΣ Β | E9: 7 | F9: 43 | H9: 8 | I9: Ε.Ο.Σ. ΧΑΛΚΙΔΑΣ | J9: =F107 -> 314
A10: 11 | B10: ΠΕΡΔΙΚΑΡΗ ΙΡΙΔΑ | C10: Ε.Ο.Σ. ΑΧΑΡΝΩΝ | D10: ΠΑΝΚΟΡΑΣΙΔΕΣ Β | E10: 11 | F10: 31 | H10: 9 | I10: Ε.Ο.Σ. ΒΟΛΟΥ | J10: =F115 -> 297
A11: 12 | B11: ΝΙΚΟΛΑΝΤΟΥ ΑΙΚΑΤΕΡΙΝΗ | C11: Ε.Ο.Σ. ΑΧΑΡΝΩΝ | D11: ΠΑΝΚΟΡΑΣΙΔΕΣ Β | E11: 12 | G11: 28 | H11: 10 | I11: Π.Ο. ΑΘΗΝΩΝ | J11: =F122 -> 286
A12: 16 | B12: ΤΖΕΚΟΥ ΙΝΩ | C12: Ε.Ο.Σ. ΑΧΑΡΝΩΝ | D12: ΠΑΝΚΟΡΑΣΙΔΕΣ Β | E12: 16 | G12: 19 | H12: 11 | I12: Ε.Ο.Σ. ΑΛΜΥΡΟΥ | J12: =F128 -> 148.5
A13: 18 | B13: ΠΑΠΠΑ ΜΙΧΑΕΛΑ | C13: Ε.Ο.Σ. ΑΧΑΡΝΩΝ | D13: ΠΑΝΚΟΡΑΣΙΔΕΣ Β | E13: 18 | G13: 15 | H13: 12 | I13: Σ.Χ.Ο. ΚΑΒΑΛΑΣ | J13: =F133 -> 129
A14: 20 | B14: ΑΡΤΙΝΟΥ ΝΑΤΑΛΙΑ | C14: Ε.Ο.Σ. ΑΧΑΡΝΩΝ | D14: ΠΑΝΚΟΡΑΣΙΔΕΣ Β | E14: 20 | G14: 9.75 | H14: 13 | I14: Ε.Ο.Σ. ΗΡΑΚΛΕΙΟΥ | J14: =F137 -> 80
A15: 4 | B15: ΔΗΜΟΥ ΑΛΕΞΑΝΔΡΟΣ | C15: Ε.Ο.Σ. ΑΧΑΡΝΩΝ | D15: ΠΑΝΠΑΙΔΕΣ Β | E15: 4 | F15: 55 | H15: 14 | I15: Σ.Ο.Δ. ΚΑΣΤΟΡΙΑΣ | J15: =F141 -> 72.5
A16: 1 | B16: ΠΕΡΔΙΚΑΡΗ ΛΥΔΙΑ-ΘΕΟΔΩΡΑ | C16: Ε.Ο.Σ. ΑΧΑΡΝΩΝ | D16: ΠΑΝΚΟΡΑΣΙΔΕΣ Α | E16: 1 | F16: 100 | H16: 15 | I16: Ε.Ο.Σ.ΘΕΣΣΑΛΟΝΙΚΗΣ | J16: =F145 -> 55
A17: 2 | B17: ΦΙΛΙΠΠΙΔΗΣ ΑΝΑΣΤΑΣΙΟΣ | C17: Ε.Ο.Σ. ΑΧΑΡΝΩΝ | D17: ΠΑΙΔΕΣ | E17: 2 | F17: 80 | H17: 16 | I17: Ο.Α.Λ. ΘΕΣΣΑΛΟΝΙΚΗΣ | J17: =F149 -> 51
A18: 10 | B18: ΚΟΥΝΤΟΥΡΑΚΗΣ ΜΑΡΚΟΣ | C18: Ε.Ο.Σ. ΑΧΑΡΝΩΝ | D18: ΠΑΙΔΕΣ | E18: 10 | F18: 34 | H18: 17 | I18: Ο.Λ. ΚΑΛΑΜΠΑΚΑΣ | J18: =F153 -> 47
A19: 3 | B19: ΟΡΦΑΝΟΣ ΓΕΩΡΓΙΟΣ | C19: Ε.Ο.Σ. ΑΧΑΡΝΩΝ | D19: ΕΦΗΒΟΙ | E19: 3 | F19: 65 | H19: 18 | I19: Ε.Ο.Σ. ΕΛΕΥΣΙΝΑΣ | J19: =F157 -> 34
A20: 4 | B20: ΜΩΡΑΙΤΗΣ ΓΙΩΡΓΟΣ-ΦΟΙΒΟΣ | C20: Ε.Ο.Σ. ΑΧΑΡΝΩΝ | D20: ΕΦΗΒΟΙ | E20: 4 | F20: 53
A21: 4 | B21: ΘΕΟΧΑΡΟΠΟΥΛΟΣ ΘΕΟΦΑΝΗΣ-ΕΡΜΗΣ | C21: Ε.Ο.Σ. ΑΧΑΡΝΩΝ | D21: ΑΝΔΡΕΣ | E21: 4 | F21: 53
F22: =SUM(F3:F21) -> 927
A24: 2 | B24: Ε.Ο.Σ. ΑΘΗΝΩΝ
A25: 6 | B25: ΚΑΒΒΑΔΙΑ ΕΙΡΗΝΗ-ΑΝΝΑ | C25: Ε.Ο.Σ. ΑΘΗΝΩΝ | D25: ΠΑΝΚΟΡΑΣΙΔΕΣ Β | E25: 6 | F25: 47
A26: 8 | B26: HONG XUJING | C26: Ε.Ο.Σ. ΑΘΗΝΩΝ | D26: ΠΑΝΚΟΡΑΣΙΔΕΣ Β | E26: 8 | F26: 40
A27: 16 | B27: ΚΟΥΤΡΕΤΣΗ ΚΛΕΙΩ | C27: Ε.Ο.Σ. ΑΘΗΝΩΝ | D27: ΠΑΝΚΟΡΑΣΙΔΕΣ Β | E27: 16 | F27: 19
A28: 1 | B28: ΠΑΠΑΛΕΞΗΣ ΓΕΩΡΓΙΟΣ | C28: Ε.Ο.Σ. ΑΘΗΝΩΝ | D28: ΠΑΝΠΑΙΔΕΣ Α | E28: 1 | F28: 100
A29: 2 | B29: ΠΑΠΑΔΗΜΗΤΡΙΟΥ ΕΥΑΓΓΕΛΟΣ-ΦΙΛΙΠΠΟΣ | C29: Ε.Ο.Σ. ΑΘΗΝΩΝ | D29: ΠΑΝΠΑΙΔΕΣ Α | E29: 2 | F29: 80
A30: 3 | B30: ΕΥΣΤΑΘΙΑΔΗΣ ΦΙΛΙΠΠΟΣ | C30: Ε.Ο.Σ. ΑΘΗΝΩΝ | D30: ΠΑΝΠΑΙΔΕΣ Α | E30: 3 | F30: 65
A31: 4 | B31: ΚΑΒΒΑΔΙΑ ΜΑΡΙΑ | C31: Ε.Ο.Σ. ΑΘΗΝΩΝ | D31: ΚΟΡΑΣΙΔΕΣ | E31: 4 | F31: 55
A32: 6 | B32: ΧΑΛΔΑΙΟΥ ΣΟΦΙΑ | C32: Ε.Ο.Σ. ΑΘΗΝΩΝ | D32: ΚΟΡΑΣΙΔΕΣ | E32: 6 | F32: 47
A33: 8 | B33: ΖΙΟΥΒΑ ΑΡΤΕΜΙΣ | C33: Ε.Ο.Σ. ΑΘΗΝΩΝ | D33: ΚΟΡΑΣΙΔΕΣ | E33: 8 | F33: 38.5
A34: 5 | B34: ΑΛΕΞΑΝΔΡΗΣ ΙΑΣΩΝ | C34: Ε.Ο.Σ. ΑΘΗΝΩΝ | D34: ΠΑΙΔΕΣ | E34: 5 | F34: 51
A35: 1 | B35: ΣΙΔΕΡΗΣ ΚΩΝΣΤΑΝΤΙΝΟΣ | C35: Ε.Ο.Σ. ΑΘΗΝΩΝ | D35: ΝΕΟΙ ΑΝΔΡΕΣ | E35: 1 | F35: 100
A36: 2 | B36: ΚΟΔΡΟΣ ΙΩΑΝΝΗΣ | C36: Ε.Ο.Σ. ΑΘΗΝΩΝ | D36: ΝΕΟΙ ΑΝΔΡΕΣ | E36: 2 | F36: 72.5
... A38: 11 | B38: ΛΑΜΠΡΙΔΗΣ ΝΤΑΝΙΕΛ ΣΒΑΝΤ | C38: Ε.Ο.Σ. ΑΘΗΝΩΝ | D38: ΑΝΔΡΕΣ | E38: 11 | F38: 31
F39: =SUM(F25:F38) -> 811
A41: 3 | B41: Π.Ο.Σ. ΠΕΤΡΟΥΠΟΛΗΣ
A42: 2 | B42: ΚΩΒΑΙΟΥ ΣΟΦΙΑ | C42: Π.Ο.Σ. ΠΕΤΡΟΥΠΟΛΗΣ | D42: ΠΑΓΚΟΡΑΣΙΔΕΣ Γ | E42: 2 | F42: 72.5
A43: 2 | B43: ΣΙΑΞΑΜΠΑΝΗΣ ΣΕΡΑΦΕΙΜ | C43: Π.Ο.Σ. ΠΕΤΡΟΥΠΟΛΗΣ | D43: ΠΑΝΠΑΙΔΕΣ Γ | E43: 2 | F43: 80
A44: 10 | B44: ΚΑΖΑΔΕΗ ΑΛΕΞΑΝΔΡΑ | C44: Π.Ο.Σ. ΠΕΤΡΟΥΠΟΛΗΣ | D44: ΠΑΝΚΟΡΑΣΙΔΕΣ Β | E44: 10 | F44: 34
A45: 13 | B45: ΛΥΤΙΝΑ ΣΩΤΗΡΙΑ | C45: Π.Ο.Σ. ΠΕΤΡΟΥΠΟΛΗΣ | D45: ΠΑΝΚΟΡΑΣΙΔΕΣ Β | E45: 13 | F45: 26
A46: 20 | B46: ΧΑΤΖΟΠΟΥΛΟΥ ΡΑΦΑΕΛΑ | C46: Π.Ο.Σ. ΠΕΤΡΟΥΠΟΛΗΣ | D46: ΠΑΝΚΟΡΑΣΙΔΕΣ Β | E46: 20 | F46: 9.75
A47: 20 | B47: ΑΘΑΝΑΣΑΚΗ ΜΑΡΙΑ-ΓΕΡΑΣΙΜΙΑ | C47: Π.Ο.Σ. ΠΕΤΡΟΥΠΟΛΗΣ | D47: ΠΑΝΚΟΡΑΣΙΔΕΣ Β | E47: 20 | G47: 9.75
A48: 6 | B48: ΘΑΛΑΣΣΙΝΟΣ ΑΡΗΣ | C48: Π.Ο.Σ. ΠΕΤΡΟΥΠΟΛΗΣ | D48: ΠΑΝΠΑΙΔΕΣ Β | E48: 6 | F48: 45
A49: 4 | B49: ΑΘΑΝΑΣΑΚΗΣ ΕΜΜΑΝΟΥΗΛ | C49: Π.Ο.Σ. ΠΕΤΡΟΥΠΟΛΗΣ | D49: ΠΑΝΠΑΙΔΕΣ Α | E49: 4 | F49: 55
A50: 5 | B50: ΚΟΥΚΟΥΒΙΝΗΣ ΟΡΦΕΑΣ | C50: Π.Ο.Σ. ΠΕΤΡΟΥΠΟΛΗΣ | D50: ΠΑΝΠΑΙΔΕΣ Α | E50: 5 | F50: 51
A51: 6 | B51: ΜΟΣΑΛΟΣ ΜΑΤΘΑΙΟΣ | C51: Π.Ο.Σ. ΠΕΤΡΟΥΠΟΛΗΣ | D51: ΠΑΝΠΑΙΔΕΣ Α | E51: 6 | F51: 47
A52: 7 | B52: ΜΠΙΤΑΣ ΧΡΗΣΤΟΣ | C52: Π.Ο.Σ. ΠΕΤΡΟΥΠΟΛΗΣ | D52: ΠΑΙΔΕΣ | E52: 7 | F52: 41.5
A53: 9 | B53: ΧΑΤΖΗΣ ΟΡΦΕΑΣ | C53: Π.Ο.Σ. ΠΕΤΡΟΥΠΟΛΗΣ | D53: ΠΑΙΔΕΣ | E53: 9 | F53: 37
A54: 2 | B54: ΠΑΚΟΣ ΗΡΑΚΛΗΣ | C54: Π.Ο.Σ. ΠΕΤΡΟΥΠΟΛΗΣ | D54: ΕΦΗΒΟΙ | E54: 2 | F54: 80
A55: 4 | B55: ΜΑΚΑΡΙΤΗΣ ΝΙΚΟΛΑΟΣ | C55: Π.Ο.Σ. ΠΕΤΡΟΥΠΟΛΗΣ | D55: ΕΦΗΒΟΙ | E55: 4 | F55: 53
A56: 2 | B56: ΚΥΡΙΑΖΗΣ ΕΥΘΥΜΗΣ | C56: Π.Ο.Σ. ΠΕΤΡΟΥΠΟΛΗΣ | D56: ΝΕΟΙ ΑΝΔΡΕΣ | E56: 2 | F56: 72.5
A57: 14 | B57: ΚΥΡΙΑΖΗΣ ΓΕΩΡΓΙΟΣ | C57: Π.Ο.Σ. ΠΕΤΡΟΥΠΟΛΗΣ | D57: ΑΝΔΡΕΣ | E57: 14 | F57: 23
F58: =SUM(F42:F57) -> 727.25
A60: 4 | B60: Ε.Ο.Σ. ΞΑΝΘΗΣ
A61: 1 | B61: ΒΑΛΣΑΜΙΔΗΣ ΙΑΣΩΝΑΣ | C61: Ε.Ο.Σ. ΞΑΝΘΗΣ | D61: ΠΑΙΔΕΣ | E61: 1 | F61: 100
A62: 3 | B62: ΜΠΕΡΤΟΣ ΒΑΣΙΛΕΙΟΣ | C62: Ε.Ο.Σ. ΞΑΝΘΗΣ | D62: ΠΑΙΔΕΣ | E62: 3 | F62: 65
A63: 2 | B63: ΠΑΛΤΑΤΣΙΔΟΥ ΖΩΗ | C63: Ε.Ο.Σ. ΞΑΝΘΗΣ | D63: ΓΥΝΑΙΚΕΣ | E63: 2 | F63: 80
A64: 4 | B64: ΒΑΛΣΑΜΙΔΗ ΔΑΝΑΗ | C64: Ε.Ο.Σ. ΞΑΝΘΗΣ | D64: ΓΥΝΑΙΚΕΣ | E64: 4 | F64: 55
A65: 1 | B65: ΒΑΛΣΑΜΙΔΗΣ ΜΑΤΘΑΙΟΣ | C65: Ε.Ο.Σ. ΞΑΝΘΗΣ | D65: ΑΝΔΡΕΣ | E65: 1 | F65: 100
F66: =SUM(F61:F65) -> 400
A68: 5 | B68: Ε.Π.Ο.Σ. ΦΥΛΗΣ
A69: 5 | B69: ΤΣΟΛΑΚΙΔΗ ΣΟΦΙΑ | C69: Ε.Π.Ο.Σ. ΦΥΛΗΣ | D69: ΠΑΓΚΟΡΑΣΙΔΕΣ Γ | E69: 5 | F69: 49
A70: 3 | B70: ΓΕΩΡΓΑΤΟΣ ΚΩΝΣΤΑΝΤΙΝΟΣ | C70: Ε.Π.Ο.Σ. ΦΥΛΗΣ | D70: ΠΑΝΠΑΙΔΕΣ Γ | E70: 3 | F70: 60
A71: 2 | B71: ΦΡΟΝΙΜΑΚΗ ΣΥΛΙΑ | C71: Ε.Π.Ο.Σ. ΦΥΛΗΣ | D71: ΠΑΝΚΟΡΑΣΙΔΕΣ Β | E71: 2 | F71: 80
A72: 15 | B72: ΒΑΓΕΝΑ ΑΙΚΑΤΕΡΙΝΗ | C72: Ε.Π.Ο.Σ. ΦΥΛΗΣ | D72: ΠΑΝΚΟΡΑΣΙΔΕΣ Β | E72: 15 | F72: 22
A73: 20 | B73: ΠΕΦΑΝΗ ΑΡΤΕΜΙΣ | C73: Ε.Π.Ο.Σ. ΦΥΛΗΣ | D73: ΠΑΝΚΟΡΑΣΙΔΕΣ Β | E73: 20 | F73: 9.75
A74: 7 | B74: ΚΟΚΟΛΑΚΗ ΚΑΛΛΙΟΠΗ | C74: Ε.Π.Ο.Σ. ΦΥΛΗΣ | D74: ΚΟΡΑΣΙΔΕΣ | E74: 7 | F74: 43
A75: 4 | B75: ΝΑΝΟΥΣΗΣ ΠΑΝΑΓΙΩΤΗΣ | C75: Ε.Π.Ο.Σ. ΦΥΛΗΣ | D75: ΑΝΔΡΕΣ | E75: 4 | F75: 53
A76: 13 | B76: ΓΚΟΥΤΖΑΜΑΝΗΣ ΠΑΝΑΓΙΩΤΗΣ | C76: Ε.Π.Ο.Σ. ΦΥΛΗΣ | D76: ΑΝΔΡΕΣ | E76: 13 | F76: 26
F77: =SUM(F69:F76) -> 342.75
A79: 6 | B79: Ο.Σ. ΑΙΓΙΝΙΟΥ
A80: 14 | B80: ΠΑΠΑΤΡΙΑΝΤΑΦΥΛΛΟΥ ΦΑΝΗ | C80: Ο.Σ. ΑΙΓΙΝΙΟΥ | D80: ΠΑΝΚΟΡΑΣΙΔΕΣ Β | E80: 14 | F80: 24
A81: 3 | B81: ΑΠΟΣΤΟΛΟΠΟΥΛΟΣ ΙΩΑΝΝΗΣ | C81: Ο.Σ. ΑΙΓΙΝΙΟΥ | D81: ΠΑΝΠΑΙΔΕΣ Β | E81: 3 | F81: 65
A82: 5 | B82: ΣΠΑΝΟΣ ΝΙΚΟΛΑΟΣ | C82: Ο.Σ. ΑΙΓΙΝΙΟΥ | D82: ΠΑΝΠΑΙΔΕΣ Β | E82: 5 | F82: 51
A83: 1 | B83: ΣΠΑΝΟΥ ΕΥΤΥΧΙΑ | C83: Ο.Σ. ΑΙΓΙΝΙΟΥ | D83: ΚΟΡΑΣΙΔΕΣ | E83: 1 | F83: 100
A84: 4 | B84: ΜΠΕΝΟΣ ΙΩΑΝΝΗΣ | C84: Ο.Σ. ΑΙΓΙΝΙΟΥ | D84: ΠΑΙΔΕΣ | E84: 4 | F84: 55
A85: 6 | B85: ΠΑΠΑΤΡΙΑΝΤΑΦΥΛΛΟΥ ΝΙΚΟΛΑΟΣ | C85: Ο.Σ. ΑΙΓΙΝΙΟΥ | D85: ΠΑΙΔΕΣ | E85: 6 | F85: 47
F86: =SUM(F80:F85) -> 342
A88: 7 | B88: Σ.Ε.Ο ΘΕΣΣΑΛΟΝΙΚΗΣ
A89: 3 | B89: ΜΑΓΚΙΟΡΟΥ ΕΡΜΙΟΝΗ | C89: Σ.Ε.Ο ΘΕΣΣΑΛΟΝΙΚΗΣ | D89: ΚΟΡΑΣΙΔΕΣ | E89: 3 | F89: 65
A90: 3 | B90: ΠΕΤΑΛΙΔΟΥ ΜΥΡΤΩ | C90: Σ.Ε.Ο ΘΕΣΣΑΛΟΝΙΚΗΣ | D90: ΓΥΝΑΙΚΕΣ | E90: 3 | F90: 65
A91: 5 | B91: ΕΥΑΓΓΕΛΟΠΟΥΛΟΥ ΑΝΑΣΤΑΣΙΑ | C91: Σ.Ε.Ο ΘΕΣΣΑΛΟΝΙΚΗΣ | D91: ΓΥΝΑΙΚΕΣ | E91: 5 | F91: 47
A92: 5 | B92: ΚΑΤΕΡΗ ΑΛΕΞΑΝΔΡΑ | C92: Σ.Ε.Ο ΘΕΣΣΑΛΟΝΙΚΗΣ | D92: ΓΥΝΑΙΚΕΣ | E92: 5 | F92: 47
A93: 8 | B93: ΦΩΚΑ ΣΟΦΙΑ | C93: Σ.Ε.Ο ΘΕΣΣΑΛΟΝΙΚΗΣ | D93: ΓΥΝΑΙΚΕΣ | E93: 8 | G93: 40
A94: 9 | B94: ΜΑΓΚΙΟΡΟΥ ΧΡΥΣΗ | C94: Σ.Ε.Ο ΘΕΣΣΑΛΟΝΙΚΗΣ | D94: ΓΥΝΑΙΚΕΣ | E94: 9 | G94: 35.5
A95: 7 | B95: ΒΟΛΥΡΑΚΗΣ ΜΙΧΑΛΗΣ | C95: Σ.Ε.Ο ΘΕΣΣΑΛΟΝΙΚΗΣ | D95: ΑΝΔΡΕΣ | E95: 7 | F95: 43
A96: 7 | B96: ΤΣΙΑΟΥΣΗΣ ΟΡΦΕΑΣ | C96: Σ.Ε.Ο ΘΕΣΣΑΛΟΝΙΚΗΣ | D96: ΑΝΔΡΕΣ | E96: 7 | F96: 40
A97: 12 | B97: ΝΙΚΟΛΟΠΟΥΛΟΣ ΝΙΚΟΛΑΟΣ | C97: Σ.Ε.Ο ΘΕΣΣΑΛΟΝΙΚΗΣ | D97: ΑΝΔΡΕΣ | E97: 12 | F97: 28
A98: 14 | B98: ΠΑΛΛΑΣ ΓΙΩΡΓΟΣ | C98: Σ.Ε.Ο ΘΕΣΣΑΛΟΝΙΚΗΣ | D98: ΑΝΔΡΕΣ | E98: 14 | G98: 23
F99: =SUM(F89:F98) -> 335
A101: 8 | B101: Ε.Ο.Σ. ΧΑΛΚΙΔΑΣ
A102: 7 | B102: ΠΟΤΑΜΟΥΣΗΣ ΓΕΡΑΣΙΜΟΣ | C102: Ε.Ο.Σ. ΧΑΛΚΙΔΑΣ | D102: ΠΑΙΔΕΣ | E102: 7 | F102: 41.5
A103: 1 | B103: ΛΑΥΡΕΝΤΑΚΗΣ ΦΙΛΙΠΠΟΣ | C103: Ε.Ο.Σ. ΧΑΛΚΙΔΑΣ | D103: ΕΦΗΒΟΙ | E103: 1 | F103: 100
A104: 1 | B104: ΚΑΛΛΙΑ ΕΥΔΟΞΙΑ-ΑΙΚΑΤΕΡΙΝΗ | C104: Ε.Ο.Σ. ΧΑΛΚΙΔΑΣ | D104: ΓΥΝΑΙΚΕΣ | E104: 1 | F104: 100
A105: 9 | B105: ΣΙΜΙΤΣΗ ΗΛΕΚΤΡΑ | C105: Ε.Ο.Σ. ΧΑΛΚΙΔΑΣ | D105: ΓΥΝΑΙΚΕΣ | E105: 9 | F105: 35.5
A106: 9 | B106: ΚΟΣΜΑΣ ΘΩΜΑΣ | C106: Ε.Ο.Σ. ΧΑΛΚΙΔΑΣ | D106: ΑΝΔΡΕΣ | E106: 9 | F106: 37
F107: =SUM(F102:F106) -> 314
A109: 9 | B109: Ε.Ο.Σ. ΒΟΛΟΥ
...

Sheet boulder ΟΑΚΑ μεταλλια
C1: 16-17/10/2021 ΟΑΚΑ Boulder Κύπελλο
B2: Κατάταξη | C2: Συλλογος | D2: Χρυσά | E2: Αργυρά | F2: Χαλκινα | G2: Σύνολο
B3: 1 | C3: Ε.Ο.Σ. ΑΧΑΡΝΩΝ | D3: 3 | E3: 1 | F3: 2 | G3: =SUM(D3:F3) -> 6
B4: 2 | C4: Ε.Ο.Σ. ΑΘΗΝΩΝ | D4: 2 | E4: 2 | F4: 2 | G4: =SUM(D4:F4) -> 6
B5: 3 | C5: Ε.Ο.Σ. ΞΑΝΘΗΣ | D5: 2 | E5: 1 | F5: 1 | G5: =SUM(D5:F5) -> 4
B6: 4 | C6: Ε.Ο.Σ. ΧΑΛΚΙΔΑΣ | D6: 2 | G6: =SUM(D6:F6) -> 2
B7: 5 | C7: Ε.Ο.Σ. ΒΟΛΟΥ | D7: 1 | E7: 1 | F7: 1 | G7: =SUM(D7:F7) -> 3
B8: 6 | C8: Π.Ο. ΑΘΗΝΩΝ | D8: 1 | E8: 1 | G8: =SUM(D8:F8) -> 2
B9: 7 | C9: Ο.Σ. ΑΙΓΙΝΙΟΥ | D9: 1 | F9: 1 | G9: =SUM(D9:F9) -> 2
B10: 8 | C10: Π.Ο.Σ. ΠΕΤΡΟΥΠΟΛΗΣ | E10: 4 | G10: =SUM(D10:F10) -> 4
B11: 9 | C11: Ε.Π.Ο.Σ. ΦΥΛΗΣ | E11: 1 | F11: 1 | G11: =SUM(D11:F11) -> 2
B12: 10 | C12: Σ.Χ.Ο. ΚΑΒΑΛΑΣ | E12: 1 | G12: =SUM(D12:F12) -> 1
B13: 11 | C13: Ε.Ο.Σ. ΗΡΑΚΛΕΙΟΥ | E13: 1 | G13: =SUM(D13:F13) -> 1
B14: 12 | C14: Σ.Ο.Δ. ΚΑΣΤΟΡΙΑΣ | E14: 1 | G14: =SUM(D14:F14) -> 1
B15: 13 | C15: Σ.Ε.Ο ΘΕΣΣΑΛΟΝΙΚΗΣ | F15: 2 | G15: =SUM(D15:F15) -> 2
B16: 14 | C16: Ε.Ο.Σ. ΑΛΜΥΡΟΥ | F16: 1 | G16: =SUM(D16:F16) -> 1

Sheet δυσκολία Κομοτηνή
B1: ΑΝΔΡΕΣ | C1: Σύλλογος | D1: ετος γεν. | E1: Κατηγορία | F1: θεση | G1: βαθμοί
A2: 1 | B2: ΒΑΛΣΑΜΙΔΗΣ ΜΑΤΘΑΙΟΣ | C2: Ε.Ο.Σ. ΞΑΝΘΗΣ | D2: 1999 | E2: ΑΝΔΡΕΣ | F2: 1 | G2: 100
A3: 2 | B3: ΤΣΙΑΟΥΣΗΣ ΟΡΦΕΑΣ | C3: Σ.Ε.Ο ΘΕΣΣΑΛΟΝΙΚΗΣ | D3: 2003 | E3: ΑΝΔΡΕΣ | F3: 2 | G3: 80
A4: 3 | B4: ΘΕΟΧΑΡΟΠΟΥΛΟΣ ΘΕΟΦΑΝΗΣ-ΕΡΜΗΣ | C4: Ε.Ο.Σ. ΑΧΑΡΝΩΝ | D4: 2000 | E4: ΑΝΔΡΕΣ | F4: 3 | G4: 65
A5: 4 | B5: ΒΟΛΥΡΑΚΗΣ ΜΙΧΑΗΛ | C5: Σ.Ε.Ο ΘΕΣΣΑΛΟΝΙΚΗΣ | D5: 2003 | E5: ΑΝΔΡΕΣ | F5: 4 | G5: 55
A6: 5 | B6: ΠΑΛΛΑΣ ΓΕΩΡΓΙΟΣ | C6: Σ.Ε.Ο ΘΕΣΣΑΛΟΝΙΚΗΣ | D6: 1987 | E6: ΑΝΔΡΕΣ | F6: 5 | G6: 51
A7: 6 | B7: ΑΝΤΩΝΙΑΔΗΣ ΚΙΜΩΝ-ΑΛΕΞΑΝΔΡΟΣ | C7: Λ.Ο.Χ. ΚΑΒΑΛΑΣ | D7: 2000 | E7: ΑΝΔΡΕΣ | F7: 6 | G7: 47
B9: ΓΥΝΑΙΚΕΣ | C9: Σύλλογος | D9: ετος γεν. | E9: Κατηγορία | F9: θεση | G9: βαθμοί
A10: 1 | B10: ΛΙΟΥΝΗ ΑΘΑΝΑΣΙΑ | C10: Ο.Λ. ΑΡΙΔΑΙΑΣ | D10: 2000 | E10: ΓΥΝΑΙΚΕΣ | F10: 1 | G10: 100
A11: 2 | B11: ΠΕΤΑΛΙΔΟΥ ΜΥΡΤΩ | C11: Σ.Ε.Ο ΘΕΣΣΑΛΟΝΙΚΗΣ | D11: 1995 | E11: ΓΥΝΑΙΚΕΣ | F11: 2 | G11: 80
A12: 3 | B12: ΒΑΛΣΑΜΙΔΗ ΔΑΝΑΗ | C12: Ε.Ο.Σ. ΞΑΝΘΗΣ | D12: 2003 | E12: ΓΥΝΑΙΚΕΣ | F12: 3 | G12: 65
A13: 4 | B13: ΚΑΤΕΡΗ ΑΛΕΞΑΝΔΡΑ | C13: Σ.Ε.Ο ΘΕΣΣΑΛΟΝΙΚΗΣ | D13: 1989 | E13: ΓΥΝΑΙΚΕΣ | F13: 4 | G13: 55
A14: 5 | B14: ΜΟΥΤΑΦΙΔΟΥ ΕΥΘΥΜΙΑ | C14: Ο.Λ. ΑΡΙΔΑΙΑΣ | D14: 2002 | E14: ΓΥΝΑΙΚΕΣ | F14: 5 | G14: 51
A15: 6 | B15: ΝΤΡΟΥΓΙΑ ΧΡΙΣΤΙΝΑ | C15: Ο.Λ. ΚΑΛΑΜΠΑΚΑΣ | D15: 1990 | E15: ΓΥΝΑΙΚΕΣ | F15: 6 | G15: 47
A16: 7 | B16: ΦΩΚΑ ΣΟΦΙΑ | C16: Σ.Ε.Ο ΘΕΣΣΑΛΟΝΙΚΗΣ | D16: 1990 | E16: ΓΥΝΑΙΚΕΣ | F16: 7 | G16: 43
B19: ΝΕΑΝΙΔΕΣ | C19: Σύλλογος | D19: ετος γεν. | E19: Κατηγορία | F19: θεση | G19: βαθμοί
A20: 1 | B20: ΠΑΛΤΑΤΣΙΔΟΥ ΖΩΗ | C20: Ε.Ο.Σ. ΞΑΝΘΗΣ | D20: 2005 | E20: ΝΕΑΝΙΔΕΣ | F20: 1 | G20: 100
A21: 2 | B21: ΜΑΓΚΙΟΡΟΥ ΧΡΥΣΗ | C21: Σ.Ε.Ο ΘΕΣΣΑΛΟΝΙΚΗΣ | D21: 2005 | E21: ΝΕΑΝΙΔΕΣ | F21: 2 | G21: 80
A22: 3 | B22: ΚΑΣΑΠΗ ΑΛΙΚΗ | C22: Ε.Ο.Σ. ΚΟΜΟΤΗΝΗΣ | D22: 2004 | E22: ΝΕΑΝΙΔΕΣ | F22: 3 | G22: 65
B24: ΠΑΙΔΕΣ | C24: Σύλλογος | D24: ετος γεν. | E24: Κατηγορία | F24: θεση | G24: βαθμοί
A25: 1 | B25: ΜΠΕΡΤΟΣ ΒΑΣΙΛΕΙΟΣ | C25: Ε.Ο.Σ. ΞΑΝΘΗΣ | D25: 2006 | E25: ΠΑΙΔΕΣ | F25: 1 | G25: 100
A26: 2 | B26: ΒΑΛΣΑΜΙΔΗΣ ΙΑΣΩΝΑΣ | C26: Ε.Ο.Σ. ΞΑΝΘΗΣ | D26: 2006 | E26: ΠΑΙΔΕΣ | F26: 2 | G26: 80
A27: 3 | B27: ΦΙΛΙΠΠΙΔΗΣ ΑΝΑΣΤΑΣΗΣ | C27: Ε.Ο.Σ. ΑΧΑΡΝΩΝ | D27: 2006 | E27: ΠΑΙΔΕΣ | F27: 3 | G27: 65
A28: 4 | B28: ΠΑΠΑΤΡΙΑΝΤΑΦΥΛΛΟΥ ΝΙΚΟΛΑΟΣ | C28: Ο.Σ. ΑΙΓΙΝΙΟΥ | D28: 2007 | E28: ΠΑΙΔΕΣ | F28: 4 | G28: 55
A29: 5 | B29: ΠΟΤΑΜΟΥΣΗΣ ΓΕΡΑΣΙΜΟΣ | C29: Ε.Ο.Σ. ΧΑΛΚΙΔΑΣ | D29: 2006 | E29: ΠΑΙΔΕΣ | F29: 5 | G29: 51
B31: ΚΟΡΑΣΙΔΕΣ | C31: Σύλλογος | D31: ετος γεν. | E31: Κατηγορία | F31: θεση | G31: βαθμοί
A32: 1 | B32: ΣΠΑΝΟΥ ΕΥΤΥΧΙΑ | C32: Ο.Σ. ΑΙΓΙΝΙΟΥ | D32: 2006 | E32: ΚΟΡΑΣΙΔΕΣ | F32: 1 | G32: 100
A33: 2 | B33: ΚΑΒΒΑΔΙΑ ΜΑΡΙΑ | C33: Ε.Ο.Σ. ΑΘΗΝΩΝ | D33: 2007 | E33: ΚΟΡΑΣΙΔΕΣ | F33: 2 | G33: 80
A34: 3 | B34: ΜΑΓΚΙΟΡΟΥ ΕΡΜΙΟΝΗ | C34: Σ.Ε.Ο ΘΕΣΣΑΛΟΝΙΚΗΣ | D34: 2007 | E34: ΚΟΡΑΣΙΔΕΣ | F34: 3 | G34: 65
A35: 4 | B35: ΠΑΠΑΝΑΤΣΙΟΥ ΗΛΕΚΤΡΑ | C35: Ε.Ο.Σ. ΑΛΜΥΡΟΥ | D35: 2007 | E35: ΚΟΡΑΣΙΔΕΣ | F35: 4 | G35: 55
A36: 5 | B36: ΚΑΜΠΑ ΑΙΚΑΤΕΡΙΝΗ | C36: Ε.Ο.Σ. ΚΟΜΟΤΗΝΗΣ | D36: 2006 | E36: ΚΟΡΑΣΙΔΕΣ | F36: 5 | G36: 51
A37: 6 | B37: ΧΑΤΖΗΧΡΙΣΤΟΔΟΥΛΟΥ ΜΑΡΙΑ- ΑΓΓΕΛΙΚΗ | C37: Ε.Ο.Σ. ΚΟΜΟΤΗΝΗΣ | D37: 2006 | E37: ΚΟΡΑΣΙΔΕΣ | F37: 6 | G37: 47
A38: 7 | B38: ΜΠΟΥΡΤΣΟΥ ΑΝΝΑ ΑΓΓΕΛΙΚΗ | C38: Ο.Σ. ΣΙΑΤΙΣΤΑΣ | D38: 2007 | E38: ΚΟΡΑΣΙΔΕΣ | F38: 7 | G38: 43
A39: 8 | B39: ΜΠΟΥΡΤΣΟΥ ΑΠΟΣΤΟΛΙΑ | C39: Ο.Σ. ΣΙΑΤΙΣΤΑΣ | D39: 2007 | E39: ΚΟΡΑΣΙΔΕΣ | F39: 8 | G39: 40
B41: ΠΑΝΠΑΙΔΕΣ Α | C41: Σύλλογος | D41: ετος γεν. | E41: Κατηγορία | F41: θεση | G41: βαθμοί
A42: 1 | B42: ΠΑΠΑΔΗΜΗΤΡΙΟΥ ΕΥΑΓΓΕΛΟΣ - ΦΙΛΙΠΠΟΣ | C42: Ε.Ο.Σ. ΑΘΗΝΩΝ | D42: 2008 | E42: ΠΑΝΠΑΙΔΕΣ Α | F42: 1 | G42: 100
A43: 2 | B43: ΑΘΑΝΑΣΑΚΗΣ ΕΜΜΑΝΟΥΗΛ | C43: Π.Ο.Σ. ΠΕΤΡΟΥΠΟΛΗΣ | D43: 2008 | E43: ΠΑΝΠΑΙΔΕΣ Α | F43: 2 | G43: 80
A44: 3 | B44: ΠΑΠΑΛΕΞΗΣ ΓΕΩΡΓΙΟΣ | C44: Ε.Ο.Σ. ΑΘΗΝΩΝ | D44: 2008 | E44: ΠΑΝΠΑΙΔΕΣ Α | F44: 3 | G44: 65
A45: 4 | B45: ΤΣΑΚΝΑΚΗΣ ΘΕΟΦΑΝΗΣ | C45: Ο.Σ. ΣΙΑΤΙΣΤΑΣ | D45: 2008 | E45: ΠΑΝΠΑΙΔΕΣ Α | F45: 4 | G45: 55
A46: 5 | B46: ΚΟΥΚΟΥΒΙΝΗΣ ΟΡΦΕΑΣ | C46: Π.Ο.Σ. ΠΕΤΡΟΥΠΟΛΗΣ | D46: 2008 | E46: ΠΑΝΠΑΙΔΕΣ Α | F46: 5 | G46: 51
A47: 6 | B47: ΤΖΩΝΟΣ ΑΝΑΣΤΑΣΙΟΣ | C47: Ο.Σ. ΣΙΑΤΙΣΤΑΣ | D47: 2008 | E47: ΠΑΝΠΑΙΔΕΣ Α | F47: 6 | G47: 47
A48: 7 | B48: ΣΙΜΟΠΟΥΛΟΣ ΦΙΛΙΠΠΟΣ | C48: Ε.Ο.Σ. ΚΟΜΟΤΗΝΗΣ | D48: 2008 | E48: ΠΑΝΠΑΙΔΕΣ Α | F48: 7 | G48: 43
A49: 8 | B49: ΑΚΡΙΤΙΔΗΣ ΘΕΟΔΩΡΟΣ | C49: Ε.Ο.Σ. ΞΑΝΘΗΣ | D49: 2009 | E49: ΠΑΝΠΑΙΔΕΣ Α | F49: 8 | G49: 40
B51: ΠΑΝΚΟΡΑΣΙΔΕΣ Α | C51: Σύλλογος | D51: ετος γεν. | E51: Κατηγορία | F51: θεση | G51: βαθμοί
A52: 1 | B52: ΠΑΠΑΔΗΜΗΤΡΙΟΥ ΜΑΡΚΕΛΛΑ | C52: Ο.Λ. ΑΡΙΔΑΙΑΣ | D52: 2009 | E52: ΠΑΝΚΟΡΑΣΙΔΕΣ Α | F52: 1 | G52: 100
A53: 2 | B53: ΣΥΡΟΠΟΥΛΟΥ ΟΛΓΑ | C53: Ο.Λ. ΑΡΙΔΑΙΑΣ | D53: 2009 | E53: ΠΑΝΚΟΡΑΣΙΔΕΣ Α | F53: 2 | G53: 80
A54: 3 | B54: ΚΕΝΤΕΡΤΖΙΔΟΥ ΘΕΟΦΑΝΙΑ | C54: Ο.Λ. ΑΡΙΔΑΙΑΣ | D54: 2008 | E54: ΠΑΝΚΟΡΑΣΙΔΕΣ Α | F54: 3 | G54: 65
A55: 4 | B55: ΠΕΡΔΙΚΑΡΗ ΛΥΔΙΑ-ΘΕΟΔΩΡΑ | C55: Ε.Ο.Σ. ΑΧΑΡΝΩΝ | D55: 2009 | E55: ΠΑΝΚΟΡΑΣΙΔΕΣ Α | F55: 4 | G55: 55
A56: 5 | B56: ΣΥΡΟΠΟΥΛΟΥ ΕΛΕΝΗ | C56: Ο.Λ. ΑΡΙΔΑΙΑΣ | D56: 2009 | E56: ΠΑΝΚΟΡΑΣΙΔΕΣ Α | F56: 5 | G56: 51
A57: 6 | B57: ΓΕΡΟΒΑΣΙΛΗ ΑΝΝΑ | C57: Ε.Ο.Σ. ΒΟΛΟΥ | D57: 2009 | E57: ΠΑΝΚΟΡΑΣΙΔΕΣ Α | F57: 6 | G57: 47
A58: 7 | B58: ΚΩΤΣΟΥ ΒΑΣΙΛΙΚΗ | C58: Ο.Λ. ΑΡΙΔΑΙΑΣ | D58: 2009 | E58: ΠΑΝΚΟΡΑΣΙΔΕΣ Α | F58: 7 | G58: 43
A59: 8 | B59: ΕΞΑΚΟΙΔΗ ΣΜΑΡΑΓΔΑ | C59: Ε.Ο.Σ. ΚΟΜΟΤΗΝΗΣ | D59: 2009 | E59: ΠΑΝΚΟΡΑΣΙΔΕΣ Α | F59: 8 | G59: 40
A60: 9 | B60: ΠΕΤΡΑΚΟΠΟΥΛΟΥ ΝΙΚΟΛΕΤΑ | C60: Ε.Ο.Σ. ΚΟΜΟΤΗΝΗΣ | D60: 2009 | E60: ΠΑΝΚΟΡΑΣΙΔΕΣ Α | F60: 9 | G60: 37
A61: 10 | B61: ΚΑΣΑΠΗ ΜΑΡΙΑ | C61: Ε.Ο.Σ. ΚΟΜΟΤΗΝΗΣ | D61: 2008 | E61: ΠΑΝΚΟΡΑΣΙΔΕΣ Α | F61: 10 | G61: 34
B63: ΠΑΝΠΑΙΔΕΣ Β | C63: Σύλλογος | D63: ετος γεν. | E63: Κατηγορία | F63: θεση | G63: βαθμοί
A64: 1 | B64: ΒΑΚΟΝΔΙΟΣ ΜΑΡΚΟΣ | C64: Σ.Χ.Ο. ΚΑΒΑΛΑΣ | D64: 2010 | E64: ΠΑΝΠΑΙΔΕΣ Β | F64: 1 | G64: 100
A65: 1 | B65: ΑΠΟΣΤΟΛΟΠΟΥΛΟΣ ΙΩΑΝΝΗΣ | C65: Ο.Σ. ΑΙΓΙΝΙΟΥ | D65: 2010 | E65: ΠΑΝΠΑΙΔΕΣ Β | F65: 2 | G65: 80
A66: 3 | B66: ΣΤΑΝΙΤΣΑΣ ΑΝΔΡΕΑΣ | C66: Ε.Ο.Σ. ΚΟΜΟΤΗΝΗΣ | D66: 2010 | E66: ΠΑΝΠΑΙΔΕΣ Β | F66: 3 | G66: 65
A67: 4 | B67: ΣΠΑΝΟΣ ΝΙΚΟΛΑΟΣ | C67: Ο.Σ. ΑΙΓΙΝΙΟΥ | D67: 2010 | E67: ΠΑΝΠΑΙΔΕΣ Β | F67: 4 | G67: 55
A68: 5 | B68: ΜΙΧΑΗΛΙΔΗΣ ΓΕΩΡΓΙΟΣ | C68: Σ.Ο.Δ. ΚΑΣΤΟΡΙΑΣ | D68: 2011 | E68: ΠΑΝΠΑΙΔΕΣ Β | F68: 5 | G68: 51
A69: 6 | B69: ΤΣΑΦΗΣ ΙΩΑΝΝΗΣ | C69: Ο.Σ. ΣΙΑΤΙΣΤΑΣ | D69: 2010 | E69: ΠΑΝΠΑΙΔΕΣ Β | F69: 6 | G69: 47
B71: ΠΑΝΠΑΙΔΕΣ Γ | C71: Σύλλογος | D71: ετος γεν. | E71: Κατηγορία | F71: θεση | G71: βαθμοί
A72: 1 | B72: ΜΙΧΑΗΛΙΔΗΣ ΝΙΚΟΛΑΟΣ | C72: Ε.Ο.Σ. ΒΟΛΟΥ | D72: 2012 | E72: ΠΑΝΠΑΙΔΕΣ Γ | F72: 1 | G72: 100
A73: 2 | B73: ΣΠΥΡΟΥ ΙΑΣΩΝΑΣ | C73: Ε.Ο.Σ. ΒΟΛΟΥ | D73: 2012 | E73: ΠΑΝΠΑΙΔΕΣ Γ | F73: 2 | G73: 80
A74: 3 | B74: ΤΣΙΡΕΛΗΣ ΑΘΑΝΑΣΙΟΣ | C74: Ο.Σ. ΑΙΓΙΝΙΟΥ | D74: 2013 | E74: ΠΑΝΠΑΙΔΕΣ Γ | F74: 3 | G74: 65
A75: 4 | B75: ΑΚΡΙΤΙΔΗΣ ΕΥΣΤΡΑΤΙΟΣ | C75: Ε.Ο.Σ. ΞΑΝΘΗΣ | D75: 2012 | E75: ΠΑΝΠΑΙΔΕΣ Γ | F75: 4 | G75: 55
B78: ΠΑΝΚΟΡΑΣΙΔΕΣ Β | C78: Σύλλογος | D78: ετος γεν. | E78: Κατηγορία | F78: θεση | G78: βαθμοί
A79: 1 | B79: ΜΙΧΑΗΛΙΔΟΥ ΑΓΓΕΛΙΚΗ | C79: Ε.Ο.Σ. ΑΧΑΡΝΩΝ | D79: 2010 | E79: ΠΑΝΚΟΡΑΣΙΔΕΣ Β | F79: 1 | G79: 100
A80: 2 | B80: ΓΕΡΟΒΑΣΙΛΗ ΟΛΓΑ | C80: Ε.Ο.Σ. ΒΟΛΟΥ | D80: 2011 | E80: ΠΑΝΚΟΡΑΣΙΔΕΣ Β | F80: 2 | G80: 80
A81: 3 | B81: ΜΑΓΓΙΤΣΗ ΜΑΡΙΑ | C81: Ε.Ο.Σ. ΒΟΛΟΥ | D81: 2011 | E81: ΠΑΝΚΟΡΑΣΙΔΕΣ Β | F81: 3 | G81: 65
A82: 4 | B82: ΠΑΠΑΤΡΙΑΝΤΑΦΥΛΛΟΥ ΦΑΝΗ | C82: Ο.Σ. ΑΙΓΙΝΙΟΥ | D82: 2010 | E82: ΠΑΝΚΟΡΑΣΙΔΕΣ Β | F82: 4 | G82: 55
A83: 5 | B83: ΚΟΠΑΝΟΥ ΕΥΓΕΝΕΙΑ | C83: Ε.Ο.Σ. ΒΟΛΟΥ | D83: 2011 | E83: ΠΑΝΚΟΡΑΣΙΔΕΣ Β | F83: 5 | G83: 51
A84: 6 | B84: ΝΕΟΥ ΣΤΥΛΙΑΝΗ | C84: Ε.Ο.Σ. ΒΟΛΟΥ | D84: 2011 | E84: ΠΑΝΚΟΡΑΣΙΔΕΣ Β | F84: 6 | G84: 47
A85: 7 | B85: ΚΑΒΒΑΔΙΑ ΕΙΡΗΝΗ-ΑΝΝΑ | C85: Ε.Ο.Σ. ΑΘΗΝΩΝ | D85: 2010 | E85: ΠΑΝΚΟΡΑΣΙΔΕΣ Β | F85: 7 | G85: 43
A86: 8 | B86: ΠΕΡΔΙΚΑΡΗ ΙΡΙΔΑ | C86: Ε.Ο.Σ. ΑΧΑΡΝΩΝ | D86: 2011 | E86: ΠΑΝΚΟΡΑΣΙΔΕΣ Β | F86: 8 | G86: 40
A87: 9 | B87: ΑΘΑΝΑΣΑΚΗ ΜΑΡΙΑ-ΓΕΡΑΣΙΜΙΑ | C87: Π.Ο.Σ. ΠΕΤΡΟΥΠΟΛΗΣ | D87: 2011 | E87: ΠΑΝΚΟΡΑΣΙΔΕΣ Β | F87: 9 | G87: 37
B89: ΠΑΝΚΟΡΑΣΙΔΕΣ Γ | C89: Σύλλογος | D89: ετος γεν. | E89: Κατηγορία | F89: θεση | G89: βαθμοί
A90: 1 | B90: ΚΑΡΑΓΕΩΡΓΟΠΟΥΛΟΥ ΜΑΡΛΕΝ | C90: Ε.Ο.Σ. ΑΧΑΡΝΩΝ | D90: 2013 | E90: ΠΑΝΚΟΡΑΣΙΔΕΣ Γ | F90: 1 | G90: 100
A91: 2 | B91: ΠΑΠΑΝΔΡΕΟΥ ΜΑΡΙΑΝΘΗ | C91: Σ.Ο.Δ. ΚΑΣΤΟΡΙΑΣ | D91: 2012 | E91: ΠΑΝΚΟΡΑΣΙΔΕΣ Γ | F91: 2 | G91: 80
A92: 3 | B92: ΚΩΣΤΑΡΑ ΝΕΦΕΛΗ | C92: Σ.Ο.Δ. ΚΑΣΤΟΡΙΑΣ | D92: 2012 | E92: ΠΑΝΚΟΡΑΣΙΔΕΣ Γ | F92: 3 | G92: 65
A93: 4 | B93: ΜΙΧΑΗΛΙΔΟΥ ΕΥΘΥΜΙΑ | C93: Ε.Ο.Σ. ΑΧΑΡΝΩΝ | D93: 2012 | E93: ΠΑΝΚΟΡΑΣΙΔΕΣ Γ | F93: 4 | G93: 55
A94: 5 | B94: ΤΣΑΦΗ ΑΛΕΞΑΝΔΡΑ | C94: Ο.Σ. ΣΙΑΤΙΣΤΑΣ | D94: 2014 | E94: ΠΑΝΚΟΡΑΣΙΔΕΣ Γ | F94: 5 | G94: 51
A95: 6 | B95: ΣΠΥΡΟΥ ΑΡΤΕΜΗΣ | C95: Ε.Ο.Σ. ΒΟΛΟΥ | D95: 2013 | E95: ΠΑΝΚΟΡΑΣΙΔΕΣ Γ | F95: 6 | G95: 47
A96: 7 | B96: ΒΑΚΟΝΔΙΟΥ ΜΥΡΤΩ | C96: Σ.Χ.Ο. ΚΑΒΑΛΑΣ | D96: 2013 | E96: ΠΑΝΚΟΡΑΣΙΔΕΣ Γ | F96: 7 | G96: 43

Sheet Σύλλογοι
A2: 1 | B2: Ε.Ο.Σ. ΞΑΝΘΗΣ | I2: Κατάταξη | J2: Συλλογος | K2: βαθμοί
A3: 1 | B3: ΒΑΛΣΑΜΙΔΗΣ ΜΑΤΘΑΙΟΣ | C3: Ε.Ο.Σ. ΞΑΝΘΗΣ | D3: 1999 | E3: ΑΝΔΡΕΣ | F3: 1 | G3: 100 | I3: 1 | J3: Ε.Ο.Σ. ΞΑΝΘΗΣ | K3: =G10 -> 540
A4: 2 | B4: ΒΑΛΣΑΜΙΔΗ ΔΑΝΑΗ | C4: Ε.Ο.Σ. ΞΑΝΘΗΣ | D4: 2003 | E4: ΓΥΝΑΙΚΕΣ | F4: 3 | G4: 65 | I4: 2 | J4: Σ.Ε.Ο ΘΕΣΣΑΛΟΝΙΚΗΣ | K4: =G21 -> 509
A5: 3 | B5: ΠΑΛΤΑΤΣΙΔΟΥ ΖΩΗ | C5: Ε.Ο.Σ. ΞΑΝΘΗΣ | D5: 2005 | E5: ΝΕΑΝΙΔΕΣ | F5: 1 | G5: 100 | I5: 3 | J5: Ε.Ο.Σ. ΑΧΑΡΝΩΝ | K5: =G31 -> 480
A6: 4 | B6: ΜΠΕΡΤΟΣ ΒΑΣΙΛΕΙΟΣ | C6: Ε.Ο.Σ. ΞΑΝΘΗΣ | D6: 2006 | E6: ΠΑΙΔΕΣ | F6: 1 | G6: 100 | I6: 4 | J6: Ε.Ο.Σ. ΒΟΛΟΥ | K6: =G42 -> 470
A7: 5 | B7: ΒΑΛΣΑΜΙΔΗΣ ΙΑΣΩΝΑΣ | C7: Ε.Ο.Σ. ΞΑΝΘΗΣ | D7: 2006 | E7: ΠΑΙΔΕΣ | F7: 2 | G7: 80 | I7: 5 | J7: Ο.Σ. ΑΙΓΙΝΙΟΥ | K7: =G51 -> 410
A8: 6 | B8: ΑΚΡΙΤΙΔΗΣ ΘΕΟΔΩΡΟΣ | C8: Ε.Ο.Σ. ΞΑΝΘΗΣ | D8: 2009 | E8: ΠΑΝΠΑΙΔΕΣ Α | F8: 8 | G8: 40 | I8: 6 | J8: Ο.Λ. ΑΡΙΔΑΙΑΣ | K8: =G61 -> 396
A9: 7 | B9: ΑΚΡΙΤΙΔΗΣ ΕΥΣΤΡΑΤΙΟΣ | C9: Ε.Ο.Σ. ΞΑΝΘΗΣ | D9: 2012 | E9: ΠΑΝΠΑΙΔΕΣ Γ | F9: 4 | G9: 55 | I9: 7 | J9: Ε.Ο.Σ. ΚΟΜΟΤΗΝΗΣ | K9: =G72 -> 382
G10: =SUM(G3:G9) -> 540 | I10: 8 | J10: Ε.Ο.Σ. ΑΘΗΝΩΝ | K10: =G79 -> 288
I11: 9 | J11: Ο.Σ. ΣΙΑΤΙΣΤΑΣ | K11: =G88 -> 283
A12: 2 | B12: Σ.Ε.Ο ΘΕΣΣΑΛΟΝΙΚΗΣ | I12: 10 | J12: Σ.Ο.Δ. ΚΑΣΤΟΡΙΑΣ | K12: =G94 -> 196
A13: 1 | B13: ΤΣΙΑΟΥΣΗΣ ΟΡΦΕΑΣ | C13: Σ.Ε.Ο ΘΕΣΣΑΛΟΝΙΚΗΣ | D13: 2003 | E13: ΑΝΔΡΕΣ | F13: 2 | G13: 80 | I13: 11 | J13: Π.Ο.Σ. ΠΕΤΡΟΥΠΟΛΗΣ | K13: =G101 -> 168
A14: 2 | B14: ΒΟΛΥΡΑΚΗΣ ΜΙΧΑΗΛ | C14: Σ.Ε.Ο ΘΕΣΣΑΛΟΝΙΚΗΣ | D14: 2003 | E14: ΑΝΔΡΕΣ | F14: 4 | G14: 55 | I14: 12 | J14: Σ.Χ.Ο. ΚΑΒΑΛΑΣ | K14: =G106 -> 143
A15: 3 | B15: ΠΑΛΛΑΣ ΓΕΩΡΓΙΟΣ | C15: Σ.Ε.Ο ΘΕΣΣΑΛΟΝΙΚΗΣ | D15: 1987 | E15: ΑΝΔΡΕΣ | F15: 5 | G15: 51 | I15: 13 | J15: Ε.Ο.Σ. ΑΛΜΥΡΟΥ | K15: =G109 -> 55
A16: 4 | B16: ΠΕΤΑΛΙΔΟΥ ΜΥΡΤΩ | C16: Σ.Ε.Ο ΘΕΣΣΑΛΟΝΙΚΗΣ | D16: 1995 | E16: ΓΥΝΑΙΚΕΣ | F16: 2 | G16: 80 | I16: 14 | J16: Ε.Ο.Σ. ΧΑΛΚΙΔΑΣ | K16: =G113 -> 51
A17: 5 | B17: ΚΑΤΕΡΗ ΑΛΕΞΑΝΔΡΑ | C17: Σ.Ε.Ο ΘΕΣΣΑΛΟΝΙΚΗΣ | D17: 1989 | E17: ΓΥΝΑΙΚΕΣ | F17: 4 | G17: 55 | I17: 15 | J17: Λ.Ο.Χ. ΚΑΒΑΛΑΣ | K17: =G116 -> 47
A18: 6 | B18: ΦΩΚΑ ΣΟΦΙΑ | C18: Σ.Ε.Ο ΘΕΣΣΑΛΟΝΙΚΗΣ | D18: 1990 | E18: ΓΥΝΑΙΚΕΣ | F18: 7 | G18: 43 | I18: 16 | J18: Ο.Λ. ΚΑΛΑΜΠΑΚΑΣ | K18: =G120 -> 47
A19: 7 | B19: ΜΑΓΚΙΟΡΟΥ ΧΡΥΣΗ | C19: Σ.Ε.Ο ΘΕΣΣΑΛΟΝΙΚΗΣ | D19: 2005 | E19: ΝΕΑΝΙΔΕΣ | F19: 2 | G19: 80
A20: 8 | B20: ΜΑΓΚΙΟΡΟΥ ΕΡΜΙΟΝΗ | C20: Σ.Ε.Ο ΘΕΣΣΑΛΟΝΙΚΗΣ | D20: 2007 | E20: ΚΟΡΑΣΙΔΕΣ | F20: 3 | G20: 65
G21: =SUM(G13:G20) -> 509
A23: 3 | B23: Ε.Ο.Σ. ΑΧΑΡΝΩΝ
A24: 1 | B24: ΘΕΟΧΑΡΟΠΟΥΛΟΣ ΘΕΟΦΑΝΗΣ-ΕΡΜΗΣ | C24: Ε.Ο.Σ. ΑΧΑΡΝΩΝ | D24: 2000 | E24: ΑΝΔΡΕΣ | F24: 3 | G24: 65
A25: 2 | B25: ΦΙΛΙΠΠΙΔΗΣ ΑΝΑΣΤΑΣΗΣ | C25: Ε.Ο.Σ. ΑΧΑΡΝΩΝ | D25: 2006 | E25: ΠΑΙΔΕΣ | F25: 3 | G25: 65
A26: 3 | B26: ΠΕΡΔΙΚΑΡΗ ΛΥΔΙΑ-ΘΕΟΔΩΡΑ | C26: Ε.Ο.Σ. ΑΧΑΡΝΩΝ | D26: 2009 | E26: ΠΑΝΚΟΡΑΣΙΔΕΣ Α | F26: 4 | G26: 55
A27: 4 | B27: ΜΙΧΑΗΛΙΔΟΥ ΑΓΓΕΛΙΚΗ | C27: Ε.Ο.Σ. ΑΧΑΡΝΩΝ | D27: 2010 | E27: ΠΑΝΚΟΡΑΣΙΔΕΣ Β | F27: 1 | G27: 100
A28: 5 | B28: ΠΕΡΔΙΚΑΡΗ ΙΡΙΔΑ | C28: Ε.Ο.Σ. ΑΧΑΡΝΩΝ | D28: 2011 | E28: ΠΑΝΚΟΡΑΣΙΔΕΣ Β | F28: 8 | G28: 40
A29: 6 | B29: ΚΑΡΑΓΕΩΡΓΟΠΟΥΛΟΥ ΜΑΡΛΕΝ | C29: Ε.Ο.Σ. ΑΧΑΡΝΩΝ | D29: 2013 | E29: ΠΑΝΚΟΡΑΣΙΔΕΣ Γ | F29: 1 | G29: 100
A30: 7 | B30: ΜΙΧΑΗΛΙΔΟΥ ΕΥΘΥΜΙΑ | C30: Ε.Ο.Σ. ΑΧΑΡΝΩΝ | D30: 2012 | E30: ΠΑΝΚΟΡΑΣΙΔΕΣ Γ | F30: 4 | G30: 55
G31: =SUM(G24:G30) -> 480
A33: 4 | B33: Ε.Ο.Σ. ΒΟΛΟΥ
A34: 1 | B34: ΓΕΡΟΒΑΣΙΛΗ ΑΝΝΑ | C34: Ε.Ο.Σ. ΒΟΛΟΥ | D34: 2009 | E34: ΠΑΝΚΟΡΑΣΙΔΕΣ Α | F34: 6 | G34: 47
A35: 2 | B35: ΜΙΧΑΗΛΙΔΗΣ ΝΙΚΟΛΑΟΣ | C35: Ε.Ο.Σ. ΒΟΛΟΥ | D35: 2012 | E35: ΠΑΝΠΑΙΔΕΣ Γ | F35: 1 | G35: 100
A36: 3 | B36: ΣΠΥΡΟΥ ΙΑΣΩΝΑΣ | C36: Ε.Ο.Σ. ΒΟΛΟΥ | D36: 2012 | E36: ΠΑΝΠΑΙΔΕΣ Γ | F36: 2 | G36: 80
A37: 4 | B37: ΓΕΡΟΒΑΣΙΛΗ ΟΛΓΑ | C37: Ε.Ο.Σ. ΒΟΛΟΥ | D37: 2011 | E37: ΠΑΝΚΟΡΑΣΙΔΕΣ Β | F37: 2 | G37: 80
A38: 5 | B38: ΜΑΓΓΙΤΣΗ ΜΑΡΙΑ | C38: Ε.Ο.Σ. ΒΟΛΟΥ | D38: 2011 | E38: ΠΑΝΚΟΡΑΣΙΔΕΣ Β | F38: 3 | G38: 65
A39: 6 | B39: ΚΟΠΑΝΟΥ ΕΥΓΕΝΕΙΑ | C39: Ε.Ο.Σ. ΒΟΛΟΥ | D39: 2011 | E39: ΠΑΝΚΟΡΑΣΙΔΕΣ Β | F39: 5 | G39: 51
A40: 7 | B40: ΝΕΟΥ ΣΤΥΛΙΑΝΗ | C40: Ε.Ο.Σ. ΒΟΛΟΥ | D40: 2011 | E40: ΠΑΝΚΟΡΑΣΙΔΕΣ Β | F40: 6 | H40: 47
A41: 8 | B41: ΣΠΥΡΟΥ ΑΡΤΕΜΗΣ | C41: Ε.Ο.Σ. ΒΟΛΟΥ | D41: 2013 | E41: ΠΑΝΚΟΡΑΣΙΔΕΣ Γ | F41: 6 | G41: 47
G42: =SUM(G34:G41) -> 470 | H42: =SUM(H34:H40) -> 47
A44: 5 | B44: Ο.Σ. ΑΙΓΙΝΙΟΥ
A45: 1 | B45: ΠΑΠΑΤΡΙΑΝΤΑΦΥΛΛΟΥ ΝΙΚΟΛΑΟΣ | C45: Ο.Σ. ΑΙΓΙΝΙΟΥ | D45: 2007 | E45: ΠΑΙΔΕΣ | F45: 4 | G45: 55
A46: 2 | B46: ΣΠΑΝΟΥ ΕΥΤΥΧΙΑ | C46: Ο.Σ. ΑΙΓΙΝΙΟΥ | D46: 2006 | E46: ΚΟΡΑΣΙΔΕΣ | F46: 1 | G46: 100
A47: 3 | B47: ΑΠΟΣΤΟΛΟΠΟΥΛΟΣ ΙΩΑΝΝΗΣ | C47: Ο.Σ. ΑΙΓΙΝΙΟΥ | D47: 2010 | E47: ΠΑΝΠΑΙΔΕΣ Β | F47: 2 | G47: 80
A48: 4 | B48: ΣΠΑΝΟΣ ΝΙΚΟΛΑΟΣ | C48: Ο.Σ. ΑΙΓΙΝΙΟΥ | D48: 2010 | E48: ΠΑΝΠΑΙΔΕΣ Β | F48: 4 | G48: 55
A49: 5 | B49: ΤΣΙΡΕΛΗΣ ΑΘΑΝΑΣΙΟΣ | C49: Ο.Σ. ΑΙΓΙΝΙΟΥ | D49: 2013 | E49: ΠΑΝΠΑΙΔΕΣ Γ | F49: 3 | G49: 65
A50: 6 | B50: ΠΑΠΑΤΡΙΑΝΤΑΦΥΛΛΟΥ ΦΑΝΗ | C50: Ο.Σ. ΑΙΓΙΝΙΟΥ | D50: 2010 | E50: ΠΑΝΚΟΡΑΣΙΔΕΣ Β | F50: 4 | G50: 55
G51: =SUM(G45:G50) -> 410
A53: 6 | B53: Ο.Λ. ΑΡΙΔΑΙΑΣ
A54: 1 | B54: ΛΙΟΥΝΗ ΑΘΑΝΑΣΙΑ | C54: Ο.Λ. ΑΡΙΔΑΙΑΣ | D54: 2000 | E54: ΓΥΝΑΙΚΕΣ | F54: 1 | G54: 100
A55: 2 | B55: ΜΟΥΤΑΦΙΔΟΥ ΕΥΘΥΜΙΑ | C55: Ο.Λ. ΑΡΙΔΑΙΑΣ | D55: 2002 | E55: ΓΥΝΑΙΚΕΣ | F55: 5 | G55: 51
A56: 3 | B56: ΠΑΠΑΔΗΜΗΤΡΙΟΥ ΜΑΡΚΕΛΛΑ | C56: Ο.Λ. ΑΡΙΔΑΙΑΣ | D56: 2009 | E56: ΠΑΝΚΟΡΑΣΙΔΕΣ Α | F56: 1 | G56: 100
A57: 4 | B57: ΣΥΡΟΠΟΥΛΟΥ ΟΛΓΑ | C57: Ο.Λ. ΑΡΙΔΑΙΑΣ | D57: 2009 | E57: ΠΑΝΚΟΡΑΣΙΔΕΣ Α | F57: 2 | G57: 80
A58: 5 | B58: ΚΕΝΤΕΡΤΖΙΔΟΥ ΘΕΟΦΑΝΙΑ | C58: Ο.Λ. ΑΡΙΔΑΙΑΣ | D58: 2008 | E58: ΠΑΝΚΟΡΑΣΙΔΕΣ Α | F58: 3 | G58: 65
A59: 6 | B59: ΣΥΡΟΠΟΥΛΟΥ ΕΛΕΝΗ | C59: Ο.Λ. ΑΡΙΔΑΙΑΣ | D59: 2009 | E59: ΠΑΝΚΟΡΑΣΙΔΕΣ Α | F59: 5 | H59: 51
A60: 7 | B60: ΚΩΤΣΟΥ ΒΑΣΙΛΙΚΗ | C60: Ο.Λ. ΑΡΙΔΑΙΑΣ | D60: 2009 | E60: ΠΑΝΚΟΡΑΣΙΔΕΣ Α | F60: 7 | H60: 43
G61: =SUM(G54:G60) -> 396 | H61: =SUM(H54:H60) -> 94
A63: 7 | B63: Ε.Ο.Σ. ΚΟΜΟΤΗΝΗΣ
A64: 1 | B64: ΚΑΣΑΠΗ ΑΛΙΚΗ | C64: Ε.Ο.Σ. ΚΟΜΟΤΗΝΗΣ | D64: 2004 | E64: ΝΕΑΝΙΔΕΣ | F64: 3 | G64: 65
A65: 2 | B65: ΚΑΜΠΑ ΑΙΚΑΤΕΡΙΝΗ | C65: Ε.Ο.Σ. ΚΟΜΟΤΗΝΗΣ | D65: 2006 | E65: ΚΟΡΑΣΙΔΕΣ | F65: 5 | G65: 51
A66: 3 | B66: ΧΑΤΖΗΧΡΙΣΤΟΔΟΥΛΟΥ ΜΑΡΙΑ- ΑΓΓΕΛΙΚΗ | C66: Ε.Ο.Σ. ΚΟΜΟΤΗΝΗΣ | D66: 2006 | E66: ΚΟΡΑΣΙΔΕΣ | F66: 6 | G66: 47
A67: 4 | B67: ΣΙΜΟΠΟΥΛΟΣ ΦΙΛΙΠΠΟΣ | C67: Ε.Ο.Σ. ΚΟΜΟΤΗΝΗΣ | D67: 2008 | E67: ΠΑΝΠΑΙΔΕΣ Α | F67: 7 | G67: 43
A68: 5 | B68: ΕΞΑΚΟΙΔΗ ΣΜΑΡΑΓΔΑ | C68: Ε.Ο.Σ. ΚΟΜΟΤΗΝΗΣ | D68: 2009 | E68: ΠΑΝΚΟΡΑΣΙΔΕΣ Α | F68: 8 | G68: 40
A69: 6 | B69: ΠΕΤΡΑΚΟΠΟΥΛΟΥ ΝΙΚΟΛΕΤΑ | C69: Ε.Ο.Σ. ΚΟΜΟΤΗΝΗΣ | D69: 2009 | E69: ΠΑΝΚΟΡΑΣΙΔΕΣ Α | F69: 9 | G69: 37
A70: 7 | B70: ΚΑΣΑΠΗ ΜΑΡΙΑ | C70: Ε.Ο.Σ. ΚΟΜΟΤΗΝΗΣ | D70: 2008 | E70: ΠΑΝΚΟΡΑΣΙΔΕΣ Α | F70: 10 | G70: 34
A71: 8 | B71: ΣΤΑΝΙΤΣΑΣ ΑΝΔΡΕΑΣ | C71: Ε.Ο.Σ. ΚΟΜΟΤΗΝΗΣ | D71: 2010 | E71: ΠΑΝΠΑΙΔΕΣ Β | F71: 3 | G71: 65
G72: =SUM(G64:G71) -> 382
A74: 8 | B74: Ε.Ο.Σ. ΑΘΗΝΩΝ
A75: 1 | B75: ΚΑΒΒΑΔΙΑ ΜΑΡΙΑ | C75: Ε.Ο.Σ. ΑΘΗΝΩΝ | D75: 2007 | E75: ΚΟΡΑΣΙΔΕΣ | F75: 2 | G75: 80
A76: 2 | B76: ΠΑΠΑΔΗΜΗΤΡΙΟΥ ΕΥΑΓΓΕΛΟΣ - ΦΙΛΙΠΠΟΣ | C76: Ε.Ο.Σ. ΑΘΗΝΩΝ | D76: 2008 | E76: ΠΑΝΠΑΙΔΕΣ Α | F76: 1 | G76: 100
A77: 3 | B77: ΠΑΠΑΛΕΞΗΣ ΓΕΩΡΓΙΟΣ | C77: Ε.Ο.Σ. ΑΘΗΝΩΝ | D77: 2008 | E77: ΠΑΝΠΑΙΔΕΣ Α | F77: 3 | G77: 65
A78: 4 | B78: ΚΑΒΒΑΔΙΑ ΕΙΡΗΝΗ-ΑΝΝΑ | C78: Ε.Ο.Σ. ΑΘΗΝΩΝ | D78: 2010 | E78: ΠΑΝΚΟΡΑΣΙΔΕΣ Β | F78: 7 | G78: 43
G79: =SUM(G75:G78) -> 288
A81: 9 | B81: Ο.Σ. ΣΙΑΤΙΣΤΑΣ
A82: 1 | B82: ΜΠΟΥΡΤΣΟΥ ΑΝΝΑ ΑΓΓΕΛΙΚΗ | C82: Ο.Σ. ΣΙΑΤΙΣΤΑΣ | D82: 2007 | E82: ΚΟΡΑΣΙΔΕΣ | F82: 7 | G82: 43
A83: 2 | B83: ΜΠΟΥΡΤΣΟΥ ΑΠΟΣΤΟΛΙΑ | C83: Ο.Σ. ΣΙΑΤΙΣΤΑΣ | D83: 2007 | E83: ΚΟΡΑΣΙΔΕΣ | F83: 8 | G83: 40
A84: 3 | B84: ΤΣΑΚΝΑΚΗΣ ΘΕΟΦΑΝΗΣ | C84: Ο.Σ. ΣΙΑΤΙΣΤΑΣ | D84: 2008 | E84: ΠΑΝΠΑΙΔΕΣ Α | F84: 4 | G84: 55
A85: 4 | B85: ΤΖΩΝΟΣ ΑΝΑΣΤΑΣΙΟΣ | C85: Ο.Σ. ΣΙΑΤΙΣΤΑΣ | D85: 2008 | E85: ΠΑΝΠΑΙΔΕΣ Α | F85: 6 | G85: 47
A86: 5 | B86: ΤΣΑΦΗΣ ΙΩΑΝΝΗΣ | C86: Ο.Σ. ΣΙΑΤΙΣΤΑΣ | D86: 2010 | E86: ΠΑΝΠΑΙΔΕΣ Β | F86: 6 | G86: 47
A87: 6 | B87: ΤΣΑΦΗ ΑΛΕΞΑΝΔΡΑ | C87: Ο.Σ. ΣΙΑΤΙΣΤΑΣ | D87: 2014 | E87: ΠΑΝΚΟΡΑΣΙΔΕΣ Γ | F87: 5 | G87: 51
G88: =SUM(G82:G87) -> 283
A90: 10 | B90: Σ.Ο.Δ. ΚΑΣΤΟΡΙΑΣ
A91: 1 | B91: ΜΙΧΑΗΛΙΔΗΣ ΓΕΩΡΓΙΟΣ | C91: Σ.Ο.Δ. ΚΑΣΤΟΡΙΑΣ | D91: 2011 | E91: ΠΑΝΠΑΙΔΕΣ Β | F91: 5 | G91: 51
A92: 2 | B92: ΠΑΠΑΝΔΡΕΟΥ ΜΑΡΙΑΝΘΗ | C92: Σ.Ο.Δ. ΚΑΣΤΟΡΙΑΣ | D92: 2012 | E92: ΠΑΝΚΟΡΑΣΙΔΕΣ Γ | F92: 2 | G92: 80
A93: 3 | B93: ΚΩΣΤΑΡΑ ΝΕΦΕΛΗ | C93: Σ.Ο.Δ. ΚΑΣΤΟΡΙΑΣ | D93: 2012 | E93: ΠΑΝΚΟΡΑΣΙΔΕΣ Γ | F93: 3 | G93: 65
G94: =SUM(G91:G93) -> 196
A97: 11 | B97: Π.Ο.Σ. ΠΕΤΡΟΥΠΟΛΗΣ
A98: 1 | B98: ΑΘΑΝΑΣΑΚΗΣ ΕΜΜΑΝΟΥΗΛ | C98: Π.Ο.Σ. ΠΕΤΡΟΥΠΟΛΗΣ | D98: 2008 | E98: ΠΑΝΠΑΙΔΕΣ Α | F98: 2 | G98: 80
A99: 2 | B99: ΚΟΥΚΟΥΒΙΝΗΣ ΟΡΦΕΑΣ | C99: Π.Ο.Σ. ΠΕΤΡΟΥΠΟΛΗΣ | D99: 2008 | E99: ΠΑΝΠΑΙΔΕΣ Α | F99: 5 | G99: 51
A100: 3 | B100: ΑΘΑΝΑΣΑΚΗ ΜΑΡΙΑ-ΓΕΡΑΣΙΜΙΑ | C100: Π.Ο.Σ. ΠΕΤΡΟΥΠΟΛΗΣ | D100: 2011 | E100: ΠΑΝΚΟΡΑΣΙΔΕΣ Β | F100: 9 | G100: 37
G101: =SUM(G98:G100) -> 168
A103: 12 | B103: Σ.Χ.Ο. ΚΑΒΑΛΑΣ
A104: 1 | B104: ΒΑΚΟΝΔΙΟΣ ΜΑΡΚΟΣ | C104: Σ.Χ.Ο. ΚΑΒΑΛΑΣ | D104: 2010 | E104: ΠΑΝΠΑΙΔΕΣ Β | F104: 1 | G104: 100
A105: 2 | B105: ΒΑΚΟΝΔΙΟΥ ΜΥΡΤΩ | C105: Σ.Χ.Ο. ΚΑΒΑΛΑΣ | D105: 2013 | E105: ΠΑΝΚΟΡΑΣΙΔΕΣ Γ | F105: 7 | G105: 43
G106: =SUM(G104:G105) -> 143
A108: 13 | B108: Ε.Ο.Σ. ΑΛΜΥΡΟΥ
A109: 1 | B109: ΠΑΠΑΝΑΤΣΙΟΥ ΗΛΕΚΤΡΑ | C109: Ε.Ο.Σ. ΑΛΜΥΡΟΥ | D109: 2007 | E109: ΚΟΡΑΣΙΔΕΣ | F109: 4 | G109: 55
G110: =SUM(G109) -> 55
A112: 14 | B112: Ε.Ο.Σ. ΧΑΛΚΙΔΑΣ
A113: 1 | B113: ΠΟΤΑΜΟΥΣΗΣ ΓΕΡΑΣΙΜΟΣ | C113: Ε.Ο.Σ. ΧΑΛΚΙΔΑΣ | D113: 2006 | E113: ΠΑΙΔΕΣ | F113: 5 | G113: 51
G114: =SUM(G113) -> 51
...

Sheet μετάλλια Κομοτηνη
B2: Αγώνας Δυσκολίας Κομοτηνη 24-25/9/21
B3: Πίνακας Μεταλλίων
A4: α/α | B4: Σύλλογος | C4: Χρυσά | D4: Αργυρά | E4: Χαλκινα | F4: Σύνολο
A5: 1 | B5: Ε.Ο.Σ. ΞΑΝΘΗΣ | C5: 3 | D5: 1 | E5: 1 | F5: =SUM(C5:E5) -> 5
A6: 2 | B6: Ο.Λ. ΑΡΙΔΑΙΑΣ | C6: 2 | D6: 1 | E6: 1 | F6: =SUM(C6:E6) -> 4
A7: 3 | B7: Ε.Ο.Σ. ΑΧΑΡΝΩΝ | C7: 2 | E7: 2 | F7: =SUM(C7:E7) -> 4
A8: 4 | B8: Ε.Ο.Σ. ΒΟΛΟΥ | C8: 1 | D8: 2 | E8: 1 | F8: =SUM(C8:E8) -> 4
A9: 5 | B9: Ε.Ο.Σ. ΑΘΗΝΩΝ | C9: 1 | D9: 1 | E9: 1 | F9: =SUM(C9:E9) -> 3
A10: 5 | B10: Ο.Σ. ΑΙΓΙΝΙΟΥ | C10: 1 | D10: 1 | E10: 1 | F10: =SUM(C10:E10) -> 3
A11: 7 | B11: Σ.Χ.Ο. ΚΑΒΑΛΑΣ | C11: 1 | F11: =SUM(C11:E11) -> 1
A12: 8 | B12: Σ.Ε.Ο ΘΕΣΣΑΛΟΝΙΚΗΣ | D12: 3 | E12: 1 | F12: =SUM(C12:E12) -> 4
A13: 9 | B13: Σ.Ο.Δ. ΚΑΣΤΟΡΙΑΣ | D13: 1 | E13: 1 | F13: =SUM(C13:E13) -> 2
A14: 10 | B14: Π.Ο.Σ. ΠΕΤΡΟΥΠΟΛΗΣ | D14: 1 | F14: =SUM(C14:E14) -> 1
A15: 11 | B15: Ε.Ο.Σ. ΚΟΜΟΤΗΝΗΣ | E15: 2 | F15: =SUM(C15:E15) -> 2
C16: =SUM(C5:C15) -> 11 | D16: =SUM(D5:D15) -> 11 | E16: =SUM(E5:E15) -> 11 | F16: =SUM(F5:F15) -> 33

Sheet Δυσκολία Βόλος 
B1: ΠΑΓΚΟΡΑΣΙΔΕΣ Γ | F1: θεση | G1: βαθμοί
A2: 1 | B2: ΜΙΧΑΗΛΙΔΟΥ ΕΥΘΥΜΙΑ | C2: Ε.Ο.Σ. ΑΧΑΡΝΩΝ | D2: 2012 | E2: ΠΑΓΚΟΡΑΣΙΔΕΣ Γ | F2: 1 | G2: 100
A3: 2 | B3: ΚΑΡΑΓΕΩΡΓΟΠΟΥΛΟΥ ΜΑΡΛΕΝ | C3: Ε.Ο.Σ. ΑΧΑΡΝΩΝ | D3: 2013 | E3: ΠΑΓΚΟΡΑΣΙΔΕΣ Γ | F3: 2 | G3: 80
A4: 3 | B4: ΒΑΚΟΝΔΙΟΥ ΜΥΡΤΩ | C4: Σ.Χ.Ο. ΚΑΒΑΛΑΣ | D4: 2013 | E4: ΠΑΓΚΟΡΑΣΙΔΕΣ Γ | F4: 3 | G4: 65
A5: 4 | B5: ΣΠΥΡΟΥ ΑΡΤΕΜΙΣ | C5: Ε.Ο.Σ. ΒΟΛΟΥ | D5: 2013 | E5: ΠΑΓΚΟΡΑΣΙΔΕΣ Γ | F5: 4 | G5: 55
A6: 5 | B6: ΣΑΜΑΡΑ ΙΖΑΜΠΕΛΛΑ | C6: Ε.Ο.Σ. ΒΟΛΟΥ | D6: 2013 | E6: ΠΑΓΚΟΡΑΣΙΔΕΣ Γ | F6: 5 | G6: 51
B8: ΠΑΓΚΟΡΑΣΙΔΕΣ Β | F8: θεση | G8: βαθμοί
A9: 1 | B9: ΦΡΟΝΙΜΑΚΗ ΣΙΛΙΑ | C9: Ε.Π.Ο.Σ. ΦΥΛΗΣ | D9: 2010 | E9: ΠΑΓΚΟΡΑΣΙΔΕΣ Β | F9: 1 | G9: 100
A10: 2 | B10: ΜΙΧΑΗΛΙΔΟΥ ΑΓΓΕΛΙΚΗ | C10: Ε.Ο.Σ. ΑΧΑΡΝΩΝ | D10: 2010 | E10: ΠΑΓΚΟΡΑΣΙΔΕΣ Β | F10: 2 | G10: 80
A11: 3 | B11: ΓΕΡΟΒΑΣΙΛΗ ΟΛΓΑ | C11: Ε.Ο.Σ. ΒΟΛΟΥ | D11: 2011 | E11: ΠΑΓΚΟΡΑΣΙΔΕΣ Β | F11: 3 | G11: 65
A12: 4 | B12: ΛΥΤΙΝΑ ΣΩΤΗΡΙΑ | C12: Π.Ο.Σ. ΠΕΤΡΟΥΠΟΛΗΣ | D12: 2011 | E12: ΠΑΓΚΟΡΑΣΙΔΕΣ Β | F12: 4 | G12: 55
A13: 5 | B13: ΜΑΓΓΙΤΣΗ ΜΑΡΙΑ | C13: Ε.Ο.Σ. ΒΟΛΟΥ | D13: 2011 | E13: ΠΑΓΚΟΡΑΣΙΔΕΣ Β | F13: 5 | G13: 51
A14: 6 | B14: ΚΟΠΑΝΟΥ ΕΥΓΕΝΕΙΑ | C14: Ε.Ο.Σ. ΒΟΛΟΥ | D14: 2011 | E14: ΠΑΓΚΟΡΑΣΙΔΕΣ Β | F14: 6 | G14: 47
A15: 7 | B15: ΠΑΠΑΤΡΙΑΝΤΑΦΥΛΛΟΥ ΦΑΝΗ | C15: Ο.Σ. ΑΙΓΙΝΙΟΥ | D15: 2010 | E15: ΠΑΓΚΟΡΑΣΙΔΕΣ Β | F15: 7 | G15: 43
A16: 8 | B16: ΠΕΡΔΙΚΑΡΗ ΙΡΙΔΑ | C16: Ε.Ο.Σ. ΑΧΑΡΝΩΝ | D16: 2011 | E16: ΠΑΓΚΟΡΑΣΙΔΕΣ Β | F16: 8 | G16: 40
A17: 9 | B17: ΝΙΚΟΛΑΝΤΟΥ ΑΙΚΑΤΕΡΙΝΗ | C17: Ε.Ο.Σ. ΑΧΑΡΝΩΝ | D17: 2011 | E17: ΠΑΓΚΟΡΑΣΙΔΕΣ Β | F17: 9 | G17: 37
B19: ΠΑΓΚΟΡΑΣΙΔΕΣ Α | F19: θεση | G19: βαθμοί
A20: 1 | B20: ΣΥΡΟΠΟΥΛΟΥ ΟΛΓΑ | C20: Ο.Λ. ΑΡΙΔΑΙΑΣ | D20: 2009 | E20: ΠΑΓΚΟΡΑΣΙΔΕΣ Α | F20: 1 | G20: 100
A21: 2 | B21: ΠΑΠΑΔΗΜΗΤΡΙΟΥ ΜΑΡΚΕΛΛΑ | C21: Ο.Λ. ΑΡΙΔΑΙΑΣ | D21: 2009 | E21: ΠΑΓΚΟΡΑΣΙΔΕΣ Α | F21: 2 | G21: 80
A22: 3 | B22: ΚΩΤΣΟΥ ΒΑΣΙΛΙΚΗ | C22: Ο.Λ. ΑΡΙΔΑΙΑΣ | D22: 2009 | E22: ΠΑΓΚΟΡΑΣΙΔΕΣ Α | F22: 3 | G22: 65
A23: 4 | B23: ΚΕΝΤΕΡΤΖΙΔΟΥ ΘΕΟΦΑΝΙΑ | C23: Ο.Λ. ΑΡΙΔΑΙΑΣ | D23: 2008 | E23: ΠΑΓΚΟΡΑΣΙΔΕΣ Α | F23: 4 | G23: 55
A24: 5 | B24: ΠΕΡΔΙΚΑΡΗ ΛΥΔΙΑ - ΘΕΟΔΩΡΑ | C24: Ε.Ο.Σ. ΑΧΑΡΝΩΝ | D24: 2009 | E24: ΠΑΓΚΟΡΑΣΙΔΕΣ Α | F24: 5 | G24: 51
A25: 6 | B25: ΣΥΡΟΠΟΥΛΟΥ ΕΛΕΝΗ | C25: Ο.Λ. ΑΡΙΔΑΙΑΣ | D25: 2009 | E25: ΠΑΓΚΟΡΑΣΙΔΕΣ Α | F25: 6 | G25: 47
A26: 7 | B26: ΓΕΡΟΒΑΣΙΛΗ ΑΝΝΑ | C26: Ε.Ο.Σ. ΒΟΛΟΥ | D26: 2009 | E26: ΠΑΓΚΟΡΑΣΙΔΕΣ Α | F26: 7 | G26: 43
A27: 8 | B27: ΖΟΥΛΟΥΜΗ ΚΩΝΣΤΑΝΤΙΝΑ | C27: Ο.Σ. ΑΙΓΙΝΙΟΥ | D27: 2008 | E27: ΠΑΓΚΟΡΑΣΙΔΕΣ Α | F27: 8 | G27: 40
A28: 9 | B28: ΒΕΡΓΑ ΦΩΤΕΙΝΗ | C28: Ε.Ο.Σ. ΑΛΜΥΡΟΥ | D28: 2008 | E28: ΠΑΓΚΟΡΑΣΙΔΕΣ Α | F28: 9 | G28: 37
B30: ΠΑΜΠΑΙΔΕΣ Γ | F30: θεση | G30: βαθμοί
A31: 1 | B31: ΜΙΧΑΗΛΙΔΗΣ ΝΙΚΟΛΑΟΣ | C31: Ε.Ο.Σ. ΒΟΛΟΥ | D31: 2012 | E31: ΠΑΜΠΑΙΔΕΣ Γ | F31: 1 | G31: 100
A32: 2 | B32: ΣΠΥΡΟΥ ΙΑΣΟΝΑΣ | C32: Ε.Ο.Σ. ΒΟΛΟΥ | D32: 2012 | E32: ΠΑΜΠΑΙΔΕΣ Γ | F32: 2 | G32: 80
A33: 3 | B33: ΤΣΙΡΕΛΗΣ ΑΘΑΝΑΣΙΟΣ | C33: Ο.Σ. ΑΙΓΙΝΙΟΥ | D33: 2013 | E33: ΠΑΜΠΑΙΔΕΣ Γ | F33: 3 | G33: 65
A34: 4 | B34: ΜΑΥΡΟΥΔΗΣ ΝΙΚΟΛΑΟΣ | C34: Ε.Ο.Σ. ΑΧΑΡΝΩΝ | D34: 2012 | E34: ΠΑΜΠΑΙΔΕΣ Γ | F34: 4 | G34: 55
A35: 5 | B35: ΝΙΚΟΛΑΝΤΟΣ ΓΙΩΡΓΟΣ | C35: Ε.Ο.Σ. ΑΧΑΡΝΩΝ | D35: 2013 | E35: ΠΑΜΠΑΙΔΕΣ Γ | F35: 5 | G35: 51
A36: 6 | B36: ΑΚΡΙΤΙΔΗΣ ΕΥΣΤΡΑΤΙΟΣ | C36: Ε.Ο.Σ. ΞΑΝΘΗΣ | D36: 2012 | E36: ΠΑΜΠΑΙΔΕΣ Γ | F36: 6 | G36: 47
B38: ΠΑΜΠΑΙΔΕΣ Β | F38: Θέση | G38: Βαθμοί
A39: 1 | B39: ΑΠΟΣΤΟΛΟΠΟΥΛΟΣ ΙΩΑΝΝΗΣ | C39: Ο.Σ. ΑΙΓΙΝΙΟΥ | D39: 2010 | E39: ΠΑΜΠΑΙΔΕΣ Β | F39: 1 | G39: 100
A40: 2 | B40: ΣΠΑΝΟΣ ΝΙΚΟΛΑΟΣ | C40: Ο.Σ. ΑΙΓΙΝΙΟΥ | D40: 2010 | E40: ΠΑΜΠΑΙΔΕΣ Β | F40: 2 | G40: 80
A41: 3 | B41: ΒΑΚΟΝΔΙΟΣ ΜΑΡΚΟΣ | C41: Σ.Χ.Ο. ΚΑΒΑΛΑΣ | D41: 2010 | E41: ΠΑΜΠΑΙΔΕΣ Β | F41: 3 | G41: 65
A42: 4 | B42: ΖΟΥΛΟΥΜΗΣ ΑΝΑΣΤΑΣΙΟΣ | C42: Ο.Σ. ΑΙΓΙΝΙΟΥ | D42: 2010 | E42: ΠΑΜΠΑΙΔΕΣ Β | F42: 4 | G42: 55
A43: 5 | B43: ΣΤΑΝΙΤΣΑΣ ΑΝΔΡΕΑΣ | C43: Ε.Ο.Σ. ΚΟΜΟΤΗΝΗΣ | D43: 2010 | E43: ΠΑΜΠΑΙΔΕΣ Β | F43: 5 | G43: 51
A44: 6 | B44: ΕΥΑΓΓΕΛΟΥ ΕΜΜΑΝΟΥΗΛ | C44: Ε.Ο.Σ. ΒΟΛΟΥ | D44: 2010 | E44: ΠΑΜΠΑΙΔΕΣ Β | F44: 6 | G44: 47
A45: 7 | B45: ΤΖΙΑΦΑΣ ΒΑΣΙΛΕΙΟΣ | C45: Ε.Ο.Σ. ΑΛΜΥΡΟΥ | D45: 2011 | E45: ΠΑΜΠΑΙΔΕΣ Β | F45: 7 | G45: 43
B47: ΠΑΜΠΑΙΔΕΣ Α | F47: Θέση | G47: Βαθμοί
A48: 1 | B48: ΠΑΠΑΛΕΞΗΣ ΓΕΩΡΓΙΟΣ | C48: Ε.Ο.Σ. ΑΘΗΝΩΝ | D48: 2008 | E48: ΠΑΜΠΑΙΔΕΣ Α | F48: 1 | G48: 100
A49: 2 | B49: ΠΑΠΑΔΗΜΗΤΡΙΟΥ ΕΥΑΓΓΕΛΟΣ | C49: Ε.Ο.Σ. ΑΘΗΝΩΝ | D49: 2008 | E49: ΠΑΜΠΑΙΔΕΣ Α | F49: 2 | G49: 80
A50: 3 | B50: ΑΘΑΝΑΣΑΚΗΣ ΕΜΜΑΝΟΥΗΛ | C50: Π.Ο.Σ. ΠΕΤΡΟΥΠΟΛΗΣ | D50: 2008 | E50: ΠΑΜΠΑΙΔΕΣ Α | F50: 3 | G50: 65
A51: 4 | B51: ΚΟΥΚΟΥΒΙΝΗΣ ΟΡΦΕΑΣ | C51: Π.Ο.Σ. ΠΕΤΡΟΥΠΟΛΗΣ | D51: 2008 | E51: ΠΑΜΠΑΙΔΕΣ Α | F51: 4 | G51: 55
A52: 5 | B52: ΑΚΡΙΤΙΔΗΣ ΘΕΟΔΩΡΟΣ | C52: Ε.Ο.Σ. ΞΑΝΘΗΣ | D52: 2009 | E52: ΠΑΜΠΑΙΔΕΣ Α | F52: 5 | G52: 51

Sheet Συλλόγοι lead
I1: α/α | J1: Σύλλογος | K1: βαθμοί
A2: 1 | B2: Ε.Ο.Σ. ΒΟΛΟΥ | F2: θεση | G2: βαθμοί | I2: 1 | J2: Ε.Ο.Σ. ΒΟΛΟΥ | K2: =G12 -> 539
A3: 1 | B3: ΣΠΥΡΟΥ ΑΡΤΕΜΙΣ | C3: Ε.Ο.Σ. ΒΟΛΟΥ | D3: 2013 | E3: ΠΑΓΚΟΡΑΣΙΔΕΣ Γ | F3: 4 | G3: 55 | I3: 2 | J3: Ε.Ο.Σ. ΑΧΑΡΝΩΝ | K3: =G23 -> 494
A4: 2 | B4: ΣΑΜΑΡΑ ΙΖΑΜΠΕΛΛΑ | C4: Ε.Ο.Σ. ΒΟΛΟΥ | D4: 2013 | E4: ΠΑΓΚΟΡΑΣΙΔΕΣ Γ | F4: 5 | G4: 51 | I4: 3 | J4: Ο.Σ. ΑΙΓΙΝΙΟΥ | K4: =G32 -> 383
A5: 3 | B5: ΓΕΡΟΒΑΣΙΛΗ ΟΛΓΑ | C5: Ε.Ο.Σ. ΒΟΛΟΥ | D5: 2011 | E5: ΠΑΓΚΟΡΑΣΙΔΕΣ Β | F5: 3 | G5: 65 | I5: 4 | J5: Ο.Λ. ΑΡΙΔΑΙΑΣ | K5: =G40 -> 245
A6: 4 | B6: ΜΑΓΓΙΤΣΗ ΜΑΡΙΑ | C6: Ε.Ο.Σ. ΒΟΛΟΥ | D6: 2011 | E6: ΠΑΓΚΟΡΑΣΙΔΕΣ Β | F6: 5 | G6: 51 | I6: 5 | J6: Ε.Ο.Σ. ΑΘΗΝΩΝ | K6: =G45 -> 180
A7: 5 | B7: ΚΟΠΑΝΟΥ ΕΥΓΕΝΕΙΑ | C7: Ε.Ο.Σ. ΒΟΛΟΥ | D7: 2011 | E7: ΠΑΓΚΟΡΑΣΙΔΕΣ Β | F7: 6 | G7: 47 | I7: 6 | J7: Π.Ο.Σ. ΠΕΤΡΟΥΠΟΛΗΣ | K7: =G51 -> 175
A8: 6 | B8: ΓΕΡΟΒΑΣΙΛΗ ΑΝΝΑ | C8: Ε.Ο.Σ. ΒΟΛΟΥ | D8: 2009 | E8: ΠΑΓΚΟΡΑΣΙΔΕΣ Α | F8: 7 | G8: 43 | I8: 7 | J8: Σ.Χ.Ο. ΚΑΒΑΛΑΣ | K8: =G56 -> 130
A9: 7 | B9: ΜΙΧΑΗΛΙΔΗΣ ΝΙΚΟΛΑΟΣ | C9: Ε.Ο.Σ. ΒΟΛΟΥ | D9: 2012 | E9: ΠΑΜΠΑΙΔΕΣ Γ | F9: 1 | G9: 100 | I9: 8 | J9: Ε.Π.Ο.Σ. ΦΥΛΗΣ | K9: =G60 -> 100
A10: 8 | B10: ΣΠΥΡΟΥ ΙΑΣΟΝΑΣ | C10: Ε.Ο.Σ. ΒΟΛΟΥ | D10: 2012 | E10: ΠΑΜΠΑΙΔΕΣ Γ | F10: 2 | G10: 80 | I10: 9 | J10: Ε.Ο.Σ. ΞΑΝΘΗΣ | K10: =G65 -> 98
A11: 9 | B11: ΕΥΑΓΓΕΛΟΥ ΕΜΜΑΝΟΥΗΛ | C11: Ε.Ο.Σ. ΒΟΛΟΥ | D11: 2010 | E11: ΠΑΜΠΑΙΔΕΣ Β | F11: 6 | G11: 47 | I11: 10 | J11: Ε.Ο.Σ. ΑΛΜΥΡΟΥ | K11: =G70 -> 80
G12: =SUM(G3:G11) -> 539 | I12: 11 | J12: Ε.Ο.Σ. ΚΟΜΟΤΗΝΗΣ | K12: =G74 -> 51
A14: 2 | B14: Ε.Ο.Σ. ΑΧΑΡΝΩΝ | F14: θεση | G14: βαθμοί
A15: 1 | B15: ΜΙΧΑΗΛΙΔΟΥ ΕΥΘΥΜΙΑ | C15: Ε.Ο.Σ. ΑΧΑΡΝΩΝ | D15: 2012 | E15: ΠΑΓΚΟΡΑΣΙΔΕΣ Γ | F15: 1 | G15: 100
A16: 2 | B16: ΚΑΡΑΓΕΩΡΓΟΠΟΥΛΟΥ ΜΑΡΛΕΝ | C16: Ε.Ο.Σ. ΑΧΑΡΝΩΝ | D16: 2013 | E16: ΠΑΓΚΟΡΑΣΙΔΕΣ Γ | F16: 2 | G16: 80
A17: 3 | B17: ΜΙΧΑΗΛΙΔΟΥ ΑΓΓΕΛΙΚΗ | C17: Ε.Ο.Σ. ΑΧΑΡΝΩΝ | D17: 2010 | E17: ΠΑΓΚΟΡΑΣΙΔΕΣ Β | F17: 2 | G17: 80
A18: 4 | B18: ΠΕΡΔΙΚΑΡΗ ΙΡΙΔΑ | C18: Ε.Ο.Σ. ΑΧΑΡΝΩΝ | D18: 2011 | E18: ΠΑΓΚΟΡΑΣΙΔΕΣ Β | F18: 8 | G18: 40
A19: 5 | B19: ΝΙΚΟΛΑΝΤΟΥ ΑΙΚΑΤΕΡΙΝΗ | C19: Ε.Ο.Σ. ΑΧΑΡΝΩΝ | D19: 2011 | E19: ΠΑΓΚΟΡΑΣΙΔΕΣ Β | F19: 9 | G19: 37
A20: 6 | B20: ΠΕΡΔΙΚΑΡΗ ΛΥΔΙΑ - ΘΕΟΔΩΡΑ | C20: Ε.Ο.Σ. ΑΧΑΡΝΩΝ | D20: 2009 | E20: ΠΑΓΚΟΡΑΣΙΔΕΣ Α | F20: 5 | G20: 51
A21: 7 | B21: ΜΑΥΡΟΥΔΗΣ ΝΙΚΟΛΑΟΣ | C21: Ε.Ο.Σ. ΑΧΑΡΝΩΝ | D21: 2012 | E21: ΠΑΜΠΑΙΔΕΣ Γ | F21: 4 | G21: 55
A22: 8 | B22: ΝΙΚΟΛΑΝΤΟΣ ΓΙΩΡΓΟΣ | C22: Ε.Ο.Σ. ΑΧΑΡΝΩΝ | D22: 2013 | E22: ΠΑΜΠΑΙΔΕΣ Γ | F22: 5 | G22: 51
G23: =SUM(G15:G22) -> 494
A25: 3 | B25: Ο.Σ. ΑΙΓΙΝΙΟΥ | F25: θεση | G25: βαθμοί
A26: 1 | B26: ΠΑΠΑΤΡΙΑΝΤΑΦΥΛΛΟΥ ΦΑΝΗ | C26: Ο.Σ. ΑΙΓΙΝΙΟΥ | D26: 2010 | E26: ΠΑΓΚΟΡΑΣΙΔΕΣ Β | F26: 7 | G26: 43
A27: 2 | B27: ΖΟΥΛΟΥΜΗ ΚΩΝΣΤΑΝΤΙΝΑ | C27: Ο.Σ. ΑΙΓΙΝΙΟΥ | D27: 2008 | E27: ΠΑΓΚΟΡΑΣΙΔΕΣ Α | F27: 8 | G27: 40
A28: 3 | B28: ΤΣΙΡΕΛΗΣ ΑΘΑΝΑΣΙΟΣ | C28: Ο.Σ. ΑΙΓΙΝΙΟΥ | D28: 2013 | E28: ΠΑΜΠΑΙΔΕΣ Γ | F28: 3 | G28: 65
A29: 4 | B29: ΑΠΟΣΤΟΛΟΠΟΥΛΟΣ ΙΩΑΝΝΗΣ | C29: Ο.Σ. ΑΙΓΙΝΙΟΥ | D29: 2010 | E29: ΠΑΜΠΑΙΔΕΣ Β | F29: 1 | G29: 100
A30: 5 | B30: ΣΠΑΝΟΣ ΝΙΚΟΛΑΟΣ | C30: Ο.Σ. ΑΙΓΙΝΙΟΥ | D30: 2010 | E30: ΠΑΜΠΑΙΔΕΣ Β | F30: 2 | G30: 80
A31: 6 | B31: ΖΟΥΛΟΥΜΗΣ ΑΝΑΣΤΑΣΙΟΣ | C31: Ο.Σ. ΑΙΓΙΝΙΟΥ | D31: 2010 | E31: ΠΑΜΠΑΙΔΕΣ Β | F31: 4 | G31: 55
G32: =SUM(G26:G31) -> 383
A34: 4 | B34: Ο.Λ. ΑΡΙΔΑΙΑΣ | F34: θεση | G34: βαθμοί
A35: 1 | B35: ΣΥΡΟΠΟΥΛΟΥ ΟΛΓΑ | C35: Ο.Λ. ΑΡΙΔΑΙΑΣ | D35: 2009 | E35: ΠΑΓΚΟΡΑΣΙΔΕΣ Α | F35: 1 | G35: 100
A36: 2 | B36: ΠΑΠΑΔΗΜΗΤΡΙΟΥ ΜΑΡΚΕΛΛΑ | C36: Ο.Λ. ΑΡΙΔΑΙΑΣ | D36: 2009 | E36: ΠΑΓΚΟΡΑΣΙΔΕΣ Α | F36: 2 | G36: 80
A37: 3 | B37: ΚΩΤΣΟΥ ΒΑΣΙΛΙΚΗ | C37: Ο.Λ. ΑΡΙΔΑΙΑΣ | D37: 2009 | E37: ΠΑΓΚΟΡΑΣΙΔΕΣ Α | F37: 3 | G37: 65
A38: 4 | B38: ΚΕΝΤΕΡΤΖΙΔΟΥ ΘΕΟΦΑΝΙΑ | C38: Ο.Λ. ΑΡΙΔΑΙΑΣ | D38: 2008 | E38: ΠΑΓΚΟΡΑΣΙΔΕΣ Α | F38: 4 | H38: 55
A39: 5 | B39: ΣΥΡΟΠΟΥΛΟΥ ΕΛΕΝΗ | C39: Ο.Λ. ΑΡΙΔΑΙΑΣ | D39: 2009 | E39: ΠΑΓΚΟΡΑΣΙΔΕΣ Α | F39: 6 | H39: 47
G40: =SUM(G35:G39) -> 245
A42: 5 | B42: Ε.Ο.Σ. ΑΘΗΝΩΝ | F42: θεση | G42: βαθμοί
A43: 1 | B43: ΠΑΠΑΛΕΞΗΣ ΓΕΩΡΓΙΟΣ | C43: Ε.Ο.Σ. ΑΘΗΝΩΝ | D43: 2008 | E43: ΠΑΜΠΑΙΔΕΣ Α | F43: 1 | G43: 100
A44: 2 | B44: ΠΑΠΑΔΗΜΗΤΡΙΟΥ ΕΥΑΓΓΕΛΟΣ | C44: Ε.Ο.Σ. ΑΘΗΝΩΝ | D44: 2008 | E44: ΠΑΜΠΑΙΔΕΣ Α | F44: 2 | G44: 80
G45: =SUM(G43:G44) -> 180
A47: 6 | B47: Π.Ο.Σ. ΠΕΤΡΟΥΠΟΛΗΣ | F47: θεση | G47: βαθμοί
A48: 1 | B48: ΛΥΤΙΝΑ ΣΩΤΗΡΙΑ | C48: Π.Ο.Σ. ΠΕΤΡΟΥΠΟΛΗΣ | D48: 2011 | E48: ΠΑΓΚΟΡΑΣΙΔΕΣ Β | F48: 4 | G48: 55
A49: 2 | B49: ΑΘΑΝΑΣΑΚΗΣ ΕΜΜΑΝΟΥΗΛ | C49: Π.Ο.Σ. ΠΕΤΡΟΥΠΟΛΗΣ | D49: 2008 | E49: ΠΑΜΠΑΙΔΕΣ Α | F49: 3 | G49: 65
A50: 3 | B50: ΚΟΥΚΟΥΒΙΝΗΣ ΟΡΦΕΑΣ | C50: Π.Ο.Σ. ΠΕΤΡΟΥΠΟΛΗΣ | D50: 2008 | E50: ΠΑΜΠΑΙΔΕΣ Α | F50: 4 | G50: 55
G51: =SUM(G48:G50) -> 175
A53: 7 | B53: Σ.Χ.Ο. ΚΑΒΑΛΑΣ | F53: θεση | G53: βαθμοί
A54: 1 | B54: ΒΑΚΟΝΔΙΟΥ ΜΥΡΤΩ | C54: Σ.Χ.Ο. ΚΑΒΑΛΑΣ | D54: 2013 | E54: ΠΑΓΚΟΡΑΣΙΔΕΣ Γ | F54: 3 | G54: 65
A55: 2 | B55: ΒΑΚΟΝΔΙΟΣ ΜΑΡΚΟΣ | C55: Σ.Χ.Ο. ΚΑΒΑΛΑΣ | D55: 2010 | E55: ΠΑΜΠΑΙΔΕΣ Β | F55: 3 | G55: 65
G56: =SUM(G54:G55) -> 130
A58: 8 | B58: Ε.Π.Ο.Σ. ΦΥΛΗΣ | F58: θεση | G58: βαθμοί
A59: 1 | B59: ΦΡΟΝΙΜΑΚΗ ΣΙΛΙΑ | C59: Ε.Π.Ο.Σ. ΦΥΛΗΣ | D59: 2010 | E59: ΠΑΓΚΟΡΑΣΙΔΕΣ Β | F59: 1 | G59: 100
G60: =SUM(G59) -> 100
A62: 9 | B62: Ε.Ο.Σ. ΞΑΝΘΗΣ | F62: θεση | G62: βαθμοί
A63: 1 | B63: ΑΚΡΙΤΙΔΗΣ ΕΥΣΤΡΑΤΙΟΣ | C63: Ε.Ο.Σ. ΞΑΝΘΗΣ | D63: 2012 | E63: ΠΑΜΠΑΙΔΕΣ Γ | F63: 6 | G63: 47
A64: 2 | B64: ΑΚΡΙΤΙΔΗΣ ΘΕΟΔΩΡΟΣ | C64: Ε.Ο.Σ. ΞΑΝΘΗΣ | D64: 2009 | E64: ΠΑΜΠΑΙΔΕΣ Α | F64: 5 | G64: 51
G65: =SUM(G63:G64) -> 98
A67: 10 | B67: Ε.Ο.Σ. ΑΛΜΥΡΟΥ | F67: θεση | G67: βαθμοί
A68: 1 | B68: ΒΕΡΓΑ ΦΩΤΕΙΝΗ | C68: Ε.Ο.Σ. ΑΛΜΥΡΟΥ | D68: 2008 | E68: ΠΑΓΚΟΡΑΣΙΔΕΣ Α | F68: 9 | G68: 37
A69: 2 | B69: ΤΖΙΑΦΑΣ ΒΑΣΙΛΕΙΟΣ | C69: Ε.Ο.Σ. ΑΛΜΥΡΟΥ | D69: 2011 | E69: ΠΑΜΠΑΙΔΕΣ Β | F69: 7 | G69: 43
G70: =SUM(G68:G69) -> 80
A72: 11 | B72: Ε.Ο.Σ. ΚΟΜΟΤΗΝΗΣ | F72: θεση | G72: βαθμοί
A73: 1 | B73: ΣΤΑΝΙΤΣΑΣ ΑΝΔΡΕΑΣ | C73: Ε.Ο.Σ. ΚΟΜΟΤΗΝΗΣ | D73: 2010 | E73: ΠΑΜΠΑΙΔΕΣ Β | F73: 5 | G73: 51
G74: =SUM(G73) -> 51

Sheet μετάλλια lead
B2: Αγώνας Δυσκολίας Βόλος 3/7/21
B3: Πίνακας Μεταλλίων
A4: α/α | B4: Σύλλογος | C4: Χρυσά | D4: Αργυρά | E4: Χαλκινα | F4: Σύνολο
A5: 1 | B5: Ο.Λ. ΑΡΙΔΑΙΑΣ | C5: 1 | D5: 1 | E5: 1 | F5: =SUM(C5:E5) -> 3
A6: 2 | B6: Ο.Σ. ΑΙΓΙΝΙΟΥ | C6: 1 | D6: 1 | E6: 1 | F6: =SUM(C6:E6) -> 3
A7: 3 | B7: Ε.Ο.Σ. ΑΧΑΡΝΩΝ | C7: 1 | D7: 2 | F7: =SUM(C7:E7) -> 3
A8: 4 | B8: Ε.Ο.Σ. ΒΟΛΟΥ | C8: 1 | D8: 1 | E8: 1 | F8: =SUM(C8:E8) -> 3
A9: 5 | B9: Ε.Ο.Σ. ΑΘΗΝΩΝ | C9: 1 | D9: 1 | F9: =SUM(C9:E9) -> 2
A10: 6 | B10: Ε.Π.Ο.Σ. ΦΥΛΗΣ | C10: 1 | F10: =SUM(C10:E10) -> 1
A11: 7 | B11: Σ.Χ.Ο. ΚΑΒΑΛΑΣ | E11: 2 | F11: =SUM(C11:E11) -> 2
A12: 8 | B12: Π.Ο.Σ. ΠΕΤΡΟΥΠΟΛΗΣ | E12: 1 | F12: =SUM(C12:E12) -> 1

Sheet Boulder
B2: ΠΑΓΚΟΡΑΣΙΔΕΣ Γ | E2: Θέση | F2: Βαθμοί
A3: 1 | B3: ΜΗΧΑΗΛΙΔΟΥ ΕΥΘΥΜΙΑ | C3: Ε.Ο.Σ. ΑΧΑΡΝΩΝ | D3: ΠΑΓΚΟΡΑΣΙΔΕΣ Γ | E3: 1 | F3: 100
A4: 2 | B4: ΚΑΡΑΓΕΩΡΓΟΠΟΥΛΟΥ ΜΑΡΛΕΝ | C4: Ε.Ο.Σ. ΑΧΑΡΝΩΝ | D4: ΠΑΓΚΟΡΑΣΙΔΕΣ Γ | E4: 2 | F4: 80
A5: 3 | B5: ΒΑΚΟΝΔΙΟΥ ΜΥΡΤΩ | C5: Σ.Χ.Ο. ΚΑΒΑΛΑΣ | D5: ΠΑΓΚΟΡΑΣΙΔΕΣ Γ | E5: 3 | F5: 65
A6: 4 | B6: ΣΠΥΡΟΥ ΑΡΤΕΜΙΣ | C6: Ε.Ο.Σ. ΒΟΛΟΥ | D6: ΠΑΓΚΟΡΑΣΙΔΕΣ Γ | E6: 4 | F6: 55
A7: 5 | B7: ΣΑΜΑΡΑ ΙΖΑΜΠΕΛΛΑ | C7: Ε.Ο.Σ. ΒΟΛΟΥ | D7: ΠΑΓΚΟΡΑΣΙΔΕΣ Γ | E7: 5 | F7: 51
B9: ΠΑΓΚΟΡΑΣΙΔΕΣ Β | E9: Θέση | F9: Βαθμοί
A10: 1 | B10: ΜΙΧΑΗΛΙΔΟΥ ΑΓΓΕΛΙΚΗ | C10: Ε.Ο.Σ. ΑΧΑΡΝΩΝ | D10: ΠΑΓΚΟΡΑΣΙΔΕΣ Β | E10: 1 | F10: 100
A11: 2 | B11: ΦΡΟΝΙΜΑΚΗ ΣΙΛΙΑ | C11: Ε.Π.Ο.Σ. ΦΥΛΗΣ | D11: ΠΑΓΚΟΡΑΣΙΔΕΣ Β | E11: 2 | F11: 80
A12: 3 | B12: ΚΑΒΒΑΔΙΑ ΕΙΡΗΝΗ ΑΝΝΑ | C12: Ε.Ο.Σ. ΑΘΗΝΩΝ | D12: ΠΑΓΚΟΡΑΣΙΔΕΣ Β | E12: 3 | F12: 65
A13: 4 | B13: ΠΑΠΑΤΡΙΑΝΤΑΦΥΛΛΟΥ ΦΑΝΗ | C13: Ο.Σ. ΑΙΓΙΝΙΟΥ | D13: ΠΑΓΚΟΡΑΣΙΔΕΣ Β | E13: 4 | F13: 55
A14: 5 | B14: ΛΥΤΙΝΑ ΣΩΤΗΡΙΑ | C14: Π.Ο.Σ. ΠΕΤΡΟΥΠΟΛΗΣ | D14: ΠΑΓΚΟΡΑΣΙΔΕΣ Β | E14: 5 | F14: 51
A15: 6 | B15: ΓΕΡΟΒΑΣΙΛΗ ΟΛΓΑ | C15: Ε.Ο.Σ. ΒΟΛΟΥ | D15: ΠΑΓΚΟΡΑΣΙΔΕΣ Β | E15: 6 | F15: 47
A16: 7 | B16: ΚΟΠΑΝΟΥ ΕΥΓΕΝΕΙΑ | C16: Ε.Ο.Σ. ΒΟΛΟΥ | D16: ΠΑΓΚΟΡΑΣΙΔΕΣ Β | E16: 7 | F16: 43
A17: 8 | B17: ΝΙΚΟΛΑΝΤΟΥ ΑΙΚΑΤΕΡΙΝΗ | C17: Ε.Ο.Σ. ΑΧΑΡΝΩΝ | D17: ΠΑΓΚΟΡΑΣΙΔΕΣ Β | E17: 8 | F17: 40
A18: 9 | B18: ΜΑΓΓΙΤΣΗ ΜΑΡΙΑ | C18: Ε.Ο.Σ. ΒΟΛΟΥ | D18: ΠΑΓΚΟΡΑΣΙΔΕΣ Β | E18: 9 | F18: 37
A19: 10 | B19: ΒΑΓΕΝΑ ΑΙΚΑΤΕΡΙΝΗ | C19: Ε.Π.Ο.Σ. ΦΥΛΗΣ | D19: ΠΑΓΚΟΡΑΣΙΔΕΣ Β | E19: 10 | F19: 34
A20: 11 | B20: ΠΕΡΔΙΚΑΡΗ ΙΡΙΔΑ | C20: Ε.Ο.Σ. ΑΧΑΡΝΩΝ | D20: ΠΑΓΚΟΡΑΣΙΔΕΣ Β | E20: 11 | F20: 31
A21: 12 | B21: ΠΕΦΑΝΗ ΑΡΤΕΜΙΣ | C21: Ε.Π.Ο.Σ. ΦΥΛΗΣ | D21: ΠΑΓΚΟΡΑΣΙΔΕΣ Β | E21: 12 | F21: 28
B23: ΠΑΓΚΟΡΑΣΙΔΕΣ Α | E23: Θέση | F23: Βαθμοί
A24: 1 | B24: ΣΥΡΟΠΟΥΛΟΥ ΕΛΕΝΗ | C24: Ο.Λ. ΑΡΙΔΑΙΑΣ | D24: ΠΑΓΚΟΡΑΣΙΔΕΣ Α | E24: 1 | F24: 100
A25: 2 | B25: ΠΑΠΑΔΗΜΗΤΡΙΟΥ ΜΑΡΚΕΛΛΑ | C25: Ο.Λ. ΑΡΙΔΑΙΑΣ | D25: ΠΑΓΚΟΡΑΣΙΔΕΣ Α | E25: 2 | F25: 80
A26: 3 | B26: ΠΕΡΔΙΚΑΡΗ ΛΥΔΙΑ - ΘΕΟΔΩΡΑ | C26: Ε.Ο.Σ. ΑΧΑΡΝΩΝ | D26: ΠΑΓΚΟΡΑΣΙΔΕΣ Α | E26: 3 | F26: 65
A27: 4 | B27: ΒΕΡΓΑ ΦΩΤΕΙΝΗ | C27: Ε.Ο.Σ. ΑΛΜΥΡΟΥ | D27: ΠΑΓΚΟΡΑΣΙΔΕΣ Α | E27: 4 | F27: 51
A28: 4 | B28: ΣΥΡΟΠΟΥΛΟΥ ΟΛΓΑ | C28: Ο.Λ. ΑΡΙΔΑΙΑΣ | D28: ΠΑΓΚΟΡΑΣΙΔΕΣ Α | E28: 4 | F28: 51
A29: 4 | B29: ΚΕΝΤΕΡΤΖΙΔΟΥ ΘΕΟΦΑΝΙΑ | C29: Ο.Λ. ΑΡΙΔΑΙΑΣ | D29: ΠΑΓΚΟΡΑΣΙΔΕΣ Α | E29: 4 | F29: 51
A30: 7 | B30: ΚΩΤΣΟΥ ΒΑΣΙΛΙΚΗ | C30: Ο.Λ. ΑΡΙΔΑΙΑΣ | D30: ΠΑΓΚΟΡΑΣΙΔΕΣ Α | E30: 7 | F30: 43
A31: 8 | B31: ΓΕΡΟΒΑΣΙΛΗ ΑΝΝΑ | C31: Ε.Ο.Σ. ΒΟΛΟΥ | D31: ΠΑΓΚΟΡΑΣΙΔΕΣ Α | E31: 8 | F31: 40
A32: 9 | B32: ΖΟΥΛΟΥΜΗ ΚΩΝΣΤΑΝΤΙΝΑ | C32: Ο.Σ. ΑΙΓΙΝΙΟΥ | D32: ΠΑΓΚΟΡΑΣΙΔΕΣ Α | E32: 9 | F32: 37
B34: ΠΑΜΠΑΙΔΕΣ Γ | E34: Θέση | F34: Βαθμοί
A35: 1 | B35: ΜΙΧΑΗΛΙΔΗΣ ΝΙΚΟΛΑΟΣ | C35: Ε.Ο.Σ. ΒΟΛΟΥ | D35: ΠΑΜΠΑΙΔΕΣ Γ | E35: 1 | F35: 100
A36: 2 | B36: ΣΠΥΡΟΥ ΙΑΣΟΝΑΣ | C36: Ε.Ο.Σ. ΒΟΛΟΥ | D36: ΠΑΜΠΑΙΔΕΣ Γ | E36: 2 | F36: 80
A37: 3 | B37: ΤΣΙΡΕΛΗΣ ΑΘΑΝΑΣΙΟΣ | C37: Ο.Σ. ΑΙΓΙΝΙΟΥ | D37: ΠΑΜΠΑΙΔΕΣ Γ | E37: 3 | F37: 65
A38: 4 | B38: ΜΑΥΡΟΥΔΗΣ ΝΙΚΟΛΑΟΣ | C38: Ε.Ο.Σ. ΑΧΑΡΝΩΝ | D38: ΠΑΜΠΑΙΔΕΣ Γ | E38: 4 | F38: 55
A39: 5 | B39: ΝΙΚΟΛΑΝΤΟΣ ΓΙΩΡΓΟΣ | C39: Ε.Ο.Σ. ΑΧΑΡΝΩΝ | D39: ΠΑΜΠΑΙΔΕΣ Γ | E39: 5 | F39: 51
A40: 6 | B40: ΑΚΡΙΤΙΔΗΣ ΕΥΣΤΡΑΤΙΟΣ | C40: Ε.Ο.Σ. ΞΑΝΘΗΣ | D40: ΠΑΜΠΑΙΔΕΣ Γ | E40: 6 | F40: 47
B42: ΠΑΜΠΑΙΔΕΣ Β | E42: Θέση | F42: Βαθμοί
A43: 1 | B43: ΒΑΚΟΝΔΙΟΣ ΜΑΡΚΟΣ | C43: Σ.Χ.Ο. ΚΑΒΑΛΑΣ | D43: ΠΑΜΠΑΙΔΕΣ Β | E43: 1 | F43: 100
A44: 2 | B44: ΑΠΟΣΤΟΛΟΠΟΥΛΟΣ ΙΩΑΝΝΗΣ | C44: Ο.Σ. ΑΙΓΙΝΙΟΥ | D44: ΠΑΜΠΑΙΔΕΣ Β | E44: 2 | F44: 80
A45: 3 | B45: ΣΠΑΝΟΣ ΝΙΚΟΛΑΟΣ | C45: Ο.Σ. ΑΙΓΙΝΙΟΥ | D45: ΠΑΜΠΑΙΔΕΣ Β | E45: 3 | F45: 65
A46: 4 | B46: ΖΟΥΛΟΥΜΗΣ ΑΝΑΣΤΑΣΙΟΣ | C46: Ο.Σ. ΑΙΓΙΝΙΟΥ | D46: ΠΑΜΠΑΙΔΕΣ Β | E46: 4 | F46: 55
A47: 5 | B47: ΤΖΙΑΦΑΣ ΒΑΣΙΛΕΙΟΣ | C47: Ε.Ο.Σ. ΑΛΜΥΡΟΥ | D47: ΠΑΜΠΑΙΔΕΣ Β | E47: 5 | F47: 51
A48: 6 | B48: ΕΥΑΓΓΕΛΟΥ ΕΜΜΑΝΟΥΗΛ | C48: Ε.Ο.Σ. ΒΟΛΟΥ | D48: ΠΑΜΠΑΙΔΕΣ Β | E48: 6 | F48: 47
A49: 7 | B49: ΣΤΑΝΙΤΣΑΣ ΑΝΔΡΕΑΣ | C49: Ε.Ο.Σ. ΚΟΜΟΤΗΝΗΣ | D49: ΠΑΜΠΑΙΔΕΣ Β | E49: 7 | F49: 43
B51: ΠΑΜΠΑΙΔΕΣ Α | E51: Θέση | F51: Βαθμοί
A52: 1 | B52: ΠΑΠΑΔΗΜΗΤΡΙΟΥ ΕΥΑΓΓΕΛΟΣ | C52: Ε.Ο.Σ. ΑΘΗΝΩΝ | D52: ΠΑΜΠΑΙΔΕΣ Α | E52: 1 | F52: 100
A53: 2 | B53: ΠΑΠΑΛΕΞΗΣ ΓΕΩΡΓΙΟΣ | C53: Ε.Ο.Σ. ΑΘΗΝΩΝ | D53: ΠΑΜΠΑΙΔΕΣ Α | E53: 2 | F53: 80
A54: 3 | B54: ΚΟΥΚΟΥΒΙΝΗΣ ΟΡΦΕΑΣ | C54: Π.Ο.Σ. ΠΕΤΡΟΥΠΟΛΗΣ | D54: ΠΑΜΠΑΙΔΕΣ Α | E54: 3 | F54: 60
A55: 3 | B55: ΑΘΑΝΑΣΑΚΗΣ ΕΜΜΑΝΟΥΗΛ | C55: Π.Ο.Σ. ΠΕΤΡΟΥΠΟΛΗΣ | D55: ΠΑΜΠΑΙΔΕΣ Α | E55: 3 | F55: 60
A56: 5 | B56: ΑΚΡΙΤΙΔΗΣ ΘΕΟΔΩΡΟΣ | C56: Ε.Ο.Σ. ΞΑΝΘΗΣ | D56: ΠΑΜΠΑΙΔΕΣ Α | E56: 5 | F56: 51

Sheet boulder Συλλόγοι
H1: α/α | I1: Σύλλογος | J1: βαθμοί
A2: 1 | B2: Ε.Ο.Σ. ΑΧΑΡΝΩΝ | E2: θεση | F2: βαθμοί | H2: 1 | I2: Ε.Ο.Σ. ΑΧΑΡΝΩΝ | J2: =F11 -> 522
A3: 1 | B3: ΜΗΧΑΗΛΙΔΟΥ ΕΥΘΥΜΙΑ | C3: Ε.Ο.Σ. ΑΧΑΡΝΩΝ | D3: ΠΑΓΚΟΡΑΣΙΔΕΣ Γ | E3: 1 | F3: 100 | H3: 2 | I3: Ε.Ο.Σ. ΒΟΛΟΥ | J3: =F23 -> 500
A4: 2 | B4: ΚΑΡΑΓΕΩΡΓΟΠΟΥΛΟΥ ΜΑΡΛΕΝ | C4: Ε.Ο.Σ. ΑΧΑΡΝΩΝ | D4: ΠΑΓΚΟΡΑΣΙΔΕΣ Γ | E4: 2 | F4: 80 | H4: 3 | I4: Ο.Σ. ΑΙΓΙΝΙΟΥ | J4: =F32 -> 357
A5: 3 | B5: ΜΙΧΑΗΛΙΔΟΥ ΑΓΓΕΛΙΚΗ | C5: Ε.Ο.Σ. ΑΧΑΡΝΩΝ | D5: ΠΑΓΚΟΡΑΣΙΔΕΣ Β | E5: 1 | F5: 100 | H5: 4 | I5: Ε.Ο.Σ. ΑΘΗΝΩΝ | J5: =F38 -> 245
A6: 4 | B6: ΝΙΚΟΛΑΝΤΟΥ ΑΙΚΑΤΕΡΙΝΗ | C6: Ε.Ο.Σ. ΑΧΑΡΝΩΝ | D6: ΠΑΓΚΟΡΑΣΙΔΕΣ Β | E6: 8 | F6: 40 | H6: 5 | I6: Ο.Λ. ΑΡΙΔΑΙΑΣ | J6: =F46 -> 231
A7: 5 | B7: ΠΕΡΔΙΚΑΡΗ ΙΡΙΔΑ | C7: Ε.Ο.Σ. ΑΧΑΡΝΩΝ | D7: ΠΑΓΚΟΡΑΣΙΔΕΣ Β | E7: 11 | F7: 31 | H7: 6 | I7: Π.Ο.Σ. ΠΕΤΡΟΥΠΟΛΗΣ | J7: =F52 -> 171
A8: 6 | B8: ΠΕΡΔΙΚΑΡΗ ΛΥΔΙΑ - ΘΕΟΔΩΡΑ | C8: Ε.Ο.Σ. ΑΧΑΡΝΩΝ | D8: ΠΑΓΚΟΡΑΣΙΔΕΣ Α | E8: 3 | F8: 65 | H8: 7 | I8: Σ.Χ.Ο. ΚΑΒΑΛΑΣ | J8: =F57 -> 165
A9: 7 | B9: ΜΑΥΡΟΥΔΗΣ ΝΙΚΟΛΑΟΣ | C9: Ε.Ο.Σ. ΑΧΑΡΝΩΝ | D9: ΠΑΜΠΑΙΔΕΣ Γ | E9: 4 | F9: 55 | H9: 8 | I9: Ε.Π.Ο.Σ. ΦΥΛΗΣ | J9: =F63 -> 142
A10: 8 | B10: ΝΙΚΟΛΑΝΤΟΣ ΓΙΩΡΓΟΣ | C10: Ε.Ο.Σ. ΑΧΑΡΝΩΝ | D10: ΠΑΜΠΑΙΔΕΣ Γ | E10: 5 | F10: 51 | H10: 9 | I10: Ε.Ο.Σ. ΑΛΜΥΡΟΥ | J10: =F68 -> 102
F11: =SUM(F3:F10) -> 522 | H11: 10 | I11: Ε.Ο.Σ. ΞΑΝΘΗΣ | J11: =F73 -> 98
H12: 11 | I12: Ε.Ο.Σ. ΚΟΜΟΤΗΝΗΣ | J12: =F77 -> 43
A13: 2 | B13: Ε.Ο.Σ. ΒΟΛΟΥ | E13: θεση | F13: βαθμοί
A14: 1 | B14: ΣΠΥΡΟΥ ΑΡΤΕΜΙΣ | C14: Ε.Ο.Σ. ΒΟΛΟΥ | D14: ΠΑΓΚΟΡΑΣΙΔΕΣ Γ | E14: 4 | F14: 55
A15: 2 | B15: ΣΑΜΑΡΑ ΙΖΑΜΠΕΛΛΑ | C15: Ε.Ο.Σ. ΒΟΛΟΥ | D15: ΠΑΓΚΟΡΑΣΙΔΕΣ Γ | E15: 5 | F15: 51
A16: 3 | B16: ΓΕΡΟΒΑΣΙΛΗ ΟΛΓΑ | C16: Ε.Ο.Σ. ΒΟΛΟΥ | D16: ΠΑΓΚΟΡΑΣΙΔΕΣ Β | E16: 6 | F16: 47
A17: 4 | B17: ΚΟΠΑΝΟΥ ΕΥΓΕΝΕΙΑ | C17: Ε.Ο.Σ. ΒΟΛΟΥ | D17: ΠΑΓΚΟΡΑΣΙΔΕΣ Β | E17: 7 | F17: 43
A18: 5 | B18: ΜΑΓΓΙΤΣΗ ΜΑΡΙΑ | C18: Ε.Ο.Σ. ΒΟΛΟΥ | D18: ΠΑΓΚΟΡΑΣΙΔΕΣ Β | E18: 9 | F18: 37
A19: 6 | B19: ΓΕΡΟΒΑΣΙΛΗ ΑΝΝΑ | C19: Ε.Ο.Σ. ΒΟΛΟΥ | D19: ΠΑΓΚΟΡΑΣΙΔΕΣ Α | E19: 8 | F19: 40
A20: 7 | B20: ΜΙΧΑΗΛΙΔΗΣ ΝΙΚΟΛΑΟΣ | C20: Ε.Ο.Σ. ΒΟΛΟΥ | D20: ΠΑΜΠΑΙΔΕΣ Γ | E20: 1 | F20: 100
A21: 8 | B21: ΣΠΥΡΟΥ ΙΑΣΟΝΑΣ | C21: Ε.Ο.Σ. ΒΟΛΟΥ | D21: ΠΑΜΠΑΙΔΕΣ Γ | E21: 2 | F21: 80
A22: 9 | B22: ΕΥΑΓΓΕΛΟΥ ΕΜΜΑΝΟΥΗΛ | C22: Ε.Ο.Σ. ΒΟΛΟΥ | D22: ΠΑΜΠΑΙΔΕΣ Β | E22: 6 | F22: 47
F23: =SUM(F14:F22) -> 500
A25: 3 | B25: Ο.Σ. ΑΙΓΙΝΙΟΥ | E25: θεση | F25: βαθμοί
A26: 1 | B26: ΠΑΠΑΤΡΙΑΝΤΑΦΥΛΛΟΥ ΦΑΝΗ | C26: Ο.Σ. ΑΙΓΙΝΙΟΥ | D26: ΠΑΓΚΟΡΑΣΙΔΕΣ Β | E26: 4 | F26: 55
A27: 2 | B27: ΖΟΥΛΟΥΜΗ ΚΩΝΣΤΑΝΤΙΝΑ | C27: Ο.Σ. ΑΙΓΙΝΙΟΥ | D27: ΠΑΓΚΟΡΑΣΙΔΕΣ Α | E27: 9 | F27: 37
A28: 3 | B28: ΤΣΙΡΕΛΗΣ ΑΘΑΝΑΣΙΟΣ | C28: Ο.Σ. ΑΙΓΙΝΙΟΥ | D28: ΠΑΜΠΑΙΔΕΣ Γ | E28: 3 | F28: 65
A29: 4 | B29: ΑΠΟΣΤΟΛΟΠΟΥΛΟΣ ΙΩΑΝΝΗΣ | C29: Ο.Σ. ΑΙΓΙΝΙΟΥ | D29: ΠΑΜΠΑΙΔΕΣ Β | E29: 2 | F29: 80
A30: 5 | B30: ΣΠΑΝΟΣ ΝΙΚΟΛΑΟΣ | C30: Ο.Σ. ΑΙΓΙΝΙΟΥ | D30: ΠΑΜΠΑΙΔΕΣ Β | E30: 3 | F30: 65
A31: 6 | B31: ΖΟΥΛΟΥΜΗΣ ΑΝΑΣΤΑΣΙΟΣ | C31: Ο.Σ. ΑΙΓΙΝΙΟΥ | D31: ΠΑΜΠΑΙΔΕΣ Β | E31: 4 | F31: 55
F32: =SUM(F26:F31) -> 357
A34: 4 | B34: Ε.Ο.Σ. ΑΘΗΝΩΝ | E34: θεση | F34: βαθμοί
A35: 1 | B35: ΚΑΒΒΑΔΙΑ ΕΙΡΗΝΗ ΑΝΝΑ | C35: Ε.Ο.Σ. ΑΘΗΝΩΝ | D35: ΠΑΓΚΟΡΑΣΙΔΕΣ Β | E35: 3 | F35: 65
A36: 2 | B36: ΠΑΠΑΔΗΜΗΤΡΙΟΥ ΕΥΑΓΓΕΛΟΣ | C36: Ε.Ο.Σ. ΑΘΗΝΩΝ | D36: ΠΑΜΠΑΙΔΕΣ Α | E36: 1 | F36: 100
A37: 3 | B37: ΠΑΠΑΛΕΞΗΣ ΓΕΩΡΓΙΟΣ | C37: Ε.Ο.Σ. ΑΘΗΝΩΝ | D37: ΠΑΜΠΑΙΔΕΣ Α | E37: 2 | F37: 80
F38: =SUM(F35:F37) -> 245
A40: 5 | B40: Ο.Λ. ΑΡΙΔΑΙΑΣ | E40: θεση | F40: βαθμοί
A41: 1 | B41: ΣΥΡΟΠΟΥΛΟΥ ΕΛΕΝΗ | C41: Ο.Λ. ΑΡΙΔΑΙΑΣ | D41: ΠΑΓΚΟΡΑΣΙΔΕΣ Α | E41: 1 | F41: 100
A42: 2 | B42: ΠΑΠΑΔΗΜΗΤΡΙΟΥ ΜΑΡΚΕΛΛΑ | C42: Ο.Λ. ΑΡΙΔΑΙΑΣ | D42: ΠΑΓΚΟΡΑΣΙΔΕΣ Α | E42: 2 | F42: 80
A43: 3 | B43: ΣΥΡΟΠΟΥΛΟΥ ΟΛΓΑ | C43: Ο.Λ. ΑΡΙΔΑΙΑΣ | D43: ΠΑΓΚΟΡΑΣΙΔΕΣ Α | E43: 4 | F43: 51
A44: 4 | B44: ΚΕΝΤΕΡΤΖΙΔΟΥ ΘΕΟΦΑΝΙΑ | C44: Ο.Λ. ΑΡΙΔΑΙΑΣ | D44: ΠΑΓΚΟΡΑΣΙΔΕΣ Α | E44: 4 | G44: 51
A45: 5 | B45: ΚΩΤΣΟΥ ΒΑΣΙΛΙΚΗ | C45: Ο.Λ. ΑΡΙΔΑΙΑΣ | D45: ΠΑΓΚΟΡΑΣΙΔΕΣ Α | E45: 7 | G45: 43
F46: =SUM(F41:F45) -> 231
A48: 6 | B48: Π.Ο.Σ. ΠΕΤΡΟΥΠΟΛΗΣ | E48: θεση | F48: βαθμοί
A49: 1 | B49: ΛΥΤΙΝΑ ΣΩΤΗΡΙΑ | C49: Π.Ο.Σ. ΠΕΤΡΟΥΠΟΛΗΣ | D49: ΠΑΓΚΟΡΑΣΙΔΕΣ Β | E49: 5 | F49: 51
A50: 2 | B50: ΚΟΥΚΟΥΒΙΝΗΣ ΟΡΦΕΑΣ | C50: Π.Ο.Σ. ΠΕΤΡΟΥΠΟΛΗΣ | D50: ΠΑΜΠΑΙΔΕΣ Α | E50: 3 | F50: 60
A51: 3 | B51: ΑΘΑΝΑΣΑΚΗΣ ΕΜΜΑΝΟΥΗΛ | C51: Π.Ο.Σ. ΠΕΤΡΟΥΠΟΛΗΣ | D51: ΠΑΜΠΑΙΔΕΣ Α | E51: 3 | F51: 60
F52: =SUM(F49:F51) -> 171
A54: 7 | B54: Σ.Χ.Ο. ΚΑΒΑΛΑΣ | E54: θεση | F54: βαθμοί
A55: 1 | B55: ΒΑΚΟΝΔΙΟΥ ΜΥΡΤΩ | C55: Σ.Χ.Ο. ΚΑΒΑΛΑΣ | D55: ΠΑΓΚΟΡΑΣΙΔΕΣ Γ | E55: 3 | F55: 65
A56: 2 | B56: ΒΑΚΟΝΔΙΟΣ ΜΑΡΚΟΣ | C56: Σ.Χ.Ο. ΚΑΒΑΛΑΣ | D56: ΠΑΜΠΑΙΔΕΣ Β | E56: 1 | F56: 100
F57: =SUM(F55:F56) -> 165
A59: 8 | B59: Ε.Π.Ο.Σ. ΦΥΛΗΣ | E59: θεση | F59: βαθμοί
A60: 1 | B60: ΦΡΟΝΙΜΑΚΗ ΣΙΛΙΑ | C60: Ε.Π.Ο.Σ. ΦΥΛΗΣ | D60: ΠΑΓΚΟΡΑΣΙΔΕΣ Β | E60: 2 | F60: 80
A61: 2 | B61: ΒΑΓΕΝΑ ΑΙΚΑΤΕΡΙΝΗ | C61: Ε.Π.Ο.Σ. ΦΥΛΗΣ | D61: ΠΑΓΚΟΡΑΣΙΔΕΣ Β | E61: 10 | F61: 34
A62: 3 | B62: ΠΕΦΑΝΗ ΑΡΤΕΜΙΣ | C62: Ε.Π.Ο.Σ. ΦΥΛΗΣ | D62: ΠΑΓΚΟΡΑΣΙΔΕΣ Β | E62: 12 | F62: 28
F63: =SUM(F60:F62) -> 142
A65: 9 | B65: Ε.Ο.Σ. ΑΛΜΥΡΟΥ | E65: θεση | F65: βαθμοί
A66: 1 | B66: ΒΕΡΓΑ ΦΩΤΕΙΝΗ | C66: Ε.Ο.Σ. ΑΛΜΥΡΟΥ | D66: ΠΑΓΚΟΡΑΣΙΔΕΣ Α | E66: 4 | F66: 51
A67: 2 | B67: ΤΖΙΑΦΑΣ ΒΑΣΙΛΕΙΟΣ | C67: Ε.Ο.Σ. ΑΛΜΥΡΟΥ | D67: ΠΑΜΠΑΙΔΕΣ Β | E67: 5 | F67: 51
F68: =SUM(F66:F67) -> 102
A70: 10 | B70: Ε.Ο.Σ. ΞΑΝΘΗΣ | E70: θεση | F70: βαθμοί
A71: 1 | B71: ΑΚΡΙΤΙΔΗΣ ΕΥΣΤΡΑΤΙΟΣ | C71: Ε.Ο.Σ. ΞΑΝΘΗΣ | D71: ΠΑΜΠΑΙΔΕΣ Γ | E71: 6 | F71: 47
A72: 2 | B72: ΑΚΡΙΤΙΔΗΣ ΘΕΟΔΩΡΟΣ | C72: Ε.Ο.Σ. ΞΑΝΘΗΣ | D72: ΠΑΜΠΑΙΔΕΣ Α | E72: 5 | F72: 51
F73: =SUM(F71:F72) -> 98
A75: 11 | B75: Ε.Ο.Σ. ΚΟΜΟΤΗΝΗΣ | E75: θεση | F75: βαθμοί
A76: 1 | B76: ΣΤΑΝΙΤΣΑΣ ΑΝΔΡΕΑΣ | C76: Ε.Ο.Σ. ΚΟΜΟΤΗΝΗΣ | D76: ΠΑΜΠΑΙΔΕΣ Β | E76: 7 | F76: 43
F77: =SUM(F76) -> 43

Sheet boulder μετάλλια
B2: Αγώνας Boulder Αλμυρός
B3: Πίνακας Μεταλλίων
A4: α/α | B4: Σύλλογος | C4: Χρυσά | D4: Αργυρά | E4: Χαλκινα | F4: Σύνολο
A5: 1 | B5: Ε.Ο.Σ. ΑΧΑΡΝΩΝ | C5: 2 | D5: 1 | E5: 1 | F5: =SUM(C5:E5) -> 4
A6: 2 | B6: Ε.Ο.Σ. ΑΘΗΝΩΝ | C6: 1 | D6: 1 | E6: 1 | F6: =SUM(C6:E6) -> 3
A7: 3 | B7: Ο.Λ. ΑΡΙΔΑΙΑΣ | C7: 1 | D7: 1 | F7: =SUM(C7:E7) -> 2
A8: 4 | B8: Ε.Ο.Σ. ΒΟΛΟΥ | C8: 1 | D8: 1 | F8: =SUM(C8:E8) -> 2
A9: 5 | B9: Σ.Χ.Ο. ΚΑΒΑΛΑΣ | C9: 1 | E9: 1 | F9: =SUM(C9:E9) -> 2
A10: 6 | B10: Ο.Σ. ΑΙΓΙΝΙΟΥ | D10: 1 | E10: 2 | F10: =SUM(C10:E10) -> 3
A11: 7 | B11: Ε.Π.Ο.Σ. ΦΥΛΗΣ | D11: 1 | F11: =SUM(C11:E11) -> 1
A12: 8 | B12: Π.Ο.Σ. ΠΕΤΡΟΥΠΟΛΗΣ | E12: 2 | F12: =SUM(C12:E12) -> 2
