Workbook

Sheet Βαθμολογία 
A2: Κατάταξη | B2: Σύλλογος | C2: Βόλος Δυσκολία 3/7/21 | D2: boulder Αλμυρός 4/7/21 | E2: Δυσκολία Κομοτηνη Α αγώνας 25-26/9/21 | F2: boulder OAKA 16-17/10/21 | G2: Δυσκολία Βόλος Β Αγώνας 23-24/10/21 | H2: Σύνολο | K2: Θέση | L2: Βαθμοί | M2: Σε ισοπαλίες προσθετονται οι βαθμοί στη σειρά και διαιρούνται με τον αριθμό των αθλητων που ισοβαθμούν. Γι ΄ αυτό προκύπτουν δεκαδικά | N2: Σε κάθε κατηγορία υπολογίζονται οι τρεις καλύτεροι αθλητές από ένα Σύλλογο. Αν έχει 4, 5 ή και παραπάνω αθλητες σε μία κατηγορία μόνο οι τρεις καλύτεροι δίνουν βαθμολογία στον Σύλλογο
A3: 1 | B3: Ε.Ο.Σ. ΑΧΑΡΝΩΝ | C3: 494 | D3: ='boulder Συλλόγοι'!F11 -> 522 | E3: =Σύλλογοι!K5 -> 480 | F3: ='boulder ΟΑΚΑ Σύλλογοι'!J2 -> 927 | G3: ='Β αγώνας δυσκ. Συλλογοι '!K2 -> 830 | H3: =SUM(C3:G3) -> 3253 | K3: 1 | L3: 100
A4: 2 | B4: Ε.Ο.Σ. ΒΟΛΟΥ | C4: 539 | D4: ='boulder Συλλόγοι'!F23 -> 500 | E4: =Σύλλογοι!K6 -> 470 | F4: ='boulder ΟΑΚΑ Σύλλογοι'!J10 -> 297 | G4: ='Β αγώνας δυσκ. Συλλογοι '!K5 -> 511 | H4: =SUM(C4:G4) -> 2317 | K4: 2 | L4: 80
A5: 3 | B5: Ο.Σ. ΑΙΓΙΝΙΟΥ | C5: 383 | D5: ='boulder Συλλόγοι'!F32 -> 357 | E5: =Σύλλογοι!K7 -> 410 | F5: ='boulder ΟΑΚΑ Σύλλογοι'!J7 -> 342 | G5: ='Β αγώνας δυσκ. Συλλογοι '!K3 -> 661 | H5: =SUM(C5:G5) -> 2153 | K5: 3 | L5: 65
A6: 4 | B6: Ε.Ο.Σ. ΑΘΗΝΩΝ | C6: 180 | D6: ='boulder Συλλόγοι'!F38 -> 245 | E6: =Σύλλογοι!K10 -> 288 | F6: ='boulder ΟΑΚΑ Σύλλογοι'!J3 -> 811 | G6: ='Β αγώνας δυσκ. Συλλογοι '!K8 -> 395 | H6: =SUM(C6:G6) -> 1919 | K6: 4 | L6: 55
A7: 5 | B7: Π.Ο.Σ. ΠΕΤΡΟΥΠΟΛΗΣ | C7: 175 | D7: ='boulder Συλλόγοι'!F52 -> 171 | E7: =Σύλλογοι!K13 -> 168 | F7: ='boulder ΟΑΚΑ Σύλλογοι'!J4 -> 727.25 | G7: ='Β αγώνας δυσκ. Συλλογοι '!K4 -> 542 | H7: =SUM(C7:G7) -> 1783.25 | K7: 5 | L7: 51
A8: 6 | B8: Ε.Ο.Σ. ΞΑΝΘΗΣ | C8: 98 | D8: ='boulder Συλλόγοι'!F73 -> 98 | E8: =Σύλλογοι!K3 -> 540 | F8: ='boulder ΟΑΚΑ Σύλλογοι'!J5 -> 400 | G8: ='Β αγώνας δυσκ. Συλλογοι '!K7 -> 415 | H8: =SUM(C8:G8) -> 1551 | K8: 6 | L8: 47
A9: 7 | B9: Σ.Ε.Ο ΘΕΣΣΑΛΟΝΙΚΗΣ | C9: 0 | D9: 0 | E9: =Σύλλογοι!K4 -> 509 | F9: ='boulder ΟΑΚΑ Σύλλογοι'!J8 -> 335 | G9: ='Β αγώνας δυσκ. Συλλογοι '!K6 -> 468 | H9: =SUM(C9:G9) -> 1312 | K9: 7 | L9: 43
A10: 8 | B10: Ο.Λ. ΑΡΙΔΑΙΑΣ | C10: 245 | D10: ='boulder Συλλόγοι'!F46 -> 231 | E10: =Σύλλογοι!K8 -> 396 | F10: 0 | G10: ='Β αγώνας δυσκ. Συλλογοι '!K9 -> 375 | H10: =SUM(C10:G10) -> 1247 | K10: 8 | L10: 40
A11: 9 | B11: Ε.Π.Ο.Σ. ΦΥΛΗΣ | C11: 100 | D11: ='boulder Συλλόγοι'!J9 -> 142 | E11: 0 | F11: ='boulder ΟΑΚΑ Σύλλογοι'!J6 -> 342.75 | G11: ='Β αγώνας δυσκ. Συλλογοι '!K14 -> 94 | H11: =SUM(C11:G11) -> 678.75 | K11: 9 | L11: 37
A12: 10 | B12: Ε.Ο.Σ. ΚΟΜΟΤΗΝΗΣ | C12: 51 | D12: ='boulder Συλλόγοι'!J12 -> 43 | E12: =Σύλλογοι!K9 -> 382 | F12: 0 | G12: ='Β αγώνας δυσκ. Συλλογοι '!K11 -> 179 | H12: =SUM(C12:G12) -> 655 | K12: 10 | L12: 34
A13: 11 | B13: Σ.Χ.Ο. ΚΑΒΑΛΑΣ | C13: 130 | D13: ='boulder Συλλόγοι'!F57 -> 165 | E13: =Σύλλογοι!K14 -> 143 | F13: ='boulder ΟΑΚΑ Σύλλογοι'!J13 -> 129 | G13: ='Β αγώνας δυσκ. Συλλογοι '!K16 -> 80 | H13: =SUM(C13:G13) -> 647 | K13: 11 | L13: 31
A14: 12 | B14: Ο.Σ. ΣΙΑΤΙΣΤΑΣ | C14: 0 | D14: 0 | E14: =Σύλλογοι!K11 -> 283 | F14: 0 | G14: ='Β αγώνας δυσκ. Συλλογοι '!K10 -> 262 | H14: =SUM(C14:G14) -> 545 | K14: 12 | L14: 28
A15: 13 | B15: Ε.Ο.Σ. ΧΑΛΚΙΔΑΣ | C15: 0 | D15: 0 | E15: =Σύλλογοι!K16 -> 51 | F15: ='boulder ΟΑΚΑ Σύλλογοι'!J9 -> 314 | G15: ='Β αγώνας δυσκ. Συλλογοι '!K13 -> 120 | H15: =SUM(C15:G15) -> 485 | K15: 13 | L15: 26
A16: 14 | B16: Ε.Ο.Σ. ΑΛΜΥΡΟΥ | C16: 80 | D16: ='boulder Συλλόγοι'!J10 -> 102 | E16: =Σύλλογοι!K15 -> 55 | F16: ='boulder ΟΑΚΑ Σύλλογοι'!J12 -> 148.5 | G16: ='Β αγώνας δυσκ. Συλλογοι '!K15 -> 88 | H16: =SUM(C16:G16) -> 473.5 | K16: 14 | L16: 24
A17: 15 | B17: Σ.Ο.Δ. ΚΑΣΤΟΡΙΑΣ | C17: 0 | D17: 0 | E17: =Σύλλογοι!K12 -> 196 | F17: ='boulder ΟΑΚΑ Σύλλογοι'!J15 -> 72.5 | G17: ='Β αγώνας δυσκ. Συλλογοι '!K12 -> 170 | H17: =SUM(C17:G17) -> 438.5 | K17: 15 | L17: 22
A18: 16 | B18: Π.Ο. ΑΘΗΝΩΝ | C18: 0 | D18: 0 | E18: 0 | F18: ='boulder ΟΑΚΑ Σύλλογοι'!J11 -> 286 | G18: 0 | H18: =SUM(C18:G18) -> 286 | K18: 16 | L18: 20
A19: 17 | B19: Ο.Λ. ΚΑΛΑΜΠΑΚΑΣ | C19: 0 | D19: 0 | E19: =Σύλλογοι!K18 -> 47 | F19: ='boulder ΟΑΚΑ Σύλλογοι'!J18 -> 47 | G19: ='Β αγώνας δυσκ. Συλλογοι '!K20 -> 43 | H19: =SUM(C19:G19) -> 137 | K19: 17 | L19: 18
A20: 18 | B20: Ε.Ο.Σ.ΘΕΣΣΑΛΟΝΙΚΗΣ | C20: 0 | D20: 0 | E20: 0 | F20: ='boulder ΟΑΚΑ Σύλλογοι'!J16 -> 55 | G20: ='Β αγώνας δυσκ. Συλλογοι '!K19 -> 47 | H20: =SUM(C20:G20) -> 102 | K20: 18 | L20: 16
A21: 19 | B21: Ο.Α.Λ. ΘΕΣΣΑΛΟΝΙΚΗΣ | C21: 0 | D21: 0 | E21: 0 | F21: ='boulder ΟΑΚΑ Σύλλογοι'!J17 -> 51 | G21: ='Β αγώνας δυσκ. Συλλογοι '!K18 -> 47 | H21: =SUM(C21:G21) -> 98 | K21: 19 | L21: 14
A22: 20 | B22: Ε.Ο.Σ. ΗΡΑΚΛΕΙΟΥ | C22: 0 | D22: 0 | E22: 0 | F22: ='boulder ΟΑΚΑ Σύλλογοι'!J14 -> 80 | G22: 0 | H22: =SUM(C22:G22) -> 80 | K22: 20 | L22: 12
A23: 21 | B23: Ε.Ο.Σ. ΠΑΤΡΑΣ | C23: 0 | D23: 0 | E23: 0 | F23: 0 | G23: ='Β αγώνας δυσκ. Συλλογοι '!K17 -> 51 | H23: =SUM(C23:G23) -> 51 | K23: 21 | L23: 10
A24: 22 | B24: Λ.Ο.Χ. ΚΑΒΑΛΑΣ | C24: 0 | D24: 0 | E24: =Σύλλογοι!K17 -> 47 | F24: 0 | G24: 0 | H24: =SUM(C24:G24) -> 47 | K24: 22 | L24: 9
A25: 23 | B25: Ε.Ο.Σ. ΕΛΕΥΣΙΝΑΣ | C25: 0 | D25: 0 | E25: 0 | F25: ='boulder ΟΑΚΑ Σύλλογοι'!J19 -> 34 | G25: 0 | H25: =SUM(C25:G25) -> 34 | K25: 23 | L25: 8
K26: 24 | L26: 7
K27: 25 | L27: 6
K28: 26 | L28: 5
K29: 27 | L29: 4
K30: 28 | L30: 3
K31: 29 | L31: 2
K32: 30 | L32: 1

Sheet Μετάλλια Σύνολο
B2: Πίνακας Μεταλλίων Συνολικά
A3: Κατάταξη | B3: Σύλλογος | C3: Χρυσά | D3: Αργυρά | E3: Χαλκινα | F3: Σύνολο
A4: 1 | B4: Ε.Ο.Σ. ΑΧΑΡΝΩΝ | C4: 12 | D4: =D25+D35+D50+D64 -> 4 | E4: 8 | F4: =SUM(C4:E4) -> 24
A5: 2 | B5: Ε.Ο.Σ. ΞΑΝΘΗΣ | C5: 7 | D5: 4 | E5: =E48+E66 -> 2 | F5: =SUM(C5:E5) -> 13
A6: 3 | B6: Ο.Λ. ΑΡΙΔΑΙΑΣ | C6: 6 | D6: 4 | E6: =E23+E37+E49 -> 2 | F6: =SUM(C6:E6) -> 12
A7: 4 | B7: Ε.Ο.Σ. ΒΟΛΟΥ | C7: 5 | D7: 7 | E7: =E26+E38+E51+E68 -> 3 | F7: =SUM(C7:E7) -> 15
A8: 5 | B8: Ε.Ο.Σ. ΑΘΗΝΩΝ | C8: =C27+C36+C52+C65 -> 5 | D8: 6 | E8: 6 | F8: =SUM(C8:E8) -> 17
A9: 6 | B9: Ο.Σ. ΑΙΓΙΝΙΟΥ | C9: 5 | D9: 4 | E9: 7 | F9: =SUM(C9:E9) -> 16
A10: 7 | B10: Σ.Χ.Ο. ΚΑΒΑΛΑΣ | C10: =C29+C39+C54+C73 -> 2 | D10: 2 | E10: =E29+E39+E54+E73 -> 3 | F10: =SUM(C10:E10) -> 7
A11: 8 | B11: Ε.Ο.Σ. ΧΑΛΚΙΔΑΣ | C11: 2 | D11: 0 | E11: 1 | F11: =SUM(C11:E11) -> 3
A12: 9 | B12: Π.Ο.Σ. ΠΕΤΡΟΥΠΟΛΗΣ | C12: 1 | D12: 6 | E12: 5 | F12: =SUM(C12:E12) -> 12
A13: 10 | B13: Ε.Π.Ο.Σ. ΦΥΛΗΣ | C13: =C28+C41+C72 -> 1 | D13: =D28+D41+D72 -> 2 | E13: =E28+E41+E72 -> 1 | F13: =SUM(C13:E13) -> 4
A14: 11 | B14: Σ.Ε.Ο ΘΕΣΣΑΛΟΝΙΚΗΣ | C14: 0 | D14: 5 | E14: 3 | F14: =SUM(C14:E14) -> 8
A15: 12 | B15: Σ.Ο.Δ. ΚΑΣΤΟΡΙΑΣ | C15: =C56+C75 -> 0 | D15: 3 | E15: =E56+E75 -> 1 | F15: =SUM(C15:E15) -> 4
A16: 13 | B16: Ε.Ο.Σ. ΗΡΑΚΛΕΙΟΥ | C16: 0 | D16: 1 | E16: 0 | F16: =SUM(C16:E16) -> 1
A17: 14 | B17: Ε.Ο.Σ. ΚΟΜΟΤΗΝΗΣ | C17: 0 | D17: 0 | E17: 2 | F17: =SUM(C17:E17) -> 2
A18: 15 | B18: Ε.Ο.Σ. ΑΛΜΥΡΟΥ | C18: 0 | D18: 0 | E18: 1 | F18: =SUM(C18:E18) -> 1
B20: Αγώνας Δυσκολίας Βόλος 3/7/21
B21: Πίνακας Μεταλλίων
A22: Κατάταξη | B22: Σύλλογος | C22: Χρυσά | D22: Αργυρά | E22: Χαλκινα | F22: Σύνολο
A23: 1 | B23: Ο.Λ. ΑΡΙΔΑΙΑΣ | C23: 1 | D23: 1 | E23: 1 | F23: =SUM(C23:E23) -> 3
A24: 2 | B24: Ο.Σ. ΑΙΓΙΝΙΟΥ | C24: 1 | D24: 1 | E24: 1 | F24: =SUM(C24:E24) -> 3
A25: 3 | B25: Ε.Ο.Σ. ΑΧΑΡΝΩΝ | C25: 1 | D25: 2 | F25: =SUM(C25:E25) -> 3
A26: 4 | B26: Ε.Ο.Σ. ΒΟΛΟΥ | C26: 1 | D26: 1 | E26: 1 | F26: =SUM(C26:E26) -> 3
A27: 5 | B27: Ε.Ο.Σ. ΑΘΗΝΩΝ | C27: 1 | D27: 1 | F27: =SUM(C27:E27) -> 2
A28: 6 | B28: Ε.Π.Ο.Σ. ΦΥΛΗΣ | C28: 1 | F28: =SUM(C28:E28) -> 1
A29: 7 | B29: Σ.Χ.Ο. ΚΑΒΑΛΑΣ | E29: 2 | F29: =SUM(C29:E29) -> 2
A30: 8 | B30: Π.Ο.Σ. ΠΕΤΡΟΥΠΟΛΗΣ | E30: 1 | F30: =SUM(C30:E30) -> 1
B32: Αγώνας Boulder Αλμυρός 4/7/2021
B33: Πίνακας Μεταλλίων
A34: Κατάταξη | B34: Σύλλογος | C34: Χρυσά | D34: Αργυρά | E34: Χαλκινα | F34: Σύνολο
A35: 1 | B35: Ε.Ο.Σ. ΑΧΑΡΝΩΝ | C35: 2 | D35: 1 | E35: 1 | F35: =SUM(C35:E35) -> 4
A36: 2 | B36: Ε.Ο.Σ. ΑΘΗΝΩΝ | C36: 1 | D36: 1 | E36: 1 | F36: =SUM(C36:E36) -> 3
A37: 3 | B37: Ο.Λ. ΑΡΙΔΑΙΑΣ | C37: 1 | D37: 1 | F37: =SUM(C37:E37) -> 2
A38: 4 | B38: Ε.Ο.Σ. ΒΟΛΟΥ | C38: 1 | D38: 1 | F38: =SUM(C38:E38) -> 2
A39: 5 | B39: Σ.Χ.Ο. ΚΑΒΑΛΑΣ | C39: 1 | E39: 1 | F39: =SUM(C39:E39) -> 2
A40: 6 | B40: Ο.Σ. ΑΙΓΙΝΙΟΥ | D40: 1 | E40: 2 | F40: =SUM(C40:E40) -> 3
A41: 7 | B41: Ε.Π.Ο.Σ. ΦΥΛΗΣ | D41: 1 | F41: =SUM(C41:E41) -> 1
A42: 8 | B42: Π.Ο.Σ. ΠΕΤΡΟΥΠΟΛΗΣ | E42: 2 | F42: =SUM(C42:E42) -> 2
B45: Αγώνας Δυσκολίας Κομοτηνη 24-25/9/21
...

Sheet Σύλλογοι Αθλητές Βαθμοί
A1: 1 | B1: Ε.Ο.Σ. ΑΧΑΡΝΩΝ | C1: Βόλος Δυσκολία 3/7/21 | D1: boulder Αλμυρός 4/7/21 | E1: Δυσκολία Κομοτηνη Α αγώνας 25-26/9/21 | F1: boulder OAKA 16-17/10/21 | G1: Δυσκολία Βόλος Β Αγώνας 23-24/10/21 | H1: Σύνολο | K1: Σύλλογος | L1: Αθλητές Σύνολο | M1: Αθλητές που πήγαν και στους 5 αγώνες (Παμπαίδες Κορασίδες Α.Β.Γ,Δ.) | N1: Αθλητές που πήγαν και στους 3 αγώνες από (Παίδες Κορασίδες μέχρι Ανδρες Γυναίκες)
A2: 1 | B2: ΜΙΧΑΗΛΙΔΟΥ ΑΓΓΕΛΙΚΗ | C2: 80 | D2: 100 | E2: 100 | F2: 100 | G2: 100 | H2: =SUM(C2:G2) -> 480 | J2: 1 | K2: Ε.Ο.Σ. ΑΧΑΡΝΩΝ | L2: 19 | M2: 5 | N2: 2
A3: 2 | B3: ΚΑΡΑΓΕΩΡΓΟΠΟΥΛΟΥ ΜΑΡΛΕΝ | C3: 80 | D3: 80 | E3: 100 | F3: 55 | G3: 100 | H3: =SUM(C3:G3) -> 415 | J3: 2 | K3: Ε.Ο.Σ. ΒΟΛΟΥ | L3: 12 | M3: 4 | N3: 0
A4: 3 | B4: ΜΗΧΑΗΛΙΔΟΥ ΕΥΘΥΜΙΑ | C4: 100 | D4: 100 | E4: 55 | F4: 100 | G4: 55 | H4: =SUM(C4:G4) -> 410 | J4: 3 | K4: Ο.Σ. ΑΙΓΙΝΙΟΥ | L4: 10 | M4: 3 | N4: 2
A5: 4 | B5: ΠΕΡΔΙΚΑΡΗ ΛΥΔΙΑ - ΘΕΟΔΩΡΑ | C5: 51 | D5: 65 | E5: 55 | F5: 100 | G5: 65 | H5: =SUM(C5:G5) -> 336 | J5: 4 | K5: Ε.Ο.Σ. ΑΘΗΝΩΝ | L5: 14 | M5: 2 | N5: 1
A6: 5 | B6: ΜΑΥΡΟΥΔΗΣ ΝΙΚΟΛΑΟΣ | C6: 55 | D6: 55 | F6: 51 | G6: 65 | H6: =SUM(C6:G6) -> 226 | J6: 5 | K6: Π.Ο.Σ. ΠΕΤΡΟΥΠΟΛΗΣ | L6: 17 | M6: 2 | N6: 0
A7: 6 | B7: ΘΕΟΧΑΡΟΠΟΥΛΟΣ ΘΕΟΦΑΝΗΣ-ΕΡΜΗΣ | E7: 65 | F7: 53 | G7: 100 | H7: =SUM(C7:G7) -> 218 | J7: 6 | K7: Ε.Ο.Σ. ΞΑΝΘΗΣ | L7: 7 | M7: 0 | N7: 5
A8: 7 | B8: ΦΙΛΙΠΠΙΔΗΣ ΑΝΑΣΤΑΣΗΣ | E8: 65 | F8: 80 | G8: 65 | H8: =SUM(C8:G8) -> 210 | J8: 7 | K8: Σ.Ε.Ο ΘΕΣΣΑΛΟΝΙΚΗΣ | L8: 10 | M8: 0 | N8: 8
A9: 8 | B9: ΝΙΚΟΛΑΝΤΟΣ ΓΙΩΡΓΟΣ | C9: 51 | D9: 51 | F9: 60 | G9: 47 | H9: =SUM(C9:G9) -> 209 | J9: 8 | K9: Ο.Λ. ΑΡΙΔΑΙΑΣ | L9: 8 | M9: 0 | N9: 0
A10: 9 | B10: ΠΕΡΔΙΚΑΡΗ ΙΡΙΔΑ | C10: 40 | D10: 31 | E10: 40 | F10: 31 | G10: 55 | H10: =SUM(C10:G10) -> 197 | J10: 9 | K10: Ε.Π.Ο.Σ. ΦΥΛΗΣ | L10: 8 | M10: 0 | N10: 0
A11: 10 | B11: ΟΡΦΑΝΟΣ ΓΕΩΡΓΙΟΣ | F11: 65 | G11: 100 | H11: =SUM(C11:G11) -> 165 | J11: 10 | K11: Ε.Ο.Σ. ΚΟΜΟΤΗΝΗΣ | L11: 8 | M11: 0 | N11: 0
A12: 11 | B12: ΝΙΚΟΛΑΝΤΟΥ ΑΙΚΑΤΕΡΙΝΗ | C12: 37 | D12: 40 | F12: 28 | G12: 31 | H12: =SUM(C12:G12) -> 136 | J12: 11 | K12: Σ.Χ.Ο. ΚΑΒΑΛΑΣ | L12: 2 | M12: 1 | N12: 0
A13: 12 | B13: ΔΗΜΟΥ ΑΛΕΞΑΝΔΡΟΣ | F13: 55 | G13: 47 | H13: =SUM(C13:G13) -> 102 | J13: 12 | K13: Ο.Σ. ΣΙΑΤΙΣΤΑΣ | L13: 8 | M13: 0 | N13: 0
A14: 13 | B14: ΜΩΡΑΙΤΗΣ ΓΙΩΡΓΟΣ-ΦΟΙΒΟΣ | F14: 53 | H14: =SUM(C14:G14) -> 53 | J14: 13 | K14: Ε.Ο.Σ. ΧΑΛΚΙΔΑΣ | L14: 5 | M14: 0 | N14: 0
A15: 14 | B15: ΜΠΑΜΠΑΣΑΝΙΔΗΣ-ΠΑΝΑΣ ΑΡΗΣ | F15: 47 | H15: =SUM(C15:G15) -> 47 | J15: 14 | K15: Ε.Ο.Σ. ΑΛΜΥΡΟΥ | L15: 3 | M15: 0 | N15: 0
A16: 15 | B16: ΘΕΟΔΩΡΟΥ ΔΑΝΑΗ | F16: 43 | H16: =SUM(C16:G16) -> 43 | J16: 15 | K16: Σ.Ο.Δ. ΚΑΣΤΟΡΙΑΣ | L16: 3 | M16: 0 | N16: 0
A17: 16 | B17: ΚΟΥΝΤΟΥΡΑΚΗΣ ΜΑΡΚΟΣ | F17: 34 | H17: =SUM(C17:G17) -> 34 | J17: 16 | K17: Π.Ο. ΑΘΗΝΩΝ | L17: 4 | M17: 0 | N17: 0
A18: 17 | B18: ΤΖΕΚΟΥ ΙΝΩ | F18: 19 | H18: =SUM(C18:G18) -> 19 | J18: 17 | K18: Ο.Λ. ΚΑΛΑΜΠΑΚΑΣ | L18: 1 | M18: 0 | N18: 0
A19: 18 | B19: ΠΑΠΠΑ ΜΙΧΑΕΛΑ | F19: 15 | H19: =SUM(C19:G19) -> 15 | J19: 18 | K19: Ε.Ο.Σ.ΘΕΣΣΑΛΟΝΙΚΗΣ | L19: 1 | M19: 0 | N19: 0
A20: 19 | B20: ΑΡΤΙΝΟΥ ΝΑΤΑΛΙΑ | F20: 9.75 | H20: =SUM(C20:G20) -> 9.75 | J20: 19 | K20: Ο.Α.Λ. ΘΕΣΣΑΛΟΝΙΚΗΣ | L20: 1 | M20: 0 | N20: 0
C21: =SUM(C2:C20) -> 494 | D21: =SUM(D2:D20) -> 522 | E21: =SUM(E2:E20) -> 480 | F21: =SUM(F2:F20) -> 998.75 | G21: =SUM(G2:G20) -> 830 | H21: =G21+F22+E21+D21+C21 -> 3253 | J21: 20 | K21: Ε.Ο.Σ. ΗΡΑΚΛΕΙΟΥ | L21: 1 | M21: 0 | N21: 0
F22: =F21-F23 -> 927 | J22: 21 | K22: Ε.Ο.Σ. ΠΑΤΡΑΣ | L22: 1 | M22: 0 | N22: 0
F23: =F20+F19+F12+F18 -> 71.75 | J23: 22 | K23: Λ.Ο.Χ. ΚΑΒΑΛΑΣ | L23: 1 | M23: 0 | N23: 0
J24: 23 | K24: Ε.Ο.Σ. ΕΛΕΥΣΙΝΑΣ | L24: 1 | M24: 0 | N24: 0
A25: 2 | B25: Ε.Ο.Σ. ΒΟΛΟΥ | C25: Βόλος Δυσκολία 3/7/21 | D25: boulder Αλμυρός 4/7/21 | E25: Δυσκολία Κομοτηνη Α αγώνας 25-26/9/21 | F25: boulder OAKA 16-17/10/21 | G25: Δυσκολία Βόλος Β Αγώνας 23-24/10/21 | H25: Σύνολο | K25: Σύνολο αθλητές | L25: =SUM(L2:L24) -> 145 | M25: =SUM(M2:M24) -> 17 | N25: =SUM(N2:N24) -> 18
A26: 1 | B26: ΜΙΧΑΗΛΙΔΗΣ ΝΙΚΟΛΑΟΣ | C26: 100 | D26: 100 | E26: 100 | F26: 100 | G26: 100 | H26: =SUM(C26:G26) -> 500
A27: 2 | B27: ΣΠΥΡΟΥ ΙΑΣΟΝΑΣ | C27: 80 | D27: 80 | E27: 80 | G27: 80 | H27: =SUM(C27:G27) -> 320
A28: 3 | B28: ΓΕΡΟΒΑΣΙΛΗ ΟΛΓΑ | C28: 65 | D28: 47 | E28: 80 | F28: 65 | G28: 43 | H28: =SUM(C28:G28) -> 300
A29: 4 | B29: ΓΕΡΟΒΑΣΙΛΗ ΑΝΝΑ | C29: 43 | D29: 40 | E29: 47 | F29: 80 | G29: 40 | H29: =SUM(C29:G29) -> 250
A30: 5 | B30: ΜΑΓΓΙΤΣΗ ΜΑΡΙΑ | C30: 51 | D30: 37 | E30: 65 | F30: 15 | G30: 34 | H30: =SUM(C30:G30) -> 202
A31: 6 | B31: ΚΟΠΑΝΟΥ ΕΥΓΕΝΕΙΑ | C31: 47 | D31: 43 | E31: 51 | G31: 51 | H31: =SUM(C31:G31) -> 192
A32: 7 | B32: ΝΕΟΥ ΣΤΥΛΙΑΝΗ | E32: 47 | F32: 37 | G32: 80 | H32: =SUM(C32:G32) -> 164
A33: 8 | B33: ΣΠΥΡΟΥ ΑΡΤΕΜΙΣ | C33: 55 | D33: 55 | E33: 47 | H33: =SUM(C33:G33) -> 157
A34: 9 | B34: ΕΥΑΓΓΕΛΟΥ ΕΜΜΑΝΟΥΗΛ | C34: 47 | D34: 47 | G34: 34 | H34: =SUM(C34:G34) -> 128
A35: 10 | B35: ΣΑΜΑΡΑ ΙΖΑΜΠΕΛΛΑ | C35: 51 | D35: 51 | H35: =SUM(C35:G35) -> 102
A36: 11 | B36: ΔΗΜΗΤΣΙΑΝΟΥ ΝΕΦΕΛΗ | G36: 43 | H36: =SUM(G36) -> 43
A37: 12 | B37: ΚΟΠΑΝΟΣ ΠΑΝΑΓΙΩΤΗΣ | G37: 40 | H37: =SUM(G37) -> 40
C38: =SUM(C26:C37) -> 539 | D38: =SUM(D26:D37) -> 500 | E38: =SUM(E26:E37) -> 517 | F38: =SUM(F26:F37) -> 297 | G38: =SUM(G26:G37) -> 545 | H38: =G39+F38+E39+D38+C38 -> 2317
E39: =E38-E32 -> 470 | G39: =G38-G30 -> 511
A41: 3 | B41: Ο.Σ. ΑΙΓΙΝΙΟΥ | C41: Βόλος Δυσκολία 3/7/21 | D41: boulder Αλμυρός 4/7/21 | E41: Δυσκολία Κομοτηνη Α αγώνας 25-26/9/21 | F41: boulder OAKA 16-17/10/21 | G41: Δυσκολία Βόλος Β Αγώνας 23-24/10/21 | H41: Σύνολο
...

Sheet δυσκολίας β αγώνας Βόλος
B2: ΠΑΓΚΟΡΑΣΙΔΕΣ Γ | C2: Σύλλογος | D2: ετος γεν. | E2: Κατηγορία | F2: θεση | G2: βαθμοί | J2: Θέση | K2: Βαθμοί
A3: 1 | B3: ΚΑΡΑΓΕΩΡΓΟΠΟΥΛΟΥ ΜΑΡΛΕΝ | C3: Ε.Ο.Σ. ΑΧΑΡΝΩΝ | D3: 2013 | E3: ΠΑΓΚΟΡΑΣΙΔΕΣ Γ | F3: 1 | G3: 100 | J3: 1 | K3: 100
A4: 2 | B4: ΠΑΠΑΝΔΡΕΟΥ ΜΑΡΙΑΝΘΗ | C4: Σ.Ο.Δ. ΚΑΣΤΟΡΙΑΣ | D4: 2012 | E4: ΠΑΓΚΟΡΑΣΙΔΕΣ Γ | F4: 2 | G4: 80 | J4: 2 | K4: 80
A5: 3 | B5: ΚΩΒΑΙΟΥ ΣΟΦΙΑ | C5: Π.Ο.Σ. ΠΕΤΡΟΥΠΟΛΗΣ | D5: 2012 | E5: ΠΑΓΚΟΡΑΣΙΔΕΣ Γ | F5: 3 | G5: 65 | J5: 3 | K5: 65
A6: 4 | B6: ΜΙΧΑΗΛΙΔΟΥ ΕΥΘΥΜΙΑ | C6: Ε.Ο.Σ. ΑΧΑΡΝΩΝ | D6: 2012 | E6: ΠΑΓΚΟΡΑΣΙΔΕΣ Γ | F6: 4 | G6: 55 | J6: 4 | K6: 55
A7: 5 | B7: ΤΣΑΦΗ ΑΛΕΞΑΝΔΡΑ | C7: Ο.Σ. ΣΙΑΤΙΣΤΑΣ | D7: 2012 | E7: ΠΑΓΚΟΡΑΣΙΔΕΣ Γ | F7: 5 | G7: 51 | J7: 5 | K7: 51
A8: 6 | B8: ΚΩΣΤΑΡΑ ΝΕΦΕΛΗ | C8: Σ.Ο.Δ. ΚΑΣΤΟΡΙΑΣ | D8: 2012 | E8: ΠΑΓΚΟΡΑΣΙΔΕΣ Γ | F8: 6 | G8: 47 | J8: 6 | K8: 47
A9: 7 | B9: ΔΗΜΗΤΣΙΑΝΟΥ ΝΕΦΕΛΗ | C9: Ε.Ο.Σ. ΒΟΛΟΥ | D9: 2012 | E9: ΠΑΓΚΟΡΑΣΙΔΕΣ Γ | F9: 7 | G9: 43 | J9: 7 | K9: 43
A10: 8 | B10: ΝΑΣΛΑ ΒΑΛΕΝΤΙΝΗ | C10: Ο.Λ. ΑΡΙΔΑΙΑΣ | D10: 2013 | E10: ΠΑΓΚΟΡΑΣΙΔΕΣ Γ | F10: 8 | G10: 40 | J10: 8 | K10: 40
J11: 9 | K11: 37
J12: 10 | K12: 34
B13: ΠΑΜΠΑΙΔΕΣ Γ | C13: Σύλλογος | D13: ετος γεν. | E13: Κατηγορία | F13: Θέση | G13: Βαθμοί | J13: 11 | K13: 31
A14: 1 | B14: ΜΙΧΑΗΛΙΔΗΣ ΝΙΚΟΛΑΟΣ | C14: Ε.Ο.Σ. ΒΟΛΟΥ | D14: 2012 | E14: ΠΑΜΠΑΙΔΕΣ Γ | F14: 1 | G14: 100 | J14: 12 | K14: 28
A15: 2 | B15: ΣΠΥΡΟΥ ΙΑΣΩΝΑΣ | C15: Ε.Ο.Σ. ΒΟΛΟΥ | D15: 2012 | E15: ΠΑΜΠΑΙΔΕΣ Γ | F15: 2 | G15: 80 | J15: 13 | K15: 26
A16: 3 | B16: ΜΑΥΡΟΥΔΗΣ ΝΙΚΟΛΑΟΣ | C16: Ε.Ο.Σ. ΑΧΑΡΝΩΝ | D16: 2012 | E16: ΠΑΜΠΑΙΔΕΣ Γ | F16: 3 | G16: 65 | J16: 14 | K16: 24
A17: 4 | B17: ΤΣΙΡΕΛΗΣ ΑΘΑΝΑΣΙΟΣ | C17: Ο.Σ. ΑΙΓΙΝΙΟΥ | D17: 2013 | E17: ΠΑΜΠΑΙΔΕΣ Γ | F17: 4 | G17: 55 | J17: 15 | K17: 22
A18: 5 | B18: ΓΕΩΡΓΑΤΟΣ ΚΩΝΣΤΑΝΤΙΝΟΣ | C18: Ε.Π.Ο.Σ. ΦΥΛΗΣ | D18: 2012 | E18: ΠΑΜΠΑΙΔΕΣ Γ | F18: 5 | G18: 51 | J18: 16 | K18: 20
A19: 6 | B19: ΝΙΚΟΛΑΝΤΟΣ ΓΙΩΡΓΟΣ | C19: Ε.Ο.Σ. ΑΧΑΡΝΩΝ | D19: 2013 | E19: ΠΑΜΠΑΙΔΕΣ Γ | F19: 6 | G19: 47 | J19: 17 | K19: 18
A20: 7 | B20: ΣΙΑΞΑΜΠΑΝΗΣ ΣΕΡΑΦΕΙΜ | C20: Π.Ο.Σ. ΠΕΤΡΟΥΠΟΛΗΣ | D20: 2012 | E20: ΠΑΜΠΑΙΔΕΣ Γ | F20: 7 | G20: 43 | J20: 18 | K20: 16
A21: 8 | B21: ΚΟΠΑΝΟΣ ΠΑΝΑΓΙΩΤΗΣ | C21: Ε.Ο.Σ. ΒΟΛΟΥ | D21: 2013 | E21: ΠΑΜΠΑΙΔΕΣ Γ | F21: 8 | G21: 40 | J21: 19 | K21: 14
J22: 20 | K22: 12
B23: ΠΑΓΚΟΡΑΣΙΔΕΣ Β | C23: Σύλλογος | D23: ετος γεν. | E23: Κατηγορία | F23: θεση | G23: βαθμοί | J23: 21 | K23: 10
A24: 1 | B24: ΜΙΧΑΗΛΙΔΟΥ ΑΓΓΕΛΙΚΗ | C24: Ε.Ο.Σ. ΑΧΑΡΝΩΝ | D24: 2010 | E24: ΠΑΓΚΟΡΑΣΙΔΕΣ Β | F24: 1 | G24: 100 | J24: 22 | K24: 9
A25: 2 | B25: ΝΕΟΥ ΣΤΕΛΛΑ | C25: Ε.Ο.Σ. ΒΟΛΟΥ | D25: 2011 | E25: ΠΑΓΚΟΡΑΣΙΔΕΣ Β | F25: 2 | G25: 80 | J25: 23 | K25: 8
A26: 3 | B26: ΠΑΠΑΤΡΙΑΝΤΑΦΥΛΛΟΥ ΦΑΝΗ | C26: Ο.Σ. ΑΙΓΙΝΙΟΥ | D26: 2010 | E26: ΠΑΓΚΟΡΑΣΙΔΕΣ Β | F26: 3 | G26: 65 | J26: 24 | K26: 7
A27: 4 | B27: ΠΕΡΔΙΚΑΡΗ ΙΡΙΔΑ | C27: Ε.Ο.Σ. ΑΧΑΡΝΩΝ | D27: 2011 | E27: ΠΑΓΚΟΡΑΣΙΔΕΣ Β | F27: 4 | G27: 55 | J27: 25 | K27: 6
A28: 5 | B28: ΚΟΠΑΝΟΥ ΕΥΓΕΝΙΑ | C28: Ε.Ο.Σ. ΒΟΛΟΥ | D28: 2011 | E28: ΠΑΓΚΟΡΑΣΙΔΕΣ Β | F28: 5 | G28: 51 | J28: 26 | K28: 5
A29: 6 | B29: ΜΠΑΜΠΑΤΖΙΚΟΥ ΙΩΑΝΝΑ | C29: Ο.Α.Λ. ΘΕΣΣΑΛΟΝΙΚΗΣ | D29: 2011 | E29: ΠΑΓΚΟΡΑΣΙΔΕΣ Β | F29: 6 | G29: 47 | J29: 27 | K29: 4
A30: 7 | B30: ΓΕΡΟΒΑΣΙΛΗ ΟΛΓΑ | C30: Ε.Ο.Σ. ΒΟΛΟΥ | D30: 2011 | E30: ΠΑΓΚΟΡΑΣΙΔΕΣ Β | F30: 7 | G30: 43 | J30: 28 | K30: 3
A31: 8 | B31: ΛΥΤΙΝΑ ΣΩΤΗΡΙΑ | C31: Π.Ο.Σ. ΠΕΤΡΟΥΠΟΛΗΣ | D31: 2011 | E31: ΠΑΓΚΟΡΑΣΙΔΕΣ Β | F31: 8 | G31: 40 | J31: 29 | K31: 2
A32: 9 | B32: ΚΑΖΑΔΕΗ ΑΛΕΞΑΝΔΡΑ | C32: Π.Ο.Σ. ΠΕΤΡΟΥΠΟΛΗΣ | D32: 2011 | E32: ΠΑΓΚΟΡΑΣΙΔΕΣ Β | F32: 9 | G32: 37 | J32: 30 | K32: 1
A33: 10 | B33: ΜΑΓΓΙΤΣΗ ΜΑΡΙΑ | C33: Ε.Ο.Σ. ΒΟΛΟΥ | D33: 2011 | E33: ΠΑΓΚΟΡΑΣΙΔΕΣ Β | F33: 10 | G33: 34
A34: 11 | B34: ΝΙΚΟΛΑΝΤΟΥ ΑΙΚΑΤΕΡΙΝΗ | C34: Ε.Ο.Σ. ΑΧΑΡΝΩΝ | D34: 2011 | E34: ΠΑΓΚΟΡΑΣΙΔΕΣ Β | F34: 11 | G34: 31
A35: 12 | B35: ΚΟΥΤΡΕΤΣΗ ΚΛΕΙΩ | C35: Ε.Ο.Σ. ΑΘΗΝΩΝ | D35: 2010 | E35: ΠΑΓΚΟΡΑΣΙΔΕΣ Β | F35: 12 | G35: 28
A36: 13 | B36: ΜΑΡΚΟΠΟΥΛΟΥ ΧΡΙΣΤΙΝΑ | C36: Ο.Σ. ΣΙΑΤΙΣΤΑΣ | D36: 2010 | E36: ΠΑΓΚΟΡΑΣΙΔΕΣ Β | F36: 13 | G36: 26
A37: 14 | B37: ΑΘΑΝΑΣΑΚΗ ΜΑΡΙΑ-ΓΕΡΑΣΙΜΙΑ | C37: Π.Ο.Σ. ΠΕΤΡΟΥΠΟΛΗΣ | D37: 2011 | E37: ΠΑΓΚΟΡΑΣΙΔΕΣ Β | F37: 14 | G37: 24
B39: ΠΑΜΠΑΙΔΕΣ Β | C39: Σύλλογος | D39: ετος γεν. | E39: Κατηγορία | F39: Θέση | G39: Βαθμοί
A40: 1 | B40: ΑΠΟΣΤΟΛΟΠΟΥΛΟΣ ΙΩΑΝΝΗΣ | C40: Ο.Σ. ΑΙΓΙΝΙΟΥ | D40: 2010 | E40: ΠΑΜΠΑΙΔΕΣ Β | F40: 1 | G40: 100
A41: 2 | B41: ΒΑΚΟΝΔΙΟΣ ΜΑΡΚΟΣ | C41: Σ.Χ.Ο. ΚΑΒΑΛΑΣ | D41: 2010 | E41: ΠΑΜΠΑΙΔΕΣ Β | F41: 2 | G41: 80
A42: 3 | B42: ΣΠΑΝΟΣ ΝΙΚΟΛΑΟΣ | C42: Ο.Σ. ΑΙΓΙΝΙΟΥ | D42: 2010 | E42: ΠΑΜΠΑΙΔΕΣ Β | F42: 3 | G42: 65
...

Sheet Β αγώνας δυσκ. Συλλογοι 
I1: Κατάταξη | J1: Συλλογος | K1: βαθμοί
A2: 1 | B2: Ε.Ο.Σ. ΑΧΑΡΝΩΝ | I2: 1 | J2: Ε.Ο.Σ. ΑΧΑΡΝΩΝ | K2: =G15 -> 830
A3: 1 | B3: ΚΑΡΑΓΕΩΡΓΟΠΟΥΛΟΥ ΜΑΡΛΕΝ | C3: Ε.Ο.Σ. ΑΧΑΡΝΩΝ | D3: 2013 | E3: ΠΑΓΚΟΡΑΣΙΔΕΣ Γ | F3: 1 | G3: 100 | I3: 2 | J3: Ο.Σ. ΑΙΓΙΝΙΟΥ | K3: =G28 -> 661
A4: 2 | B4: ΜΙΧΑΗΛΙΔΟΥ ΕΥΘΥΜΙΑ | C4: Ε.Ο.Σ. ΑΧΑΡΝΩΝ | D4: 2012 | E4: ΠΑΓΚΟΡΑΣΙΔΕΣ Γ | F4: 4 | G4: 55 | I4: 3 | J4: Π.Ο.Σ. ΠΕΤΡΟΥΠΟΛΗΣ | K4: =G41 -> 542
A5: 3 | B5: ΜΑΥΡΟΥΔΗΣ ΝΙΚΟΛΑΟΣ | C5: Ε.Ο.Σ. ΑΧΑΡΝΩΝ | D5: 2012 | E5: ΠΑΜΠΑΙΔΕΣ Γ | F5: 3 | G5: 65 | I5: 4 | J5: Ε.Ο.Σ. ΒΟΛΟΥ | K5: =G54 -> 511
A6: 4 | B6: ΝΙΚΟΛΑΝΤΟΣ ΓΙΩΡΓΟΣ | C6: Ε.Ο.Σ. ΑΧΑΡΝΩΝ | D6: 2013 | E6: ΠΑΜΠΑΙΔΕΣ Γ | F6: 6 | G6: 47 | I6: 5 | J6: Σ.Ε.Ο ΘΕΣΣΑΛΟΝΙΚΗΣ | K6: =G67 -> 468
A7: 5 | B7: ΜΙΧΑΗΛΙΔΟΥ ΑΓΓΕΛΙΚΗ | C7: Ε.Ο.Σ. ΑΧΑΡΝΩΝ | D7: 2010 | E7: ΠΑΓΚΟΡΑΣΙΔΕΣ Β | F7: 1 | G7: 100 | I7: 6 | J7: Ε.Ο.Σ. ΞΑΝΘΗΣ | K7: =G75 -> 415
A8: 6 | B8: ΠΕΡΔΙΚΑΡΗ ΙΡΙΔΑ | C8: Ε.Ο.Σ. ΑΧΑΡΝΩΝ | D8: 2011 | E8: ΠΑΓΚΟΡΑΣΙΔΕΣ Β | F8: 4 | G8: 55 | I8: 7 | J8: Ε.Ο.Σ. ΑΘΗΝΩΝ | K8: =G85 -> 395
A9: 7 | B9: ΝΙΚΟΛΑΝΤΟΥ ΑΙΚΑΤΕΡΙΝΗ | C9: Ε.Ο.Σ. ΑΧΑΡΝΩΝ | D9: 2011 | E9: ΠΑΓΚΟΡΑΣΙΔΕΣ Β | F9: 11 | G9: 31 | I9: 8 | J9: Ο.Λ. ΑΡΙΔΑΙΑΣ | K9: =G94 -> 375
A10: 8 | B10: ΔΗΜΟΥ ΑΛΕΞΑΝΔΡΟΣ | C10: Ε.Ο.Σ. ΑΧΑΡΝΩΝ | D10: 2011 | E10: ΠΑΜΠΑΙΔΕΣ Β | F10: 6 | G10: 47 | I10: 9 | J10: Ο.Σ. ΣΙΑΤΙΣΤΑΣ | K10: =G103 -> 262
A11: 9 | B11: ΠΕΡΔΙΚΑΡΗ ΛΥΔΙΑ-ΘΕΟΔΩΡΑ | C11: Ε.Ο.Σ. ΑΧΑΡΝΩΝ | D11: 2009 | E11: ΠΑΓΚΟΡΑΣΙΔΕΣ Α | F11: 3 | G11: 65 | I11: 10 | J11: Ε.Ο.Σ. ΚΟΜΟΤΗΝΗΣ | K11: =G110 -> 179
A12: 10 | B12: ΦΙΛΙΠΠΙΔΗΣ ΑΝΑΣΤΑΣΗΣ | C12: Ε.Ο.Σ. ΑΧΑΡΝΩΝ | D12: 2006 | E12: ΠΑΙΔΕΣ | F12: 3 | G12: 65 | I12: 11 | J12: Σ.Ο.Δ. ΚΑΣΤΟΡΙΑΣ | K12: =G116 -> 170
A13: 11 | B13: ΟΡΦΑΝΟΣ ΓΕΩΡΓΙΟΣ | C13: Ε.Ο.Σ. ΑΧΑΡΝΩΝ | D13: 2005 | E13: ΕΦΗΒΟΙ | F13: 1 | G13: 100 | I13: 12 | J13: Ε.Ο.Σ. ΧΑΛΚΙΔΑΣ | K13: =G121 -> 120
A14: 12 | B14: ΘΕΟΧΑΡΟΠΟΥΛΟΣ ΘΕΟΦΑΝΗΣ-ΕΡΜΗΣ | C14: Ε.Ο.Σ. ΑΧΑΡΝΩΝ | D14: 2000 | E14: ΑΝΔΡΕΣ | F14: 1 | G14: 100 | I14: 13 | J14: Ε.Π.Ο.Σ. ΦΥΛΗΣ | K14: =G126 -> 94
G15: =SUM(G3:G14) -> 830 | I15: 14 | J15: Ε.Ο.Σ. ΑΛΜΥΡΟΥ | K15: =G131 -> 88
I16: 15 | J16: Σ.Χ.Ο. ΚΑΒΑΛΑΣ | K16: =G135 -> 80
A17: 2 | B17: Ο.Σ. ΑΙΓΙΝΙΟΥ | I17: 16 | J17: Ε.Ο.Σ. ΠΑΤΡΑΣ | K17: =G139 -> 51
A18: 1 | B18: ΤΣΙΡΕΛΗΣ ΑΘΑΝΑΣΙΟΣ | C18: Ο.Σ. ΑΙΓΙΝΙΟΥ | D18: 2013 | E18: ΠΑΜΠΑΙΔΕΣ Γ | F18: 4 | G18: 55 | I18: 17 | J18: Ο.Α.Λ. ΘΕΣΣΑΛΟΝΙΚΗΣ | K18: =G147 -> 47
A19: 2 | B19: ΠΑΠΑΤΡΙΑΝΤΑΦΥΛΛΟΥ ΦΑΝΗ | C19: Ο.Σ. ΑΙΓΙΝΙΟΥ | D19: 2010 | E19: ΠΑΓΚΟΡΑΣΙΔΕΣ Β | F19: 3 | G19: 65 | I19: 18 | J19: Ε.Ο.Σ. ΘΕΣΣΑΛΟΝΙΚΗΣ | K19: =G147 -> 47
A20: 3 | B20: ΑΠΟΣΤΟΛΟΠΟΥΛΟΣ ΙΩΑΝΝΗΣ | C20: Ο.Σ. ΑΙΓΙΝΙΟΥ | D20: 2010 | E20: ΠΑΜΠΑΙΔΕΣ Β | F20: 1 | G20: 100 | I20: 19 | J20: Ο.Λ. ΚΑΛΑΜΠΑΚΑΣ | K20: =G151 -> 43
A21: 4 | B21: ΣΠΑΝΟΣ ΝΙΚΟΛΑΟΣ | C21: Ο.Σ. ΑΙΓΙΝΙΟΥ | D21: 2010 | E21: ΠΑΜΠΑΙΔΕΣ Β | F21: 3 | G21: 65
A22: 5 | B22: ΖΟΥΛΟΥΜΗΣ ΑΝΑΣΤΑΣΙΟΣ | C22: Ο.Σ. ΑΙΓΙΝΙΟΥ | D22: 2010 | E22: ΠΑΜΠΑΙΔΕΣ Β | F22: 5 | G22: 51
A23: 6 | B23: ΖΟΥΛΟΥΜΗ ΚΩΝΣΤΑΝΤΝΑ | C23: Ο.Σ. ΑΙΓΙΝΙΟΥ | D23: 2008 | E23: ΠΑΓΚΟΡΑΣΙΔΕΣ Α | F23: 7 | G23: 43
A24: 7 | B24: ΣΠΑΝΟΥ ΕΥΤΥΧΙΑ | C24: Ο.Σ. ΑΙΓΙΝΙΟΥ | D24: 2006 | E24: ΚΟΡΑΣΙΔΕΣ | F24: 1 | G24: 100
A25: 8 | B25: ΜΠΕΝΟΣ ΙΩΑΝΝΗΣ | C25: Ο.Σ. ΑΙΓΙΝΙΟΥ | D25: 2006 | E25: ΠΑΙΔΕΣ | F25: 4 | G25: 55
A26: 9 | B26: ΠΑΠΑΤΡΙΑΝΤΑΦΥΛΛΟΥ ΝΙΚΟΛΑΟΣ | C26: Ο.Σ. ΑΙΓΙΝΙΟΥ | D26: 2007 | E26: ΠΑΙΔΕΣ | F26: 6 | G26: 47
A27: 10 | B27: ΠΑΤΣΙΑ ΣΤΕΡΓΙΑΝΗ ΕΛΕΥΘΕΡΙΑ | C27: Ο.Σ. ΑΙΓΙΝΙΟΥ | D27: 2005 | E27: ΝΕΑΝΙΔΕΣ | F27: 2 | G27: 80
G28: =SUM(G18:G27) -> 661
A30: 4 | B30: Π.Ο.Σ. ΠΕΤΡΟΥΠΟΛΗΣ
A31: 1 | B31: ΚΩΒΑΙΟΥ ΣΟΦΙΑ | C31: Π.Ο.Σ. ΠΕΤΡΟΥΠΟΛΗΣ | D31: 2012 | E31: ΠΑΓΚΟΡΑΣΙΔΕΣ Γ | F31: 3 | G31: 65
A32: 2 | B32: ΣΙΑΞΑΜΠΑΝΗΣ ΣΕΡΑΦΕΙΜ | C32: Π.Ο.Σ. ΠΕΤΡΟΥΠΟΛΗΣ | D32: 2012 | E32: ΠΑΜΠΑΙΔΕΣ Γ | F32: 7 | G32: 43
A33: 3 | B33: ΛΥΤΙΝΑ ΣΩΤΗΡΙΑ | C33: Π.Ο.Σ. ΠΕΤΡΟΥΠΟΛΗΣ | D33: 2011 | E33: ΠΑΓΚΟΡΑΣΙΔΕΣ Β | F33: 8 | G33: 40
A34: 4 | B34: ΚΑΖΑΔΕΗ ΑΛΕΞΑΝΔΡΑ | C34: Π.Ο.Σ. ΠΕΤΡΟΥΠΟΛΗΣ | D34: 2011 | E34: ΠΑΓΚΟΡΑΣΙΔΕΣ Β | F34: 9 | G34: 37
A35: 5 | B35: ΑΘΑΝΑΣΑΚΗ ΜΑΡΙΑ-ΓΕΡΑΣΙΜΙΑ | C35: Π.Ο.Σ. ΠΕΤΡΟΥΠΟΛΗΣ | D35: 2011 | E35: ΠΑΓΚΟΡΑΣΙΔΕΣ Β | F35: 14 | G35: 24
A36: 6 | B36: ΑΘΑΝΑΣΑΚΗΣ ΕΜΜΑΝΟΥΗΛ | C36: Π.Ο.Σ. ΠΕΤΡΟΥΠΟΛΗΣ | D36: 2008 | E36: ΠΑΜΠΑΙΔΕΣ A | F36: 1 | G36: 100
A37: 7 | B37: ΚΟΥΚΟΥΒΙΝΗΣ ΟΡΦΕΑΣ | C37: Π.Ο.Σ. ΠΕΤΡΟΥΠΟΛΗΣ | D37: 2008 | E37: ΠΑΜΠΑΙΔΕΣ A | F37: 5 | G37: 51
A38: 8 | B38: ΠΑΚΟΣ ΗΡΑΚΛΗΣ | C38: Π.Ο.Σ. ΠΕΤΡΟΥΠΟΛΗΣ | D38: 2005 | E38: ΕΦΗΒΟΙ | F38: 2 | G38: 80
A39: 9 | B39: ΜΑΚΑΡΙΤΗΣ ΝΙΚΟΛΑΟΣ | C39: Π.Ο.Σ. ΠΕΤΡΟΥΠΟΛΗΣ | D39: 2004 | E39: ΕΦΗΒΟΙ | F39: 3 | G39: 65
A40: 10 | B40: ΡΟΖΑ ΑΡΙΣΤΕΑ-ΑΝΝΑ | C40: Π.Ο.Σ. ΠΕΤΡΟΥΠΟΛΗΣ | D40: 2001 | E40: ΓΥΝΑΙΚΕΣ | F40: 9 | G40: 37
G41: =SUM(G31:G40) -> 542
...

Sheet μεταλλια Β αγώνα δυσκ. 
B1: Δυσκολία Βόλος Β Αγώνας 23-24/10/21
B2: Σύλλογος | C2: Χρυσά | D2: Αργυρά | E2: Χαλκινα | F2: Σύνολο
A3: 1 | B3: Ε.Ο.Σ. ΑΧΑΡΝΩΝ | C3: 4 | E3: 3 | F3: =SUM(C3:E3) -> 7
A4: 2 | B4: Ε.Ο.Σ. ΞΑΝΘΗΣ | C4: 2 | D4: 2 | F4: =SUM(C4:E4) -> 4
A5: 3 | B5: Ο.Σ. ΑΙΓΙΝΙΟΥ | C5: 2 | D5: 1 | E5: 2 | F5: =SUM(C5:E5) -> 5
A6: 4 | B6: Ο.Λ. ΑΡΙΔΑΙΑΣ | C6: 2 | D6: 1 | F6: =SUM(C6:E6) -> 3
A7: 5 | B7: Ε.Ο.Σ. ΒΟΛΟΥ | C7: 1 | D7: 2 | F7: =SUM(C7:E7) -> 3
A8: 6 | B8: Π.Ο.Σ. ΠΕΤΡΟΥΠΟΛΗΣ | C8: 1 | D8: 1 | E8: 2 | F8: =SUM(C8:E8) -> 4
A9: 7 | B9: Σ.Ε.Ο ΘΕΣΣΑΛΟΝΙΚΗΣ | D9: 2 | E9: 2 | F9: =SUM(C9:E9) -> 4
A10: 8 | B10: Ε.Ο.Σ. ΑΘΗΝΩΝ | D10: 1 | E10: 2 | F10: =SUM(C10:E10) -> 3
A11: 11 | B11: Σ.Ο.Δ. ΚΑΣΤΟΡΙΑΣ | D11: 1 | F11: =SUM(C11:E11) -> 1
A12: 12 | B12: Σ.Χ.Ο. ΚΑΒΑΛΑΣ | D12: 1 | F12: =SUM(C12:E12) -> 1
A13: 15 | B13: Ε.Ο.Σ. ΧΑΛΚΙΔΑΣ | E13: 1 | F13: =SUM(C13:E13) -> 1
C14: =SUM(C3:C13) -> 12 | D14: =SUM(D3:D13) -> 12 | E14: =SUM(E3:E13) -> 12 | F14: =SUM(F3:F13) -> 36

Sheet Boulder ΟΑΚΑ
B1: ΠΑΓΚΟΡΑΣΙΔΕΣ Γ | E1: Θέση | F1: Βαθμοί | I1: Θέση | J1: Βαθμοί
A2: 1 | B2: ΜΙΧΑΗΛΙΔΟΥ ΕΥΘΥΜΙΑ | C2: Ε.Ο.Σ. ΑΧΑΡΝΩΝ | D2: ΠΑΓΚΟΡΑΣΙΔΕΣ Γ | E2: 1 | F2: 100 | I2: 1 | J2: 100
A3: 2 | B3: ΚΩΒΑΙΟΥ ΣΟΦΙΑ | C3: Π.Ο.Σ. ΠΕΤΡΟΥΠΟΛΗΣ | D3: ΠΑΓΚΟΡΑΣΙΔΕΣ Γ | E3: 2 | F3: 72.5 | I3: 2 | J3: 80
A4: 2 | B4: ΠΑΠΑΝΔΡΕΟΥ ΜΑΡΙΑΝΘΗ | C4: Σ.Ο.Δ. ΚΑΣΤΟΡΙΑΣ | D4: ΠΑΓΚΟΡΑΣΙΔΕΣ Γ | E4: 2 | F4: 72.5 | I4: 3 | J4: 65
A5: 4 | B5: ΚΑΡΑΓΕΩΡΓΟΠΟΥΛΟΥ ΜΑΡΛΕΝ | C5: Ε.Ο.Σ. ΑΧΑΡΝΩΝ | D5: ΠΑΓΚΟΡΑΣΙΔΕΣ Γ | E5: 4 | F5: 55 | I5: 4 | J5: 55
A6: 5 | B6: ΤΣΟΛΑΚΙΔΗ ΣΟΦΙΑ | C6: Ε.Π.Ο.Σ. ΦΥΛΗΣ | D6: ΠΑΓΚΟΡΑΣΙΔΕΣ Γ | E6: 5 | F6: 49 | I6: 5 | J6: 51
A7: 5 | B7: ΒΑΚΟΝΔΙΟΥ ΜΥΡΤΩ | C7: Σ.Χ.Ο. ΚΑΒΑΛΑΣ | D7: ΠΑΓΚΟΡΑΣΙΔΕΣ Γ | E7: 5 | F7: 49 | I7: 6 | J7: 47
I8: 7 | J8: 43
B9: ΠΑΝΠΑΙΔΕΣ Γ | C9: Σύλλογος | D9: Κατηγορία | E9: θεση | F9: βαθμοί | I9: 8 | J9: 40
A10: 1 | B10: ΜΙΧΑΗΛΙΔΗΣ ΝΙΚΟΛΑΟΣ | C10: Ε.Ο.Σ. ΒΟΛΟΥ | D10: ΠΑΝΠΑΙΔΕΣ Γ | E10: 1 | F10: 100 | I10: 9 | J10: 37
A11: 2 | B11: ΣΙΑΞΑΜΠΑΝΗΣ ΣΕΡΑΦΕΙΜ | C11: Π.Ο.Σ. ΠΕΤΡΟΥΠΟΛΗΣ | D11: ΠΑΝΠΑΙΔΕΣ Γ | E11: 2 | F11: 80 | I11: 10 | J11: 34
A12: 3 | B12: ΓΕΩΡΓΑΤΟΣ ΚΩΝΣΤΑΝΤΙΝΟΣ | C12: Ε.Π.Ο.Σ. ΦΥΛΗΣ | D12: ΠΑΝΠΑΙΔΕΣ Γ | E12: 3 | F12: 60 | I12: 11 | J12: 31
A13: 3 | B13: ΝΙΚΟΛΑΝΤΟΣ ΓΙΩΡΓΟΣ | C13: Ε.Ο.Σ. ΑΧΑΡΝΩΝ | D13: ΠΑΝΠΑΙΔΕΣ Γ | E13: 3 | F13: 60 | I13: 12 | J13: 28
A14: 5 | B14: ΜΑΥΡΟΥΔΗΣ ΝΙΚΟΛΑΟΣ | C14: Ε.Ο.Σ. ΑΧΑΡΝΩΝ | D14: ΠΑΝΠΑΙΔΕΣ Γ | E14: 5 | F14: 51 | I14: 13 | J14: 26
A15: 6 | B15: ΜΠΑΜΠΑΣΑΝΙΔΗΣ-ΠΑΝΑΣ ΑΡΗΣ | C15: Ε.Ο.Σ. ΑΧΑΡΝΩΝ | D15: ΠΑΝΠΑΙΔΕΣ Γ | E15: 6 | F15: 47 | I15: 14 | J15: 24
I16: 15 | J16: 22
I17: 16 | J17: 20
B18: ΠΑΝΚΟΡΑΣΙΔΕΣ Β | C18: Σύλλογος | D18: Κατηγορία | E18: θεση | F18: βαθμοί | I18: 17 | J18: 18
A19: 1 | B19: ΜΙΧΑΗΛΙΔΟΥ ΑΓΓΕΛΙΚΗ | C19: Ε.Ο.Σ. ΑΧΑΡΝΩΝ | D19: ΠΑΝΚΟΡΑΣΙΔΕΣ Β | E19: 1 | F19: 100 | I19: 18 | J19: 16
A20: 2 | B20: ΦΡΟΝΙΜΑΚΗ ΣΥΛΙΑ | C20: Ε.Π.Ο.Σ. ΦΥΛΗΣ | D20: ΠΑΝΚΟΡΑΣΙΔΕΣ Β | E20: 2 | F20: 80 | I20: 19 | J20: 14
A21: 3 | B21: ΓΕΡΟΒΑΣΙΛΗ ΟΛΓΑ | C21: Ε.Ο.Σ. ΒΟΛΟΥ | D21: ΠΑΝΚΟΡΑΣΙΔΕΣ Β | E21: 3 | F21: 65 | I21: 20 | J21: 12
A22: 4 | B22: ΚΟΥΡΕΜΕΝΟΥ ΙΟΛΗ | C22: Π.Ο. ΑΘΗΝΩΝ | D22: ΠΑΝΚΟΡΑΣΙΔΕΣ Β | E22: 4 | F22: 55 | I22: 21 | J22: 10
A23: 5 | B23: ΜΠΑΜΠΑΤΖΙΚΟΥ ΙΩΑΝΝΑ | C23: Ο.Α.Λ. ΘΕΣΣΑΛΟΝΙΚΗΣ | D23: ΠΑΝΚΟΡΑΣΙΔΕΣ Β | E23: 5 | F23: 51 | I23: 22 | J23: 9
A24: 6 | B24: ΚΑΒΒΑΔΙΑ ΕΙΡΗΝΗ-ΑΝΝΑ | C24: Ε.Ο.Σ. ΑΘΗΝΩΝ | D24: ΠΑΝΚΟΡΑΣΙΔΕΣ Β | E24: 6 | F24: 47 | I24: 23 | J24: 8
A25: 7 | B25: ΘΕΟΔΩΡΟΥ ΔΑΝΑΗ | C25: Ε.Ο.Σ. ΑΧΑΡΝΩΝ | D25: ΠΑΝΚΟΡΑΣΙΔΕΣ Β | E25: 7 | F25: 43 | I25: 24 | J25: 7
A26: 8 | B26: HONG XUJING | C26: Ε.Ο.Σ. ΑΘΗΝΩΝ | D26: ΠΑΝΚΟΡΑΣΙΔΕΣ Β | E26: 8 | F26: 40 | I26: 25 | J26: 6
A27: 9 | B27: ΝΕΟΥ ΣΤΕΛΛΑ | C27: Ε.Ο.Σ. ΒΟΛΟΥ | D27: ΠΑΝΚΟΡΑΣΙΔΕΣ Β | E27: 9 | F27: 37 | I27: 26 | J27: 5
A28: 10 | B28: ΚΑΖΑΔΕΗ ΑΛΕΞΑΝΔΡΑ | C28: Π.Ο.Σ. ΠΕΤΡΟΥΠΟΛΗΣ | D28: ΠΑΝΚΟΡΑΣΙΔΕΣ Β | E28: 10 | F28: 34 | I28: 27 | J28: 4
A29: 11 | B29: ΠΕΡΔΙΚΑΡΗ ΙΡΙΔΑ | C29: Ε.Ο.Σ. ΑΧΑΡΝΩΝ | D29: ΠΑΝΚΟΡΑΣΙΔΕΣ Β | E29: 11 | F29: 31 | I29: 28 | J29: 3
A30: 12 | B30: ΝΙΚΟΛΑΝΤΟΥ ΑΙΚΑΤΕΡΙΝΗ | C30: Ε.Ο.Σ. ΑΧΑΡΝΩΝ | D30: ΠΑΝΚΟΡΑΣΙΔΕΣ Β | E30: 12 | F30: 28 | I30: 29 | J30: 2
A31: 13 | B31: ΛΥΤΙΝΑ ΣΩΤΗΡΙΑ | C31: Π.Ο.Σ. ΠΕΤΡΟΥΠΟΛΗΣ | D31: ΠΑΝΚΟΡΑΣΙΔΕΣ Β | E31: 13 | F31: 26 | I31: 30 | J31: 1
A32: 14 | B32: ΠΑΠΑΤΡΙΑΝΤΑΦΥΛΛΟΥ ΦΑΝΗ | C32: Ο.Σ. ΑΙΓΙΝΙΟΥ | D32: ΠΑΝΚΟΡΑΣΙΔΕΣ Β | E32: 14 | F32: 24
A33: 15 | B33: ΒΑΓΕΝΑ ΑΙΚΑΤΕΡΙΝΗ | C33: Ε.Π.Ο.Σ. ΦΥΛΗΣ | D33: ΠΑΝΚΟΡΑΣΙΔΕΣ Β | E33: 15 | F33: 22
A34: 16 | B34: ΤΖΕΚΟΥ ΙΝΩ | C34: Ε.Ο.Σ. ΑΧΑΡΝΩΝ | D34: ΠΑΝΚΟΡΑΣΙΔΕΣ Β | E34: 16 | F34: 19
A35: 16 | B35: ΚΟΥΤΡΕΤΣΗ ΚΛΕΙΩ | C35: Ε.Ο.Σ. ΑΘΗΝΩΝ | D35: ΠΑΝΚΟΡΑΣΙΔΕΣ Β | E35: 16 | F35: 19
A36: 18 | B36: ΠΑΠΠΑ ΜΙΧΑΕΛΑ | C36: Ε.Ο.Σ. ΑΧΑΡΝΩΝ | D36: ΠΑΝΚΟΡΑΣΙΔΕΣ Β | E36: 18 | F36: 15
A37: 18 | B37: ΜΑΓΓΙΤΣΗ ΜΑΡΙΑ | C37: Ε.Ο.Σ. ΒΟΛΟΥ | D37: ΠΑΝΚΟΡΑΣΙΔΕΣ Β | E37: 18 | F37: 15
A38: 20 | B38: ΧΑΤΖΟΠΟΥΛΟΥ ΡΑΦΑΕΛΑ | C38: Π.Ο.Σ. ΠΕΤΡΟΥΠΟΛΗΣ | D38: ΠΑΝΚΟΡΑΣΙΔΕΣ Β | E38: 20 | F38: 9.75
A39: 20 | B39: ΑΡΤΙΝΟΥ ΝΑΤΑΛΙΑ | C39: Ε.Ο.Σ. ΑΧΑΡΝΩΝ | D39: ΠΑΝΚΟΡΑΣΙΔΕΣ Β | E39: 20 | F39: 9.75
A40: 20 | B40: ΑΘΑΝΑΣΑΚΗ ΜΑΡΙΑ-ΓΕΡΑΣΙΜΙΑ | C40: Π.Ο.Σ. ΠΕΤΡΟΥΠΟΛΗΣ | D40: ΠΑΝΚΟΡΑΣΙΔΕΣ Β | E40: 20 | F40: 9.75
...

Sheet boulder ΟΑΚΑ Σύλλογοι
H1: Κατάταξη | I1: Συλλογος | J1: βαθμοί
A2: 1 | B2: Ε.Ο.Σ. ΑΧΑΡΝΩΝ | H2: 1 | I2: Ε.Ο.Σ. ΑΧΑΡΝΩΝ | J2: =F22 -> 927
A3: 1 | B3: ΜΙΧΑΗΛΙΔΟΥ ΕΥΘΥΜΙΑ | C3: Ε.Ο.Σ. ΑΧΑΡΝΩΝ | D3: ΠΑΓΚΟΡΑΣΙΔΕΣ Γ | E3: 1 | F3: 100 | H3: 2 | I3: Ε.Ο.Σ. ΑΘΗΝΩΝ | J3: =F39 -> 811
A4: 4 | B4: ΚΑΡΑΓΕΩΡΓΟΠΟΥΛΟΥ ΜΑΡΛΕΝ | C4: Ε.Ο.Σ. ΑΧΑΡΝΩΝ | D4: ΠΑΓΚΟΡΑΣΙΔΕΣ Γ | E4: 4 | F4: 55 | H4: 3 | I4: Π.Ο.Σ. ΠΕΤΡΟΥΠΟΛΗΣ | J4: =F58 -> 727.25
A5: 3 | B5: ΝΙΚΟΛΑΝΤΟΣ ΓΙΩΡΓΟΣ | C5: Ε.Ο.Σ. ΑΧΑΡΝΩΝ | D5: ΠΑΝΠΑΙΔΕΣ Γ | E5: 3 | F5: 60 | H5: 4 | I5: Ε.Ο.Σ. ΞΑΝΘΗΣ | J5: =F66 -> 400
A6: 5 | B6: ΜΑΥΡΟΥΔΗΣ ΝΙΚΟΛΑΟΣ | C6: Ε.Ο.Σ. ΑΧΑΡΝΩΝ | D6: ΠΑΝΠΑΙΔΕΣ Γ | E6: 5 | F6: 51 | H6: 5 | I6: Ε.Π.Ο.Σ. ΦΥΛΗΣ | J6: =F77 -> 342.75
A7: 6 | B7: ΜΠΑΜΠΑΣΑΝΙΔΗΣ-ΠΑΝΑΣ ΑΡΗΣ | C7: Ε.Ο.Σ. ΑΧΑΡΝΩΝ | D7: ΠΑΝΠΑΙΔΕΣ Γ | E7: 6 | F7: 47 | H7: 6 | I7: Ο.Σ. ΑΙΓΙΝΙΟΥ | J7: =F86 -> 342
A8: 1 | B8: ΜΙΧΑΗΛΙΔΟΥ ΑΓΓΕΛΙΚΗ | C8: Ε.Ο.Σ. ΑΧΑΡΝΩΝ | D8: ΠΑΝΚΟΡΑΣΙΔΕΣ Β | E8: 1 | F8: 100 | H8: 7 | I8: Σ.Ε.Ο ΘΕΣΣΑΛΟΝΙΚΗΣ | J8: =F99 -> 335
A9: 7 | B9: ΘΕΟΔΩΡΟΥ ΔΑΝΑΗ | C9: Ε.Ο.Σ. ΑΧΑΡΝΩΝ | D9: ΠΑΝΚΟΡΑΣΙΔΕΣ Β | E9: 7 | F9: 43 | H9: 8 | I9: Ε.Ο.Σ. ΧΑΛΚΙΔΑΣ | J9: =F107 -> 314
A10: 11 | B10: ΠΕΡΔΙΚΑΡΗ ΙΡΙΔΑ | C10: Ε.Ο.Σ. ΑΧΑΡΝΩΝ | D10: ΠΑΝΚΟΡΑΣΙΔΕΣ Β | E10: 11 | F10: 31 | H10: 9 | I10: Ε.Ο.Σ. ΒΟΛΟΥ | J10: =F115 -> 297
A11: 12 | B11: ΝΙΚΟΛΑΝΤΟΥ ΑΙΚΑΤΕΡΙΝΗ | C11: Ε.Ο.Σ. ΑΧΑΡΝΩΝ | D11: ΠΑΝΚΟΡΑΣΙΔΕΣ Β | E11: 12 | G11: 28 | H11: 10 | I11: Π.Ο. ΑΘΗΝΩΝ | J11: =F122 -> 286
A12: 16 | B12: ΤΖΕΚΟΥ ΙΝΩ | C12: Ε.Ο.Σ. ΑΧΑΡΝΩΝ | D12: ΠΑΝΚΟΡΑΣΙΔΕΣ Β | E12: 16 | G12: 19 | H12: 11 | I12: Ε.Ο.Σ. ΑΛΜΥΡΟΥ | J12: =F128 -> 148.5
A13: 18 | B13: ΠΑΠΠΑ ΜΙΧΑΕΛΑ | C13: Ε.Ο.Σ. ΑΧΑΡΝΩΝ | D13: ΠΑΝΚΟΡΑΣΙΔΕΣ Β | E13: 18 | G13: 15 | H13: 12 | I13: Σ.Χ.Ο. ΚΑΒΑΛΑΣ | J13: =F133 -> 129
A14: 20 | B14: ΑΡΤΙΝΟΥ ΝΑΤΑΛΙΑ | C14: Ε.Ο.Σ. ΑΧΑΡΝΩΝ | D14: ΠΑΝΚΟΡΑΣΙΔΕΣ Β | E14: 20 | G14: 9.75 | H14: 13 | I14: Ε.Ο.Σ. ΗΡΑΚΛΕΙΟΥ | J14: =F137 -> 80
A15: 4 | B15: ΔΗΜΟΥ ΑΛΕΞΑΝΔΡΟΣ | C15: Ε.Ο.Σ. ΑΧΑΡΝΩΝ | D15: ΠΑΝΠΑΙΔΕΣ Β | E15: 4 | F15: 55 | H15: 14 | I15: Σ.Ο.Δ. ΚΑΣΤΟΡΙΑΣ | J15: =F141 -> 72.5
A16: 1 | B16: ΠΕΡΔΙΚΑΡΗ ΛΥΔΙΑ-ΘΕΟΔΩΡΑ | C16: Ε.Ο.Σ. ΑΧΑΡΝΩΝ | D16: ΠΑΝΚΟΡΑΣΙΔΕΣ Α | E16: 1 | F16: 100 | H16: 15 | I16: Ε.Ο.Σ.ΘΕΣΣΑΛΟΝΙΚΗΣ | J16: =F145 -> 55
A17: 2 | B17: ΦΙΛΙΠΠΙΔΗΣ ΑΝΑΣΤΑΣΙΟΣ | C17: Ε.Ο.Σ. ΑΧΑΡΝΩΝ | D17: ΠΑΙΔΕΣ | E17: 2 | F17: 80 | H17: 16 | I17: Ο.Α.Λ. ΘΕΣΣΑΛΟΝΙΚΗΣ | J17: =F149 -> 51
A18: 10 | B18: ΚΟΥΝΤΟΥΡΑΚΗΣ ΜΑΡΚΟΣ | C18: Ε.Ο.Σ. ΑΧΑΡΝΩΝ | D18: ΠΑΙΔΕΣ | E18: 10 | F18: 34 | H18: 17 | I18: Ο.Λ. ΚΑΛΑΜΠΑΚΑΣ | J18: =F153 -> 47
A19: 3 | B19: ΟΡΦΑΝΟΣ ΓΕΩΡΓΙΟΣ | C19: Ε.Ο.Σ. ΑΧΑΡΝΩΝ | D19: ΕΦΗΒΟΙ | E19: 3 | F19: 65 | H19: 18 | I19: Ε.Ο.Σ. ΕΛΕΥΣΙΝΑΣ | J19: =F157 -> 34
A20: 4 | B20: ΜΩΡΑΙΤΗΣ ΓΙΩΡΓΟΣ-ΦΟΙΒΟΣ | C20: Ε.Ο.Σ. ΑΧΑΡΝΩΝ | D20: ΕΦΗΒΟΙ | E20: 4 | F20: 53
A21: 4 | B21: ΘΕΟΧΑΡΟΠΟΥΛΟΣ ΘΕΟΦΑΝΗΣ-ΕΡΜΗΣ | C21: Ε.Ο.Σ. ΑΧΑΡΝΩΝ | D21: ΑΝΔΡΕΣ | E21: 4 | F21: 53
F22: =SUM(F3:F21) -> 927
A24: 2 | B24: Ε.Ο.Σ. ΑΘΗΝΩΝ
A25: 6 | B25: ΚΑΒΒΑΔΙΑ ΕΙΡΗΝΗ-ΑΝΝΑ | C25: Ε.Ο.Σ. ΑΘΗΝΩΝ | D25: ΠΑΝΚΟΡΑΣΙΔΕΣ Β | E25: 6 | F25: 47
A26: 8 | B26: HONG XUJING | C26: Ε.Ο.Σ. ΑΘΗΝΩΝ | D26: ΠΑΝΚΟΡΑΣΙΔΕΣ Β | E26: 8 | F26: 40
A27: 16 | B27: ΚΟΥΤΡΕΤΣΗ ΚΛΕΙΩ | C27: Ε.Ο.Σ. ΑΘΗΝΩΝ | D27: ΠΑΝΚΟΡΑΣΙΔΕΣ Β | E27: 16 | F27: 19
A28: 1 | B28: ΠΑΠΑΛΕΞΗΣ ΓΕΩΡΓΙΟΣ | C28: Ε.Ο.Σ. ΑΘΗΝΩΝ | D28: ΠΑΝΠΑΙΔΕΣ Α | E28: 1 | F28: 100
A29: 2 | B29: ΠΑΠΑΔΗΜΗΤΡΙΟΥ ΕΥΑΓΓΕΛΟΣ-ΦΙΛΙΠΠΟΣ | C29: Ε.Ο.Σ. ΑΘΗΝΩΝ | D29: ΠΑΝΠΑΙΔΕΣ Α | E29: 2 | F29: 80
A30: 3 | B30: ΕΥΣΤΑΘΙΑΔΗΣ ΦΙΛΙΠΠΟΣ | C30: Ε.Ο.Σ. ΑΘΗΝΩΝ | D30: ΠΑΝΠΑΙΔΕΣ Α | E30: 3 | F30: 65
A31: 4 | B31: ΚΑΒΒΑΔΙΑ ΜΑΡΙΑ | C31: Ε.Ο.Σ. ΑΘΗΝΩΝ | D31: ΚΟΡΑΣΙΔΕΣ | E31: 4 | F31: 55
A32: 6 | B32: ΧΑΛΔΑΙΟΥ ΣΟΦΙΑ | C32: Ε.Ο.Σ. ΑΘΗΝΩΝ | D32: ΚΟΡΑΣΙΔΕΣ | E32: 6 | F32: 47
A33: 8 | B33: ΖΙΟΥΒΑ ΑΡΤΕΜΙΣ | C33: Ε.Ο.Σ. ΑΘΗΝΩΝ | D33: ΚΟΡΑΣΙΔΕΣ | E33: 8 | F33: 38.5
A34: 5 | B34: ΑΛΕΞΑΝΔΡΗΣ ΙΑΣΩΝ | C34: Ε.Ο.Σ. ΑΘΗΝΩΝ | D34: ΠΑΙΔΕΣ | E34: 5 | F34: 51
A35: 1 | B35: ΣΙΔΕΡΗΣ ΚΩΝΣΤΑΝΤΙΝΟΣ | C35: Ε.Ο.Σ. ΑΘΗΝΩΝ | D35: ΝΕΟΙ ΑΝΔΡΕΣ | E35: 1 | F35: 100
A36: 2 | B36: ΚΟΔΡΟΣ ΙΩΑΝΝΗΣ | C36: Ε.Ο.Σ. ΑΘΗΝΩΝ | D36: ΝΕΟΙ ΑΝΔΡΕΣ | E36: 2 | F36: 72.5
... A38: 11 | B38: ΛΑΜΠΡΙΔΗΣ ΝΤΑΝΙΕΛ ΣΒΑΝΤ | C38: Ε.Ο.Σ. ΑΘΗΝΩΝ | D38: ΑΝΔΡΕΣ | E38: 11 | F38: 31
F39: =SUM(F25:F38) -> 811
A41: 3 | B41: Π.Ο.Σ. ΠΕΤΡΟΥΠΟΛΗΣ
A42: 2 | B42: ΚΩΒΑΙΟΥ ΣΟΦΙΑ | C42: Π.Ο.Σ. ΠΕΤΡΟΥΠΟΛΗΣ | D42: ΠΑΓΚΟΡΑΣΙΔΕΣ Γ | E42: 2 | F42: 72.5
A43: 2 | B43: ΣΙΑΞΑΜΠΑΝΗΣ ΣΕΡΑΦΕΙΜ | C43: Π.Ο.Σ. ΠΕΤΡΟΥΠΟΛΗΣ | D43: ΠΑΝΠΑΙΔΕΣ Γ | E43: 2 | F43: 80
...

Sheet boulder ΟΑΚΑ μεταλλια
C1: 16-17/10/2021 ΟΑΚΑ Boulder Κύπελλο
B2: Κατάταξη | C2: Συλλογος | D2: Χρυσά | E2: Αργυρά | F2: Χαλκινα | G2: Σύνολο
B3: 1 | C3: Ε.Ο.Σ. ΑΧΑΡΝΩΝ | D3: 3 | E3: 1 | F3: 2 | G3: =SUM(D3:F3) -> 6
B4: 2 | C4: Ε.Ο.Σ. ΑΘΗΝΩΝ | D4: 2 | E4: 2 | F4: 2 | G4: =SUM(D4:F4) -> 6
B5: 3 | C5: Ε.Ο.Σ. ΞΑΝΘΗΣ | D5: 2 | E5: 1 | F5: 1 | G5: =SUM(D5:F5) -> 4
B6: 4 | C6: Ε.Ο.Σ. ΧΑΛΚΙΔΑΣ | D6: 2 | G6: =SUM(D6:F6) -> 2
B7: 5 | C7: Ε.Ο.Σ. ΒΟΛΟΥ | D7: 1 | E7: 1 | F7: 1 | G7: =SUM(D7:F7) -> 3
B8: 6 | C8: Π.Ο. ΑΘΗΝΩΝ | D8: 1 | E8: 1 | G8: =SUM(D8:F8) -> 2
B9: 7 | C9: Ο.Σ. ΑΙΓΙΝΙΟΥ | D9: 1 | F9: 1 | G9: =SUM(D9:F9) -> 2
B10: 8 | C10: Π.Ο.Σ. ΠΕΤΡΟΥΠΟΛΗΣ | E10: 4 | G10: =SUM(D10:F10) -> 4
B11: 9 | C11: Ε.Π.Ο.Σ. ΦΥΛΗΣ | E11: 1 | F11: 1 | G11: =SUM(D11:F11) -> 2
B12: 10 | C12: Σ.Χ.Ο. ΚΑΒΑΛΑΣ | E12: 1 | G12: =SUM(D12:F12) -> 1
B13: 11 | C13: Ε.Ο.Σ. ΗΡΑΚΛΕΙΟΥ | E13: 1 | G13: =SUM(D13:F13) -> 1
B14: 12 | C14: Σ.Ο.Δ. ΚΑΣΤΟΡΙΑΣ | E14: 1 | G14: =SUM(D14:F14) -> 1
B15: 13 | C15: Σ.Ε.Ο ΘΕΣΣΑΛΟΝΙΚΗΣ | F15: 2 | G15: =SUM(D15:F15) -> 2
B16: 14 | C16: Ε.Ο.Σ. ΑΛΜΥΡΟΥ | F16: 1 | G16: =SUM(D16:F16) -> 1

Sheet δυσκολία Κομοτηνή
B1: ΑΝΔΡΕΣ | C1: Σύλλογος | D1: ετος γεν. | E1: Κατηγορία | F1: θεση | G1: βαθμοί
A2: 1 | B2: ΒΑΛΣΑΜΙΔΗΣ ΜΑΤΘΑΙΟΣ | C2: Ε.Ο.Σ. ΞΑΝΘΗΣ | D2: 1999 | E2: ΑΝΔΡΕΣ | F2: 1 | G2: 100
A3: 2 | B3: ΤΣΙΑΟΥΣΗΣ ΟΡΦΕΑΣ | C3: Σ.Ε.Ο ΘΕΣΣΑΛΟΝΙΚΗΣ | D3: 2003 | E3: ΑΝΔΡΕΣ | F3: 2 | G3: 80
A4: 3 | B4: ΘΕΟΧΑΡΟΠΟΥΛΟΣ ΘΕΟΦΑΝΗΣ-ΕΡΜΗΣ | C4: Ε.Ο.Σ. ΑΧΑΡΝΩΝ | D4: 2000 | E4: ΑΝΔΡΕΣ | F4: 3 | G4: 65
A5: 4 | B5: ΒΟΛΥΡΑΚΗΣ ΜΙΧΑΗΛ | C5: Σ.Ε.Ο ΘΕΣΣΑΛΟΝΙΚΗΣ | D5: 2003 | E5: ΑΝΔΡΕΣ | F5: 4 | G5: 55
A6: 5 | B6: ΠΑΛΛΑΣ ΓΕΩΡΓΙΟΣ | C6: Σ.Ε.Ο ΘΕΣΣΑΛΟΝΙΚΗΣ | D6: 1987 | E6: ΑΝΔΡΕΣ | F6: 5 | G6: 51
A7: 6 | B7: ΑΝΤΩΝΙΑΔΗΣ ΚΙΜΩΝ-ΑΛΕΞΑΝΔΡΟΣ | C7: Λ.Ο.Χ. ΚΑΒΑΛΑΣ | D7: 2000 | E7: ΑΝΔΡΕΣ | F7: 6 | G7: 47
B9: ΓΥΝΑΙΚΕΣ | C9: Σύλλογος | D9: ετος γεν. | E9: Κατηγορία | F9: θεση | G9: βαθμοί
A10: 1 | B10: ΛΙΟΥΝΗ ΑΘΑΝΑΣΙΑ | C10: Ο.Λ. ΑΡΙΔΑΙΑΣ | D10: 2000 | E10: ΓΥΝΑΙΚΕΣ | F10: 1 | G10: 100
A11: 2 | B11: ΠΕΤΑΛΙΔΟΥ ΜΥΡΤΩ | C11: Σ.Ε.Ο ΘΕΣΣΑΛΟΝΙΚΗΣ | D11: 1995 | E11: ΓΥΝΑΙΚΕΣ | F11: 2 | G11: 80
A12: 3 | B12: ΒΑΛΣΑΜΙΔΗ ΔΑΝΑΗ | C12: Ε.Ο.Σ. ΞΑΝΘΗΣ | D12: 2003 | E12: ΓΥΝΑΙΚΕΣ | F12: 3 | G12: 65
A13: 4 | B13: ΚΑΤΕΡΗ ΑΛΕΞΑΝΔΡΑ | C13: Σ.Ε.Ο ΘΕΣΣΑΛΟΝΙΚΗΣ | D13: 1989 | E13: ΓΥΝΑΙΚΕΣ | F13: 4 | G13: 55
A14: 5 | B14: ΜΟΥΤΑΦΙΔΟΥ ΕΥΘΥΜΙΑ | C14: Ο.Λ. ΑΡΙΔΑΙΑΣ | D14: 2002 | E14: ΓΥΝΑΙΚΕΣ | F14: 5 | G14: 51
A15: 6 | B15: ΝΤΡΟΥΓΙΑ ΧΡΙΣΤΙΝΑ | C15: Ο.Λ. ΚΑΛΑΜΠΑΚΑΣ | D15: 1990 | E15: ΓΥΝΑΙΚΕΣ | F15: 6 | G15: 47
A16: 7 | B16: ΦΩΚΑ ΣΟΦΙΑ | C16: Σ.Ε.Ο ΘΕΣΣΑΛΟΝΙΚΗΣ | D16: 1990 | E16: ΓΥΝΑΙΚΕΣ | F16: 7 | G16: 43
B19: ΝΕΑΝΙΔΕΣ | C19: Σύλλογος | D19: ετος γεν. | E19: Κατηγορία | F19: θεση | G19: βαθμοί
A20: 1 | B20: ΠΑΛΤΑΤΣΙΔΟΥ ΖΩΗ | C20: Ε.Ο.Σ. ΞΑΝΘΗΣ | D20: 2005 | E20: ΝΕΑΝΙΔΕΣ | F20: 1 | G20: 100
A21: 2 | B21: ΜΑΓΚΙΟΡΟΥ ΧΡΥΣΗ | C21: Σ.Ε.Ο ΘΕΣΣΑΛΟΝΙΚΗΣ | D21: 2005 | E21: ΝΕΑΝΙΔΕΣ | F21: 2 | G21: 80
A22: 3 | B22: ΚΑΣΑΠΗ ΑΛΙΚΗ | C22: Ε.Ο.Σ. ΚΟΜΟΤΗΝΗΣ | D22: 2004 | E22: ΝΕΑΝΙΔΕΣ | F22: 3 | G22: 65
B24: ΠΑΙΔΕΣ | C24: Σύλλογος | D24: ετος γεν. | E24: Κατηγορία | F24: θεση | G24: βαθμοί
A25: 1 | B25: ΜΠΕΡΤΟΣ ΒΑΣΙΛΕΙΟΣ | C25: Ε.Ο.Σ. ΞΑΝΘΗΣ | D25: 2006 | E25: ΠΑΙΔΕΣ | F25: 1 | G25: 100
A26: 2 | B26: ΒΑΛΣΑΜΙΔΗΣ ΙΑΣΩΝΑΣ | C26: Ε.Ο.Σ. ΞΑΝΘΗΣ | D26: 2006 | E26: ΠΑΙΔΕΣ | F26: 2 | G26: 80
A27: 3 | B27: ΦΙΛΙΠΠΙΔΗΣ ΑΝΑΣΤΑΣΗΣ | C27: Ε.Ο.Σ. ΑΧΑΡΝΩΝ | D27: 2006 | E27: ΠΑΙΔΕΣ | F27: 3 | G27: 65
A28: 4 | B28: ΠΑΠΑΤΡΙΑΝΤΑΦΥΛΛΟΥ ΝΙΚΟΛΑΟΣ | C28: Ο.Σ. ΑΙΓΙΝΙΟΥ | D28: 2007 | E28: ΠΑΙΔΕΣ | F28: 4 | G28: 55
A29: 5 | B29: ΠΟΤΑΜΟΥΣΗΣ ΓΕΡΑΣΙΜΟΣ | C29: Ε.Ο.Σ. ΧΑΛΚΙΔΑΣ | D29: 2006 | E29: ΠΑΙΔΕΣ | F29: 5 | G29: 51
B31: ΚΟΡΑΣΙΔΕΣ | C31: Σύλλογος | D31: ετος γεν. | E31: Κατηγορία | F31: θεση | G31: βαθμοί
A32: 1 | B32: ΣΠΑΝΟΥ ΕΥΤΥΧΙΑ | C32: Ο.Σ. ΑΙΓΙΝΙΟΥ | D32: 2006 | E32: ΚΟΡΑΣΙΔΕΣ | F32: 1 | G32: 100
A33: 2 | B33: ΚΑΒΒΑΔΙΑ ΜΑΡΙΑ | C33: Ε.Ο.Σ. ΑΘΗΝΩΝ | D33: 2007 | E33: ΚΟΡΑΣΙΔΕΣ | F33: 2 | G33: 80
A34: 3 | B34: ΜΑΓΚΙΟΡΟΥ ΕΡΜΙΟΝΗ | C34: Σ.Ε.Ο ΘΕΣΣΑΛΟΝΙΚΗΣ | D34: 2007 | E34: ΚΟΡΑΣΙΔΕΣ | F34: 3 | G34: 65
A35: 4 | B35: ΠΑΠΑΝΑΤΣΙΟΥ ΗΛΕΚΤΡΑ | C35: Ε.Ο.Σ. ΑΛΜΥΡΟΥ | D35: 2007 | E35: ΚΟΡΑΣΙΔΕΣ | F35: 4 | G35: 55
A36: 5 | B36: ΚΑΜΠΑ ΑΙΚΑΤΕΡΙΝΗ | C36: Ε.Ο.Σ. ΚΟΜΟΤΗΝΗΣ | D36: 2006 | E36: ΚΟΡΑΣΙΔΕΣ | F36: 5 | G36: 51
A37: 6 | B37: ΧΑΤΖΗΧΡΙΣΤΟΔΟΥΛΟΥ ΜΑΡΙΑ- ΑΓΓΕΛΙΚΗ | C37: Ε.Ο.Σ. ΚΟΜΟΤΗΝΗΣ | D37: 2006 | E37: ΚΟΡΑΣΙΔΕΣ | F37: 6 | G37: 47
A38: 7 | B38: ΜΠΟΥΡΤΣΟΥ ΑΝΝΑ ΑΓΓΕΛΙΚΗ | C38: Ο.Σ. ΣΙΑΤΙΣΤΑΣ | D38: 2007 | E38: ΚΟΡΑΣΙΔΕΣ | F38: 7 | G38: 43
A39: 8 | B39: ΜΠΟΥΡΤΣΟΥ ΑΠΟΣΤΟΛΙΑ | C39: Ο.Σ. ΣΙΑΤΙΣΤΑΣ | D39: 2007 | E39: ΚΟΡΑΣΙΔΕΣ | F39: 8 | G39: 40
B41: ΠΑΝΠΑΙΔΕΣ Α | C41: Σύλλογος | D41: ετος γεν. | E41: Κατηγορία | F41: θεση | G41: βαθμοί
A42: 1 | B42: ΠΑΠΑΔΗΜΗΤΡΙΟΥ ΕΥΑΓΓΕΛΟΣ - ΦΙΛΙΠΠΟΣ | C42: Ε.Ο.Σ. ΑΘΗΝΩΝ | D42: 2008 | E42: ΠΑΝΠΑΙΔΕΣ Α | F42: 1 | G42: 100
A43: 2 | B43: ΑΘΑΝΑΣΑΚΗΣ ΕΜΜΑΝΟΥΗΛ | C43: Π.Ο.Σ. ΠΕΤΡΟΥΠΟΛΗΣ | D43: 2008 | E43: ΠΑΝΠΑΙΔΕΣ Α | F43: 2 | G43: 80
A44: 3 | B44: ΠΑΠΑΛΕΞΗΣ ΓΕΩΡΓΙΟΣ | C44: Ε.Ο.Σ. ΑΘΗΝΩΝ | D44: 2008 | E44: ΠΑΝΠΑΙΔΕΣ Α | F44: 3 | G44: 65
A45: 4 | B45: ΤΣΑΚΝΑΚΗΣ ΘΕΟΦΑΝΗΣ | C45: Ο.Σ. ΣΙΑΤΙΣΤΑΣ | D45: 2008 | E45: ΠΑΝΠΑΙΔΕΣ Α | F45: 4 | G45: 55
A46: 5 | B46: ΚΟΥΚΟΥΒΙΝΗΣ ΟΡΦΕΑΣ | C46: Π.Ο.Σ. ΠΕΤΡΟΥΠΟΛΗΣ | D46: 2008 | E46: ΠΑΝΠΑΙΔΕΣ Α | F46: 5 | G46: 51
...

Sheet Σύλλογοι
A2: 1 | B2: Ε.Ο.Σ. ΞΑΝΘΗΣ | I2: Κατάταξη | J2: Συλλογος | K2: βαθμοί
A3: 1 | B3: ΒΑΛΣΑΜΙΔΗΣ ΜΑΤΘΑΙΟΣ | C3: Ε.Ο.Σ. ΞΑΝΘΗΣ | D3: 1999 | E3: ΑΝΔΡΕΣ | F3: 1 | G3: 100 | I3: 1 | J3: Ε.Ο.Σ. ΞΑΝΘΗΣ | K3: =G10 -> 540
A4: 2 | B4: ΒΑΛΣΑΜΙΔΗ ΔΑΝΑΗ | C4: Ε.Ο.Σ. ΞΑΝΘΗΣ | D4: 2003 | E4: ΓΥΝΑΙΚΕΣ | F4: 3 | G4: 65 | I4: 2 | J4: Σ.Ε.Ο ΘΕΣΣΑΛΟΝΙΚΗΣ | K4: =G21 -> 509
A5: 3 | B5: ΠΑΛΤΑΤΣΙΔΟΥ ΖΩΗ | C5: Ε.Ο.Σ. ΞΑΝΘΗΣ | D5: 2005 | E5: ΝΕΑΝΙΔΕΣ | F5: 1 | G5: 100 | I5: 3 | J5: Ε.Ο.Σ. ΑΧΑΡΝΩΝ | K5: =G31 -> 480
A6: 4 | B6: ΜΠΕΡΤΟΣ ΒΑΣΙΛΕΙΟΣ | C6: Ε.Ο.Σ. ΞΑΝΘΗΣ | D6: 2006 | E6: ΠΑΙΔΕΣ | F6: 1 | G6: 100 | I6: 4 | J6: Ε.Ο.Σ. ΒΟΛΟΥ | K6: =G42 -> 470
A7: 5 | B7: ΒΑΛΣΑΜΙΔΗΣ ΙΑΣΩΝΑΣ | C7: Ε.Ο.Σ. ΞΑΝΘΗΣ | D7: 2006 | E7: ΠΑΙΔΕΣ | F7: 2 | G7: 80 | I7: 5 | J7: Ο.Σ. ΑΙΓΙΝΙΟΥ | K7: =G51 -> 410
A8: 6 | B8: ΑΚΡΙΤΙΔΗΣ ΘΕΟΔΩΡΟΣ | C8: Ε.Ο.Σ. ΞΑΝΘΗΣ | D8: 2009 | E8: ΠΑΝΠΑΙΔΕΣ Α | F8: 8 | G8: 40 | I8: 6 | J8: Ο.Λ. ΑΡΙΔΑΙΑΣ | K8: =G61 -> 396
A9: 7 | B9: ΑΚΡΙΤΙΔΗΣ ΕΥΣΤΡΑΤΙΟΣ | C9: Ε.Ο.Σ. ΞΑΝΘΗΣ | D9: 2012 | E9: ΠΑΝΠΑΙΔΕΣ Γ | F9: 4 | G9: 55 | I9: 7 | J9: Ε.Ο.Σ. ΚΟΜΟΤΗΝΗΣ | K9: =G72 -> 382
G10: =SUM(G3:G9) -> 540 | I10: 8 | J10: Ε.Ο.Σ. ΑΘΗΝΩΝ | K10: =G79 -> 288
I11: 9 | J11: Ο.Σ. ΣΙΑΤΙΣΤΑΣ | K11: =G88 -> 283
A12: 2 | B12: Σ.Ε.Ο ΘΕΣΣΑΛΟΝΙΚΗΣ | I12: 10 | J12: Σ.Ο.Δ. ΚΑΣΤΟΡΙΑΣ | K12: =G94 -> 196
A13: 1 | B13: ΤΣΙΑΟΥΣΗΣ ΟΡΦΕΑΣ | C13: Σ.Ε.Ο ΘΕΣΣΑΛΟΝΙΚΗΣ | D13: 2003 | E13: ΑΝΔΡΕΣ | F13: 2 | G13: 80 | I13: 11 | J13: Π.Ο.Σ. ΠΕΤΡΟΥΠΟΛΗΣ | K13: =G101 -> 168
A14: 2 | B14: ΒΟΛΥΡΑΚΗΣ ΜΙΧΑΗΛ | C14: Σ.Ε.Ο ΘΕΣΣΑΛΟΝΙΚΗΣ | D14: 2003 | E14: ΑΝΔΡΕΣ | F14: 4 | G14: 55 | I14: 12 | J14: Σ.Χ.Ο. ΚΑΒΑΛΑΣ | K14: =G106 -> 143
A15: 3 | B15: ΠΑΛΛΑΣ ΓΕΩΡΓΙΟΣ | C15: Σ.Ε.Ο ΘΕΣΣΑΛΟΝΙΚΗΣ | D15: 1987 | E15: ΑΝΔΡΕΣ | F15: 5 | G15: 51 | I15: 13 | J15: Ε.Ο.Σ. ΑΛΜΥΡΟΥ | K15: =G109 -> 55
A16: 4 | B16: ΠΕΤΑΛΙΔΟΥ ΜΥΡΤΩ | C16: Σ.Ε.Ο ΘΕΣΣΑΛΟΝΙΚΗΣ | D16: 1995 | E16: ΓΥΝΑΙΚΕΣ | F16: 2 | G16: 80 | I16: 14 | J16: Ε.Ο.Σ. ΧΑΛΚΙΔΑΣ | K16: =G113 -> 51
A17: 5 | B17: ΚΑΤΕΡΗ ΑΛΕΞΑΝΔΡΑ | C17: Σ.Ε.Ο ΘΕΣΣΑΛΟΝΙΚΗΣ | D17: 1989 | E17: ΓΥΝΑΙΚΕΣ | F17: 4 | G17: 55 | I17: 15 | J17: Λ.Ο.Χ. ΚΑΒΑΛΑΣ | K17: =G116 -> 47
A18: 6 | B18: ΦΩΚΑ ΣΟΦΙΑ | C18: Σ.Ε.Ο ΘΕΣΣΑΛΟΝΙΚΗΣ | D18: 1990 | E18: ΓΥΝΑΙΚΕΣ | F18: 7 | G18: 43 | I18: 16 | J18: Ο.Λ. ΚΑΛΑΜΠΑΚΑΣ | K18: =G120 -> 47
A19: 7 | B19: ΜΑΓΚΙΟΡΟΥ ΧΡΥΣΗ | C19: Σ.Ε.Ο ΘΕΣΣΑΛΟΝΙΚΗΣ | D19: 2005 | E19: ΝΕΑΝΙΔΕΣ | F19: 2 | G19: 80
A20: 8 | B20: ΜΑΓΚΙΟΡΟΥ ΕΡΜΙΟΝΗ | C20: Σ.Ε.Ο ΘΕΣΣΑΛΟΝΙΚΗΣ | D20: 2007 | E20: ΚΟΡΑΣΙΔΕΣ | F20: 3 | G20: 65
G21: =SUM(G13:G20) -> 509
A23: 3 | B23: Ε.Ο.Σ. ΑΧΑΡΝΩΝ
A24: 1 | B24: ΘΕΟΧΑΡΟΠΟΥΛΟΣ ΘΕΟΦΑΝΗΣ-ΕΡΜΗΣ | C24: Ε.Ο.Σ. ΑΧΑΡΝΩΝ | D24: 2000 | E24: ΑΝΔΡΕΣ | F24: 3 | G24: 65
A25: 2 | B25: ΦΙΛΙΠΠΙΔΗΣ ΑΝΑΣΤΑΣΗΣ | C25: Ε.Ο.Σ. ΑΧΑΡΝΩΝ | D25: 2006 | E25: ΠΑΙΔΕΣ | F25: 3 | G25: 65
A26: 3 | B26: ΠΕΡΔΙΚΑΡΗ ΛΥΔΙΑ-ΘΕΟΔΩΡΑ | C26: Ε.Ο.Σ. ΑΧΑΡΝΩΝ | D26: 2009 | E26: ΠΑΝΚΟΡΑΣΙΔΕΣ Α | F26: 4 | G26: 55
A27: 4 | B27: ΜΙΧΑΗΛΙΔΟΥ ΑΓΓΕΛΙΚΗ | C27: Ε.Ο.Σ. ΑΧΑΡΝΩΝ | D27: 2010 | E27: ΠΑΝΚΟΡΑΣΙΔΕΣ Β | F27: 1 | G27: 100
A28: 5 | B28: ΠΕΡΔΙΚΑΡΗ ΙΡΙΔΑ | C28: Ε.Ο.Σ. ΑΧΑΡΝΩΝ | D28: 2011 | E28: ΠΑΝΚΟΡΑΣΙΔΕΣ Β | F28: 8 | G28: 40
A29: 6 | B29: ΚΑΡΑΓΕΩΡΓΟΠΟΥΛΟΥ ΜΑΡΛΕΝ | C29: Ε.Ο.Σ. ΑΧΑΡΝΩΝ | D29: 2013 | E29: ΠΑΝΚΟΡΑΣΙΔΕΣ Γ | F29: 1 | G29: 100
A30: 7 | B30: ΜΙΧΑΗΛΙΔΟΥ ΕΥΘΥΜΙΑ | C30: Ε.Ο.Σ. ΑΧΑΡΝΩΝ | D30: 2012 | E30: ΠΑΝΚΟΡΑΣΙΔΕΣ Γ | F30: 4 | G30: 55
G31: =SUM(G24:G30) -> 480
A33: 4 | B33: Ε.Ο.Σ. ΒΟΛΟΥ
A34: 1 | B34: ΓΕΡΟΒΑΣΙΛΗ ΑΝΝΑ | C34: Ε.Ο.Σ. ΒΟΛΟΥ | D34: 2009 | E34: ΠΑΝΚΟΡΑΣΙΔΕΣ Α | F34: 6 | G34: 47
A35: 2 | B35: ΜΙΧΑΗΛΙΔΗΣ ΝΙΚΟΛΑΟΣ | C35: Ε.Ο.Σ. ΒΟΛΟΥ | D35: 2012 | E35: ΠΑΝΠΑΙΔΕΣ Γ | F35: 1 | G35: 100
A36: 3 | B36: ΣΠΥΡΟΥ ΙΑΣΩΝΑΣ | C36: Ε.Ο.Σ. ΒΟΛΟΥ | D36: 2012 | E36: ΠΑΝΠΑΙΔΕΣ Γ | F36: 2 | G36: 80
A37: 4 | B37: ΓΕΡΟΒΑΣΙΛΗ ΟΛΓΑ | C37: Ε.Ο.Σ. ΒΟΛΟΥ | D37: 2011 | E37: ΠΑΝΚΟΡΑΣΙΔΕΣ Β | F37: 2 | G37: 80
A38: 5 | B38: ΜΑΓΓΙΤΣΗ ΜΑΡΙΑ | C38: Ε.Ο.Σ. ΒΟΛΟΥ | D38: 2011 | E38: ΠΑΝΚΟΡΑΣΙΔΕΣ Β | F38: 3 | G38: 65
A39: 6 | B39: ΚΟΠΑΝΟΥ ΕΥΓΕΝΕΙΑ | C39: Ε.Ο.Σ. ΒΟΛΟΥ | D39: 2011 | E39: ΠΑΝΚΟΡΑΣΙΔΕΣ Β | F39: 5 | G39: 51
A40: 7 | B40: ΝΕΟΥ ΣΤΥΛΙΑΝΗ | C40: Ε.Ο.Σ. ΒΟΛΟΥ | D40: 2011 | E40: ΠΑΝΚΟΡΑΣΙΔΕΣ Β | F40: 6 | H40: 47
A41: 8 | B41: ΣΠΥΡΟΥ ΑΡΤΕΜΗΣ | C41: Ε.Ο.Σ. ΒΟΛΟΥ | D41: 2013 | E41: ΠΑΝΚΟΡΑΣΙΔΕΣ Γ | F41: 6 | G41: 47
G42: =SUM(G34:G41) -> 470 | H42: =SUM(H34:H40) -> 47
A44: 5 | B44: Ο.Σ. ΑΙΓΙΝΙΟΥ
...

Sheet μετάλλια Κομοτηνη
B2: Αγώνας Δυσκολίας Κομοτηνη 24-25/9/21
B3: Πίνακας Μεταλλίων
A4: α/α | B4: Σύλλογος | C4: Χρυσά | D4: Αργυρά | E4: Χαλκινα | F4: Σύνολο
A5: 1 | B5: Ε.Ο.Σ. ΞΑΝΘΗΣ | C5: 3 | D5: 1 | E5: 1 | F5: =SUM(C5:E5) -> 5
A6: 2 | B6: Ο.Λ. ΑΡΙΔΑΙΑΣ | C6: 2 | D6: 1 | E6: 1 | F6: =SUM(C6:E6) -> 4
A7: 3 | B7: Ε.Ο.Σ. ΑΧΑΡΝΩΝ | C7: 2 | E7: 2 | F7: =SUM(C7:E7) -> 4
A8: 4 | B8: Ε.Ο.Σ. ΒΟΛΟΥ | C8: 1 | D8: 2 | E8: 1 | F8: =SUM(C8:E8) -> 4
A9: 5 | B9: Ε.Ο.Σ. ΑΘΗΝΩΝ | C9: 1 | D9: 1 | E9: 1 | F9: =SUM(C9:E9) -> 3
A10: 5 | B10: Ο.Σ. ΑΙΓΙΝΙΟΥ | C10: 1 | D10: 1 | E10: 1 | F10: =SUM(C10:E10) -> 3
A11: 7 | B11: Σ.Χ.Ο. ΚΑΒΑΛΑΣ | C11: 1 | F11: =SUM(C11:E11) -> 1
A12: 8 | B12: Σ.Ε.Ο ΘΕΣΣΑΛΟΝΙΚΗΣ | D12: 3 | E12: 1 | F12: =SUM(C12:E12) -> 4
A13: 9 | B13: Σ.Ο.Δ. ΚΑΣΤΟΡΙΑΣ | D13: 1 | E13: 1 | F13: =SUM(C13:E13) -> 2
A14: 10 | B14: Π.Ο.Σ. ΠΕΤΡΟΥΠΟΛΗΣ | D14: 1 | F14: =SUM(C14:E14) -> 1
A15: 11 | B15: Ε.Ο.Σ. ΚΟΜΟΤΗΝΗΣ | E15: 2 | F15: =SUM(C15:E15) -> 2
C16: =SUM(C5:C15) -> 11 | D16: =SUM(D5:D15) -> 11 | E16: =SUM(E5:E15) -> 11 | F16: =SUM(F5:F15) -> 33

Sheet Δυσκολία Βόλος 
B1: ΠΑΓΚΟΡΑΣΙΔΕΣ Γ | F1: θεση | G1: βαθμοί
A2: 1 | B2: ΜΙΧΑΗΛΙΔΟΥ ΕΥΘΥΜΙΑ | C2: Ε.Ο.Σ. ΑΧΑΡΝΩΝ | D2: 2012 | E2: ΠΑΓΚΟΡΑΣΙΔΕΣ Γ | F2: 1 | G2: 100
A3: 2 | B3: ΚΑΡΑΓΕΩΡΓΟΠΟΥΛΟΥ ΜΑΡΛΕΝ | C3: Ε.Ο.Σ. ΑΧΑΡΝΩΝ | D3: 2013 | E3: ΠΑΓΚΟΡΑΣΙΔΕΣ Γ | F3: 2 | G3: 80
A4: 3 | B4: ΒΑΚΟΝΔΙΟΥ ΜΥΡΤΩ | C4: Σ.Χ.Ο. ΚΑΒΑΛΑΣ | D4: 2013 | E4: ΠΑΓΚΟΡΑΣΙΔΕΣ Γ | F4: 3 | G4: 65
A5: 4 | B5: ΣΠΥΡΟΥ ΑΡΤΕΜΙΣ | C5: Ε.Ο.Σ. ΒΟΛΟΥ | D5: 2013 | E5: ΠΑΓΚΟΡΑΣΙΔΕΣ Γ | F5: 4 | G5: 55
A6: 5 | B6: ΣΑΜΑΡΑ ΙΖΑΜΠΕΛΛΑ | C6: Ε.Ο.Σ. ΒΟΛΟΥ | D6: 2013 | E6: ΠΑΓΚΟΡΑΣΙΔΕΣ Γ | F6: 5 | G6: 51
B8: ΠΑΓΚΟΡΑΣΙΔΕΣ Β | F8: θεση | G8: βαθμοί
A9: 1 | B9: ΦΡΟΝΙΜΑΚΗ ΣΙΛΙΑ | C9: Ε.Π.Ο.Σ. ΦΥΛΗΣ | D9: 2010 | E9: ΠΑΓΚΟΡΑΣΙΔΕΣ Β | F9: 1 | G9: 100
A10: 2 | B10: ΜΙΧΑΗΛΙΔΟΥ ΑΓΓΕΛΙΚΗ | C10: Ε.Ο.Σ. ΑΧΑΡΝΩΝ | D10: 2010 | E10: ΠΑΓΚΟΡΑΣΙΔΕΣ Β | F10: 2 | G10: 80
A11: 3 | B11: ΓΕΡΟΒΑΣΙΛΗ ΟΛΓΑ | C11: Ε.Ο.Σ. ΒΟΛΟΥ | D11: 2011 | E11: ΠΑΓΚΟΡΑΣΙΔΕΣ Β | F11: 3 | G11: 65
A12: 4 | B12: ΛΥΤΙΝΑ ΣΩΤΗΡΙΑ | C12: Π.Ο.Σ. ΠΕΤΡΟΥΠΟΛΗΣ | D12: 2011 | E12: ΠΑΓΚΟΡΑΣΙΔΕΣ Β | F12: 4 | G12: 55
A13: 5 | B13: ΜΑΓΓΙΤΣΗ ΜΑΡΙΑ | C13: Ε.Ο.Σ. ΒΟΛΟΥ | D13: 2011 | E13: ΠΑΓΚΟΡΑΣΙΔΕΣ Β | F13: 5 | G13: 51
A14: 6 | B14: ΚΟΠΑΝΟΥ ΕΥΓΕΝΕΙΑ | C14: Ε.Ο.Σ. ΒΟΛΟΥ | D14: 2011 | E14: ΠΑΓΚΟΡΑΣΙΔΕΣ Β | F14: 6 | G14: 47
A15: 7 | B15: ΠΑΠΑΤΡΙΑΝΤΑΦΥΛΛΟΥ ΦΑΝΗ | C15: Ο.Σ. ΑΙΓΙΝΙΟΥ | D15: 2010 | E15: ΠΑΓΚΟΡΑΣΙΔΕΣ Β | F15: 7 | G15: 43
A16: 8 | B16: ΠΕΡΔΙΚΑΡΗ ΙΡΙΔΑ | C16: Ε.Ο.Σ. ΑΧΑΡΝΩΝ | D16: 2011 | E16: ΠΑΓΚΟΡΑΣΙΔΕΣ Β | F16: 8 | G16: 40
A17: 9 | B17: ΝΙΚΟΛΑΝΤΟΥ ΑΙΚΑΤΕΡΙΝΗ | C17: Ε.Ο.Σ. ΑΧΑΡΝΩΝ | D17: 2011 | E17: ΠΑΓΚΟΡΑΣΙΔΕΣ Β | F17: 9 | G17: 37
B19: ΠΑΓΚΟΡΑΣΙΔΕΣ Α | F19: θεση | G19: βαθμοί
A20: 1 | B20: ΣΥΡΟΠΟΥΛΟΥ ΟΛΓΑ | C20: Ο.Λ. ΑΡΙΔΑΙΑΣ | D20: 2009 | E20: ΠΑΓΚΟΡΑΣΙΔΕΣ Α | F20: 1 | G20: 100
A21: 2 | B21: ΠΑΠΑΔΗΜΗΤΡΙΟΥ ΜΑΡΚΕΛΛΑ | C21: Ο.Λ. ΑΡΙΔΑΙΑΣ | D21: 2009 | E21: ΠΑΓΚΟΡΑΣΙΔΕΣ Α | F21: 2 | G21: 80
A22: 3 | B22: ΚΩΤΣΟΥ ΒΑΣΙΛΙΚΗ | C22: Ο.Λ. ΑΡΙΔΑΙΑΣ | D22: 2009 | E22: ΠΑΓΚΟΡΑΣΙΔΕΣ Α | F22: 3 | G22: 65
A23: 4 | B23: ΚΕΝΤΕΡΤΖΙΔΟΥ ΘΕΟΦΑΝΙΑ | C23: Ο.Λ. ΑΡΙΔΑΙΑΣ | D23: 2008 | E23: ΠΑΓΚΟΡΑΣΙΔΕΣ Α | F23: 4 | G23: 55
A24: 5 | B24: ΠΕΡΔΙΚΑΡΗ ΛΥΔΙΑ - ΘΕΟΔΩΡΑ | C24: Ε.Ο.Σ. ΑΧΑΡΝΩΝ | D24: 2009 | E24: ΠΑΓΚΟΡΑΣΙΔΕΣ Α | F24: 5 | G24: 51
A25: 6 | B25: ΣΥΡΟΠΟΥΛΟΥ ΕΛΕΝΗ | C25: Ο.Λ. ΑΡΙΔΑΙΑΣ | D25: 2009 | E25: ΠΑΓΚΟΡΑΣΙΔΕΣ Α | F25: 6 | G25: 47
A26: 7 | B26: ΓΕΡΟΒΑΣΙΛΗ ΑΝΝΑ | C26: Ε.Ο.Σ. ΒΟΛΟΥ | D26: 2009 | E26: ΠΑΓΚΟΡΑΣΙΔΕΣ Α | F26: 7 | G26: 43
A27: 8 | B27: ΖΟΥΛΟΥΜΗ ΚΩΝΣΤΑΝΤΙΝΑ | C27: Ο.Σ. ΑΙΓΙΝΙΟΥ | D27: 2008 | E27: ΠΑΓΚΟΡΑΣΙΔΕΣ Α | F27: 8 | G27: 40
A28: 9 | B28: ΒΕΡΓΑ ΦΩΤΕΙΝΗ | C28: Ε.Ο.Σ. ΑΛΜΥΡΟΥ | D28: 2008 | E28: ΠΑΓΚΟΡΑΣΙΔΕΣ Α | F28: 9 | G28: 37
B30: ΠΑΜΠΑΙΔΕΣ Γ | F30: θεση | G30: βαθμοί
A31: 1 | B31: ΜΙΧΑΗΛΙΔΗΣ ΝΙΚΟΛΑΟΣ | C31: Ε.Ο.Σ. ΒΟΛΟΥ | D31: 2012 | E31: ΠΑΜΠΑΙΔΕΣ Γ | F31: 1 | G31: 100
A32: 2 | B32: ΣΠΥΡΟΥ ΙΑΣΟΝΑΣ | C32: Ε.Ο.Σ. ΒΟΛΟΥ | D32: 2012 | E32: ΠΑΜΠΑΙΔΕΣ Γ | F32: 2 | G32: 80
A33: 3 | B33: ΤΣΙΡΕΛΗΣ ΑΘΑΝΑΣΙΟΣ | C33: Ο.Σ. ΑΙΓΙΝΙΟΥ | D33: 2013 | E33: ΠΑΜΠΑΙΔΕΣ Γ | F33: 3 | G33: 65
A34: 4 | B34: ΜΑΥΡΟΥΔΗΣ ΝΙΚΟΛΑΟΣ | C34: Ε.Ο.Σ. ΑΧΑΡΝΩΝ | D34: 2012 | E34: ΠΑΜΠΑΙΔΕΣ Γ | F34: 4 | G34: 55
A35: 5 | B35: ΝΙΚΟΛΑΝΤΟΣ ΓΙΩΡΓΟΣ | C35: Ε.Ο.Σ. ΑΧΑΡΝΩΝ | D35: 2013 | E35: ΠΑΜΠΑΙΔΕΣ Γ | F35: 5 | G35: 51
A36: 6 | B36: ΑΚΡΙΤΙΔΗΣ ΕΥΣΤΡΑΤΙΟΣ | C36: Ε.Ο.Σ. ΞΑΝΘΗΣ | D36: 2012 | E36: ΠΑΜΠΑΙΔΕΣ Γ | F36: 6 | G36: 47
B38: ΠΑΜΠΑΙΔΕΣ Β | F38: Θέση | G38: Βαθμοί
A39: 1 | B39: ΑΠΟΣΤΟΛΟΠΟΥΛΟΣ ΙΩΑΝΝΗΣ | C39: Ο.Σ. ΑΙΓΙΝΙΟΥ | D39: 2010 | E39: ΠΑΜΠΑΙΔΕΣ Β | F39: 1 | G39: 100
A40: 2 | B40: ΣΠΑΝΟΣ ΝΙΚΟΛΑΟΣ | C40: Ο.Σ. ΑΙΓΙΝΙΟΥ | D40: 2010 | E40: ΠΑΜΠΑΙΔΕΣ Β | F40: 2 | G40: 80
A41: 3 | B41: ΒΑΚΟΝΔΙΟΣ ΜΑΡΚΟΣ | C41: Σ.Χ.Ο. ΚΑΒΑΛΑΣ | D41: 2010 | E41: ΠΑΜΠΑΙΔΕΣ Β | F41: 3 | G41: 65
A42: 4 | B42: ΖΟΥΛΟΥΜΗΣ ΑΝΑΣΤΑΣΙΟΣ | C42: Ο.Σ. ΑΙΓΙΝΙΟΥ | D42: 2010 | E42: ΠΑΜΠΑΙΔΕΣ Β | F42: 4 | G42: 55
A43: 5 | B43: ΣΤΑΝΙΤΣΑΣ ΑΝΔΡΕΑΣ | C43: Ε.Ο.Σ. ΚΟΜΟΤΗΝΗΣ | D43: 2010 | E43: ΠΑΜΠΑΙΔΕΣ Β | F43: 5 | G43: 51
A44: 6 | B44: ΕΥΑΓΓΕΛΟΥ ΕΜΜΑΝΟΥΗΛ | C44: Ε.Ο.Σ. ΒΟΛΟΥ | D44: 2010 | E44: ΠΑΜΠΑΙΔΕΣ Β | F44: 6 | G44: 47
...

Sheet Συλλόγοι lead
I1: α/α | J1: Σύλλογος | K1: βαθμοί
A2: 1 | B2: Ε.Ο.Σ. ΒΟΛΟΥ | F2: θεση | G2: βαθμοί | I2: 1 | J2: Ε.Ο.Σ. ΒΟΛΟΥ | K2: =G12 -> 539
A3: 1 | B3: ΣΠΥΡΟΥ ΑΡΤΕΜΙΣ | C3: Ε.Ο.Σ. ΒΟΛΟΥ | D3: 2013 | E3: ΠΑΓΚΟΡΑΣΙΔΕΣ Γ | F3: 4 | G3: 55 | I3: 2 | J3: Ε.Ο.Σ. ΑΧΑΡΝΩΝ | K3: =G23 -> 494
A4: 2 | B4: ΣΑΜΑΡΑ ΙΖΑΜΠΕΛΛΑ | C4: Ε.Ο.Σ. ΒΟΛΟΥ | D4: 2013 | E4: ΠΑΓΚΟΡΑΣΙΔΕΣ Γ | F4: 5 | G4: 51 | I4: 3 | J4: Ο.Σ. ΑΙΓΙΝΙΟΥ | K4: =G32 -> 383
A5: 3 | B5: ΓΕΡΟΒΑΣΙΛΗ ΟΛΓΑ | C5: Ε.Ο.Σ. ΒΟΛΟΥ | D5: 2011 | E5: ΠΑΓΚΟΡΑΣΙΔΕΣ Β | F5: 3 | G5: 65 | I5: 4 | J5: Ο.Λ. ΑΡΙΔΑΙΑΣ | K5: =G40 -> 245
A6: 4 | B6: ΜΑΓΓΙΤΣΗ ΜΑΡΙΑ | C6: Ε.Ο.Σ. ΒΟΛΟΥ | D6: 2011 | E6: ΠΑΓΚΟΡΑΣΙΔΕΣ Β | F6: 5 | G6: 51 | I6: 5 | J6: Ε.Ο.Σ. ΑΘΗΝΩΝ | K6: =G45 -> 180
A7: 5 | B7: ΚΟΠΑΝΟΥ ΕΥΓΕΝΕΙΑ | C7: Ε.Ο.Σ. ΒΟΛΟΥ | D7: 2011 | E7: ΠΑΓΚΟΡΑΣΙΔΕΣ Β | F7: 6 | G7: 47 | I7: 6 | J7: Π.Ο.Σ. ΠΕΤΡΟΥΠΟΛΗΣ | K7: =G51 -> 175
A8: 6 | B8: ΓΕΡΟΒΑΣΙΛΗ ΑΝΝΑ | C8: Ε.Ο.Σ. ΒΟΛΟΥ | D8: 2009 | E8: ΠΑΓΚΟΡΑΣΙΔΕΣ Α | F8: 7 | G8: 43 | I8: 7 | J8: Σ.Χ.Ο. ΚΑΒΑΛΑΣ | K8: =G56 -> 130
A9: 7 | B9: ΜΙΧΑΗΛΙΔΗΣ ΝΙΚΟΛΑΟΣ | C9: Ε.Ο.Σ. ΒΟΛΟΥ | D9: 2012 | E9: ΠΑΜΠΑΙΔΕΣ Γ | F9: 1 | G9: 100 | I9: 8 | J9: Ε.Π.Ο.Σ. ΦΥΛΗΣ | K9: =G60 -> 100
A10: 8 | B10: ΣΠΥΡΟΥ ΙΑΣΟΝΑΣ | C10: Ε.Ο.Σ. ΒΟΛΟΥ | D10: 2012 | E10: ΠΑΜΠΑΙΔΕΣ Γ | F10: 2 | G10: 80 | I10: 9 | J10: Ε.Ο.Σ. ΞΑΝΘΗΣ | K10: =G65 -> 98
A11: 9 | B11: ΕΥΑΓΓΕΛΟΥ ΕΜΜΑΝΟΥΗΛ | C11: Ε.Ο.Σ. ΒΟΛΟΥ | D11: 2010 | E11: ΠΑΜΠΑΙΔΕΣ Β | F11: 6 | G11: 47 | I11: 10 | J11: Ε.Ο.Σ. ΑΛΜΥΡΟΥ | K11: =G70 -> 80
G12: =SUM(G3:G11) -> 539 | I12: 11 | J12: Ε.Ο.Σ. ΚΟΜΟΤΗΝΗΣ | K12: =G74 -> 51
A14: 2 | B14: Ε.Ο.Σ. ΑΧΑΡΝΩΝ | F14: θεση | G14: βαθμοί
A15: 1 | B15: ΜΙΧΑΗΛΙΔΟΥ ΕΥΘΥΜΙΑ | C15: Ε.Ο.Σ. ΑΧΑΡΝΩΝ | D15: 2012 | E15: ΠΑΓΚΟΡΑΣΙΔΕΣ Γ | F15: 1 | G15: 100
A16: 2 | B16: ΚΑΡΑΓΕΩΡΓΟΠΟΥΛΟΥ ΜΑΡΛΕΝ | C16: Ε.Ο.Σ. ΑΧΑΡΝΩΝ | D16: 2013 | E16: ΠΑΓΚΟΡΑΣΙΔΕΣ Γ | F16: 2 | G16: 80
A17: 3 | B17: ΜΙΧΑΗΛΙΔΟΥ ΑΓΓΕΛΙΚΗ | C17: Ε.Ο.Σ. ΑΧΑΡΝΩΝ | D17: 2010 | E17: ΠΑΓΚΟΡΑΣΙΔΕΣ Β | F17: 2 | G17: 80
A18: 4 | B18: ΠΕΡΔΙΚΑΡΗ ΙΡΙΔΑ | C18: Ε.Ο.Σ. ΑΧΑΡΝΩΝ | D18: 2011 | E18: ΠΑΓΚΟΡΑΣΙΔΕΣ Β | F18: 8 | G18: 40
A19: 5 | B19: ΝΙΚΟΛΑΝΤΟΥ ΑΙΚΑΤΕΡΙΝΗ | C19: Ε.Ο.Σ. ΑΧΑΡΝΩΝ | D19: 2011 | E19: ΠΑΓΚΟΡΑΣΙΔΕΣ Β | F19: 9 | G19: 37
A20: 6 | B20: ΠΕΡΔΙΚΑΡΗ ΛΥΔΙΑ - ΘΕΟΔΩΡΑ | C20: Ε.Ο.Σ. ΑΧΑΡΝΩΝ | D20: 2009 | E20: ΠΑΓΚΟΡΑΣΙΔΕΣ Α | F20: 5 | G20: 51
A21: 7 | B21: ΜΑΥΡΟΥΔΗΣ ΝΙΚΟΛΑΟΣ | C21: Ε.Ο.Σ. ΑΧΑΡΝΩΝ | D21: 2012 | E21: ΠΑΜΠΑΙΔΕΣ Γ | F21: 4 | G21: 55
A22: 8 | B22: ΝΙΚΟΛΑΝΤΟΣ ΓΙΩΡΓΟΣ | C22: Ε.Ο.Σ. ΑΧΑΡΝΩΝ | D22: 2013 | E22: ΠΑΜΠΑΙΔΕΣ Γ | F22: 5 | G22: 51
G23: =SUM(G15:G22) -> 494
A25: 3 | B25: Ο.Σ. ΑΙΓΙΝΙΟΥ | F25: θεση | G25: βαθμοί
A26: 1 | B26: ΠΑΠΑΤΡΙΑΝΤΑΦΥΛΛΟΥ ΦΑΝΗ | C26: Ο.Σ. ΑΙΓΙΝΙΟΥ | D26: 2010 | E26: ΠΑΓΚΟΡΑΣΙΔΕΣ Β | F26: 7 | G26: 43
A27: 2 | B27: ΖΟΥΛΟΥΜΗ ΚΩΝΣΤΑΝΤΙΝΑ | C27: Ο.Σ. ΑΙΓΙΝΙΟΥ | D27: 2008 | E27: ΠΑΓΚΟΡΑΣΙΔΕΣ Α | F27: 8 | G27: 40
A28: 3 | B28: ΤΣΙΡΕΛΗΣ ΑΘΑΝΑΣΙΟΣ | C28: Ο.Σ. ΑΙΓΙΝΙΟΥ | D28: 2013 | E28: ΠΑΜΠΑΙΔΕΣ Γ | F28: 3 | G28: 65
A29: 4 | B29: ΑΠΟΣΤΟΛΟΠΟΥΛΟΣ ΙΩΑΝΝΗΣ | C29: Ο.Σ. ΑΙΓΙΝΙΟΥ | D29: 2010 | E29: ΠΑΜΠΑΙΔΕΣ Β | F29: 1 | G29: 100
A30: 5 | B30: ΣΠΑΝΟΣ ΝΙΚΟΛΑΟΣ | C30: Ο.Σ. ΑΙΓΙΝΙΟΥ | D30: 2010 | E30: ΠΑΜΠΑΙΔΕΣ Β | F30: 2 | G30: 80
A31: 6 | B31: ΖΟΥΛΟΥΜΗΣ ΑΝΑΣΤΑΣΙΟΣ | C31: Ο.Σ. ΑΙΓΙΝΙΟΥ | D31: 2010 | E31: ΠΑΜΠΑΙΔΕΣ Β | F31: 4 | G31: 55
G32: =SUM(G26:G31) -> 383
A34: 4 | B34: Ο.Λ. ΑΡΙΔΑΙΑΣ | F34: θεση | G34: βαθμοί
A35: 1 | B35: ΣΥΡΟΠΟΥΛΟΥ ΟΛΓΑ | C35: Ο.Λ. ΑΡΙΔΑΙΑΣ | D35: 2009 | E35: ΠΑΓΚΟΡΑΣΙΔΕΣ Α | F35: 1 | G35: 100
A36: 2 | B36: ΠΑΠΑΔΗΜΗΤΡΙΟΥ ΜΑΡΚΕΛΛΑ | C36: Ο.Λ. ΑΡΙΔΑΙΑΣ | D36: 2009 | E36: ΠΑΓΚΟΡΑΣΙΔΕΣ Α | F36: 2 | G36: 80
A37: 3 | B37: ΚΩΤΣΟΥ ΒΑΣΙΛΙΚΗ | C37: Ο.Λ. ΑΡΙΔΑΙΑΣ | D37: 2009 | E37: ΠΑΓΚΟΡΑΣΙΔΕΣ Α | F37: 3 | G37: 65
A38: 4 | B38: ΚΕΝΤΕΡΤΖΙΔΟΥ ΘΕΟΦΑΝΙΑ | C38: Ο.Λ. ΑΡΙΔΑΙΑΣ | D38: 2008 | E38: ΠΑΓΚΟΡΑΣΙΔΕΣ Α | F38: 4 | H38: 55
A39: 5 | B39: ΣΥΡΟΠΟΥΛΟΥ ΕΛΕΝΗ | C39: Ο.Λ. ΑΡΙΔΑΙΑΣ | D39: 2009 | E39: ΠΑΓΚΟΡΑΣΙΔΕΣ Α | F39: 6 | H39: 47
G40: =SUM(G35:G39) -> 245
A42: 5 | B42: Ε.Ο.Σ. ΑΘΗΝΩΝ | F42: θεση | G42: βαθμοί
A43: 1 | B43: ΠΑΠΑΛΕΞΗΣ ΓΕΩΡΓΙΟΣ | C43: Ε.Ο.Σ. ΑΘΗΝΩΝ | D43: 2008 | E43: ΠΑΜΠΑΙΔΕΣ Α | F43: 1 | G43: 100
A44: 2 | B44: ΠΑΠΑΔΗΜΗΤΡΙΟΥ ΕΥΑΓΓΕΛΟΣ | C44: Ε.Ο.Σ. ΑΘΗΝΩΝ | D44: 2008 | E44: ΠΑΜΠΑΙΔΕΣ Α | F44: 2 | G44: 80
...

Sheet μετάλλια lead
B2: Αγώνας Δυσκολίας Βόλος 3/7/21
B3: Πίνακας Μεταλλίων
A4: α/α | B4: Σύλλογος | C4: Χρυσά | D4: Αργυρά | E4: Χαλκινα | F4: Σύνολο
A5: 1 | B5: Ο.Λ. ΑΡΙΔΑΙΑΣ | C5: 1 | D5: 1 | E5: 1 | F5: =SUM(C5:E5) -> 3
A6: 2 | B6: Ο.Σ. ΑΙΓΙΝΙΟΥ | C6: 1 | D6: 1 | E6: 1 | F6: =SUM(C6:E6) -> 3
A7: 3 | B7: Ε.Ο.Σ. ΑΧΑΡΝΩΝ | C7: 1 | D7: 2 | F7: =SUM(C7:E7) -> 3
A8: 4 | B8: Ε.Ο.Σ. ΒΟΛΟΥ | C8: 1 | D8: 1 | E8: 1 | F8: =SUM(C8:E8) -> 3
A9: 5 | B9: Ε.Ο.Σ. ΑΘΗΝΩΝ | C9: 1 | D9: 1 | F9: =SUM(C9:E9) -> 2
A10: 6 | B10: Ε.Π.Ο.Σ. ΦΥΛΗΣ | C10: 1 | F10: =SUM(C10:E10) -> 1
A11: 7 | B11: Σ.Χ.Ο. ΚΑΒΑΛΑΣ | E11: 2 | F11: =SUM(C11:E11) -> 2
A12: 8 | B12: Π.Ο.Σ. ΠΕΤΡΟΥΠΟΛΗΣ | E12: 1 | F12: =SUM(C12:E12) -> 1

Sheet Boulder
B2: ΠΑΓΚΟΡΑΣΙΔΕΣ Γ | E2: Θέση | F2: Βαθμοί
A3: 1 | B3: ΜΗΧΑΗΛΙΔΟΥ ΕΥΘΥΜΙΑ | C3: Ε.Ο.Σ. ΑΧΑΡΝΩΝ | D3: ΠΑΓΚΟΡΑΣΙΔΕΣ Γ | E3: 1 | F3: 100
A4: 2 | B4: ΚΑΡΑΓΕΩΡΓΟΠΟΥΛΟΥ ΜΑΡΛΕΝ | C4: Ε.Ο.Σ. ΑΧΑΡΝΩΝ | D4: ΠΑΓΚΟΡΑΣΙΔΕΣ Γ | E4: 2 | F4: 80
A5: 3 | B5: ΒΑΚΟΝΔΙΟΥ ΜΥΡΤΩ | C5: Σ.Χ.Ο. ΚΑΒΑΛΑΣ | D5: ΠΑΓΚΟΡΑΣΙΔΕΣ Γ | E5: 3 | F5: 65
A6: 4 | B6: ΣΠΥΡΟΥ ΑΡΤΕΜΙΣ | C6: Ε.Ο.Σ. ΒΟΛΟΥ | D6: ΠΑΓΚΟΡΑΣΙΔΕΣ Γ | E6: 4 | F6: 55
A7: 5 | B7: ΣΑΜΑΡΑ ΙΖΑΜΠΕΛΛΑ | C7: Ε.Ο.Σ. ΒΟΛΟΥ | D7: ΠΑΓΚΟΡΑΣΙΔΕΣ Γ | E7: 5 | F7: 51
B9: ΠΑΓΚΟΡΑΣΙΔΕΣ Β | E9: Θέση | F9: Βαθμοί
A10: 1 | B10: ΜΙΧΑΗΛΙΔΟΥ ΑΓΓΕΛΙΚΗ | C10: Ε.Ο.Σ. ΑΧΑΡΝΩΝ | D10: ΠΑΓΚΟΡΑΣΙΔΕΣ Β | E10: 1 | F10: 100
A11: 2 | B11: ΦΡΟΝΙΜΑΚΗ ΣΙΛΙΑ | C11: Ε.Π.Ο.Σ. ΦΥΛΗΣ | D11: ΠΑΓΚΟΡΑΣΙΔΕΣ Β | E11: 2 | F11: 80
A12: 3 | B12: ΚΑΒΒΑΔΙΑ ΕΙΡΗΝΗ ΑΝΝΑ | C12: Ε.Ο.Σ. ΑΘΗΝΩΝ | D12: ΠΑΓΚΟΡΑΣΙΔΕΣ Β | E12: 3 | F12: 65
A13: 4 | B13: ΠΑΠΑΤΡΙΑΝΤΑΦΥΛΛΟΥ ΦΑΝΗ | C13: Ο.Σ. ΑΙΓΙΝΙΟΥ | D13: ΠΑΓΚΟΡΑΣΙΔΕΣ Β | E13: 4 | F13: 55
A14: 5 | B14: ΛΥΤΙΝΑ ΣΩΤΗΡΙΑ | C14: Π.Ο.Σ. ΠΕΤΡΟΥΠΟΛΗΣ | D14: ΠΑΓΚΟΡΑΣΙΔΕΣ Β | E14: 5 | F14: 51
A15: 6 | B15: ΓΕΡΟΒΑΣΙΛΗ ΟΛΓΑ | C15: Ε.Ο.Σ. ΒΟΛΟΥ | D15: ΠΑΓΚΟΡΑΣΙΔΕΣ Β | E15: 6 | F15: 47
A16: 7 | B16: ΚΟΠΑΝΟΥ ΕΥΓΕΝΕΙΑ | C16: Ε.Ο.Σ. ΒΟΛΟΥ | D16: ΠΑΓΚΟΡΑΣΙΔΕΣ Β | E16: 7 | F16: 43
A17: 8 | B17: ΝΙΚΟΛΑΝΤΟΥ ΑΙΚΑΤΕΡΙΝΗ | C17: Ε.Ο.Σ. ΑΧΑΡΝΩΝ | D17: ΠΑΓΚΟΡΑΣΙΔΕΣ Β | E17: 8 | F17: 40
A18: 9 | B18: ΜΑΓΓΙΤΣΗ ΜΑΡΙΑ | C18: Ε.Ο.Σ. ΒΟΛΟΥ | D18: ΠΑΓΚΟΡΑΣΙΔΕΣ Β | E18: 9 | F18: 37
A19: 10 | B19: ΒΑΓΕΝΑ ΑΙΚΑΤΕΡΙΝΗ | C19: Ε.Π.Ο.Σ. ΦΥΛΗΣ | D19: ΠΑΓΚΟΡΑΣΙΔΕΣ Β | E19: 10 | F19: 34
A20: 11 | B20: ΠΕΡΔΙΚΑΡΗ ΙΡΙΔΑ | C20: Ε.Ο.Σ. ΑΧΑΡΝΩΝ | D20: ΠΑΓΚΟΡΑΣΙΔΕΣ Β | E20: 11 | F20: 31
A21: 12 | B21: ΠΕΦΑΝΗ ΑΡΤΕΜΙΣ | C21: Ε.Π.Ο.Σ. ΦΥΛΗΣ | D21: ΠΑΓΚΟΡΑΣΙΔΕΣ Β | E21: 12 | F21: 28
B23: ΠΑΓΚΟΡΑΣΙΔΕΣ Α | E23: Θέση | F23: Βαθμοί
A24: 1 | B24: ΣΥΡΟΠΟΥΛΟΥ ΕΛΕΝΗ | C24: Ο.Λ. ΑΡΙΔΑΙΑΣ | D24: ΠΑΓΚΟΡΑΣΙΔΕΣ Α | E24: 1 | F24: 100
A25: 2 | B25: ΠΑΠΑΔΗΜΗΤΡΙΟΥ ΜΑΡΚΕΛΛΑ | C25: Ο.Λ. ΑΡΙΔΑΙΑΣ | D25: ΠΑΓΚΟΡΑΣΙΔΕΣ Α | E25: 2 | F25: 80
A26: 3 | B26: ΠΕΡΔΙΚΑΡΗ ΛΥΔΙΑ - ΘΕΟΔΩΡΑ | C26: Ε.Ο.Σ. ΑΧΑΡΝΩΝ | D26: ΠΑΓΚΟΡΑΣΙΔΕΣ Α | E26: 3 | F26: 65
A27: 4 | B27: ΒΕΡΓΑ ΦΩΤΕΙΝΗ | C27: Ε.Ο.Σ. ΑΛΜΥΡΟΥ | D27: ΠΑΓΚΟΡΑΣΙΔΕΣ Α | E27: 4 | F27: 51
A28: 4 | B28: ΣΥΡΟΠΟΥΛΟΥ ΟΛΓΑ | C28: Ο.Λ. ΑΡΙΔΑΙΑΣ | D28: ΠΑΓΚΟΡΑΣΙΔΕΣ Α | E28: 4 | F28: 51
A29: 4 | B29: ΚΕΝΤΕΡΤΖΙΔΟΥ ΘΕΟΦΑΝΙΑ | C29: Ο.Λ. ΑΡΙΔΑΙΑΣ | D29: ΠΑΓΚΟΡΑΣΙΔΕΣ Α | E29: 4 | F29: 51
A30: 7 | B30: ΚΩΤΣΟΥ ΒΑΣΙΛΙΚΗ | C30: Ο.Λ. ΑΡΙΔΑΙΑΣ | D30: ΠΑΓΚΟΡΑΣΙΔΕΣ Α | E30: 7 | F30: 43
A31: 8 | B31: ΓΕΡΟΒΑΣΙΛΗ ΑΝΝΑ | C31: Ε.Ο.Σ. ΒΟΛΟΥ | D31: ΠΑΓΚΟΡΑΣΙΔΕΣ Α | E31: 8 | F31: 40
A32: 9 | B32: ΖΟΥΛΟΥΜΗ ΚΩΝΣΤΑΝΤΙΝΑ | C32: Ο.Σ. ΑΙΓΙΝΙΟΥ | D32: ΠΑΓΚΟΡΑΣΙΔΕΣ Α | E32: 9 | F32: 37
B34: ΠΑΜΠΑΙΔΕΣ Γ | E34: Θέση | F34: Βαθμοί
A35: 1 | B35: ΜΙΧΑΗΛΙΔΗΣ ΝΙΚΟΛΑΟΣ | C35: Ε.Ο.Σ. ΒΟΛΟΥ | D35: ΠΑΜΠΑΙΔΕΣ Γ | E35: 1 | F35: 100
A36: 2 | B36: ΣΠΥΡΟΥ ΙΑΣΟΝΑΣ | C36: Ε.Ο.Σ. ΒΟΛΟΥ | D36: ΠΑΜΠΑΙΔΕΣ Γ | E36: 2 | F36: 80
A37: 3 | B37: ΤΣΙΡΕΛΗΣ ΑΘΑΝΑΣΙΟΣ | C37: Ο.Σ. ΑΙΓΙΝΙΟΥ | D37: ΠΑΜΠΑΙΔΕΣ Γ | E37: 3 | F37: 65
A38: 4 | B38: ΜΑΥΡΟΥΔΗΣ ΝΙΚΟΛΑΟΣ | C38: Ε.Ο.Σ. ΑΧΑΡΝΩΝ | D38: ΠΑΜΠΑΙΔΕΣ Γ | E38: 4 | F38: 55
A39: 5 | B39: ΝΙΚΟΛΑΝΤΟΣ ΓΙΩΡΓΟΣ | C39: Ε.Ο.Σ. ΑΧΑΡΝΩΝ | D39: ΠΑΜΠΑΙΔΕΣ Γ | E39: 5 | F39: 51
A40: 6 | B40: ΑΚΡΙΤΙΔΗΣ ΕΥΣΤΡΑΤΙΟΣ | C40: Ε.Ο.Σ. ΞΑΝΘΗΣ | D40: ΠΑΜΠΑΙΔΕΣ Γ | E40: 6 | F40: 47
B42: ΠΑΜΠΑΙΔΕΣ Β | E42: Θέση | F42: Βαθμοί
A43: 1 | B43: ΒΑΚΟΝΔΙΟΣ ΜΑΡΚΟΣ | C43: Σ.Χ.Ο. ΚΑΒΑΛΑΣ | D43: ΠΑΜΠΑΙΔΕΣ Β | E43: 1 | F43: 100
A44: 2 | B44: ΑΠΟΣΤΟΛΟΠΟΥΛΟΣ ΙΩΑΝΝΗΣ | C44: Ο.Σ. ΑΙΓΙΝΙΟΥ | D44: ΠΑΜΠΑΙΔΕΣ Β | E44: 2 | F44: 80
A45: 3 | B45: ΣΠΑΝΟΣ ΝΙΚΟΛΑΟΣ | C45: Ο.Σ. ΑΙΓΙΝΙΟΥ | D45: ΠΑΜΠΑΙΔΕΣ Β | E45: 3 | F45: 65
...

Sheet boulder Συλλόγοι
H1: α/α | I1: Σύλλογος | J1: βαθμοί
A2: 1 | B2: Ε.Ο.Σ. ΑΧΑΡΝΩΝ | E2: θεση | F2: βαθμοί | H2: 1 | I2: Ε.Ο.Σ. ΑΧΑΡΝΩΝ | J2: =F11 -> 522
A3: 1 | B3: ΜΗΧΑΗΛΙΔΟΥ ΕΥΘΥΜΙΑ | C3: Ε.Ο.Σ. ΑΧΑΡΝΩΝ | D3: ΠΑΓΚΟΡΑΣΙΔΕΣ Γ | E3: 1 | F3: 100 | H3: 2 | I3: Ε.Ο.Σ. ΒΟΛΟΥ | J3: =F23 -> 500
A4: 2 | B4: ΚΑΡΑΓΕΩΡΓΟΠΟΥΛΟΥ ΜΑΡΛΕΝ | C4: Ε.Ο.Σ. ΑΧΑΡΝΩΝ | D4: ΠΑΓΚΟΡΑΣΙΔΕΣ Γ | E4: 2 | F4: 80 | H4: 3 | I4: Ο.Σ. ΑΙΓΙΝΙΟΥ | J4: =F32 -> 357
A5: 3 | B5: ΜΙΧΑΗΛΙΔΟΥ ΑΓΓΕΛΙΚΗ | C5: Ε.Ο.Σ. ΑΧΑΡΝΩΝ | D5: ΠΑΓΚΟΡΑΣΙΔΕΣ Β | E5: 1 | F5: 100 | H5: 4 | I5: Ε.Ο.Σ. ΑΘΗΝΩΝ | J5: =F38 -> 245
A6: 4 | B6: ΝΙΚΟΛΑΝΤΟΥ ΑΙΚΑΤΕΡΙΝΗ | C6: Ε.Ο.Σ. ΑΧΑΡΝΩΝ | D6: ΠΑΓΚΟΡΑΣΙΔΕΣ Β | E6: 8 | F6: 40 | H6: 5 | I6: Ο.Λ. ΑΡΙΔΑΙΑΣ | J6: =F46 -> 231
A7: 5 | B7: ΠΕΡΔΙΚΑΡΗ ΙΡΙΔΑ | C7: Ε.Ο.Σ. ΑΧΑΡΝΩΝ | D7: ΠΑΓΚΟΡΑΣΙΔΕΣ Β | E7: 11 | F7: 31 | H7: 6 | I7: Π.Ο.Σ. ΠΕΤΡΟΥΠΟΛΗΣ | J7: =F52 -> 171
A8: 6 | B8: ΠΕΡΔΙΚΑΡΗ ΛΥΔΙΑ - ΘΕΟΔΩΡΑ | C8: Ε.Ο.Σ. ΑΧΑΡΝΩΝ | D8: ΠΑΓΚΟΡΑΣΙΔΕΣ Α | E8: 3 | F8: 65 | H8: 7 | I8: Σ.Χ.Ο. ΚΑΒΑΛΑΣ | J8: =F57 -> 165
A9: 7 | B9: ΜΑΥΡΟΥΔΗΣ ΝΙΚΟΛΑΟΣ | C9: Ε.Ο.Σ. ΑΧΑΡΝΩΝ | D9: ΠΑΜΠΑΙΔΕΣ Γ | E9: 4 | F9: 55 | H9: 8 | I9: Ε.Π.Ο.Σ. ΦΥΛΗΣ | J9: =F63 -> 142
A10: 8 | B10: ΝΙΚΟΛΑΝΤΟΣ ΓΙΩΡΓΟΣ | C10: Ε.Ο.Σ. ΑΧΑΡΝΩΝ | D10: ΠΑΜΠΑΙΔΕΣ Γ | E10: 5 | F10: 51 | H10: 9 | I10: Ε.Ο.Σ. ΑΛΜΥΡΟΥ | J10: =F68 -> 102
F11: =SUM(F3:F10) -> 522 | H11: 10 | I11: Ε.Ο.Σ. ΞΑΝΘΗΣ | J11: =F73 -> 98
H12: 11 | I12: Ε.Ο.Σ. ΚΟΜΟΤΗΝΗΣ | J12: =F77 -> 43
A13: 2 | B13: Ε.Ο.Σ. ΒΟΛΟΥ | E13: θεση | F13: βαθμοί
A14: 1 | B14: ΣΠΥΡΟΥ ΑΡΤΕΜΙΣ | C14: Ε.Ο.Σ. ΒΟΛΟΥ | D14: ΠΑΓΚΟΡΑΣΙΔΕΣ Γ | E14: 4 | F14: 55
A15: 2 | B15: ΣΑΜΑΡΑ ΙΖΑΜΠΕΛΛΑ | C15: Ε.Ο.Σ. ΒΟΛΟΥ | D15: ΠΑΓΚΟΡΑΣΙΔΕΣ Γ | E15: 5 | F15: 51
A16: 3 | B16: ΓΕΡΟΒΑΣΙΛΗ ΟΛΓΑ | C16: Ε.Ο.Σ. ΒΟΛΟΥ | D16: ΠΑΓΚΟΡΑΣΙΔΕΣ Β | E16: 6 | F16: 47
A17: 4 | B17: ΚΟΠΑΝΟΥ ΕΥΓΕΝΕΙΑ | C17: Ε.Ο.Σ. ΒΟΛΟΥ | D17: ΠΑΓΚΟΡΑΣΙΔΕΣ Β | E17: 7 | F17: 43
A18: 5 | B18: ΜΑΓΓΙΤΣΗ ΜΑΡΙΑ | C18: Ε.Ο.Σ. ΒΟΛΟΥ | D18: ΠΑΓΚΟΡΑΣΙΔΕΣ Β | E18: 9 | F18: 37
A19: 6 | B19: ΓΕΡΟΒΑΣΙΛΗ ΑΝΝΑ | C19: Ε.Ο.Σ. ΒΟΛΟΥ | D19: ΠΑΓΚΟΡΑΣΙΔΕΣ Α | E19: 8 | F19: 40
A20: 7 | B20: ΜΙΧΑΗΛΙΔΗΣ ΝΙΚΟΛΑΟΣ | C20: Ε.Ο.Σ. ΒΟΛΟΥ | D20: ΠΑΜΠΑΙΔΕΣ Γ | E20: 1 | F20: 100
A21: 8 | B21: ΣΠΥΡΟΥ ΙΑΣΟΝΑΣ | C21: Ε.Ο.Σ. ΒΟΛΟΥ | D21: ΠΑΜΠΑΙΔΕΣ Γ | E21: 2 | F21: 80
A22: 9 | B22: ΕΥΑΓΓΕΛΟΥ ΕΜΜΑΝΟΥΗΛ | C22: Ε.Ο.Σ. ΒΟΛΟΥ | D22: ΠΑΜΠΑΙΔΕΣ Β | E22: 6 | F22: 47
F23: =SUM(F14:F22) -> 500
A25: 3 | B25: Ο.Σ. ΑΙΓΙΝΙΟΥ | E25: θεση | F25: βαθμοί
A26: 1 | B26: ΠΑΠΑΤΡΙΑΝΤΑΦΥΛΛΟΥ ΦΑΝΗ | C26: Ο.Σ. ΑΙΓΙΝΙΟΥ | D26: ΠΑΓΚΟΡΑΣΙΔΕΣ Β | E26: 4 | F26: 55
A27: 2 | B27: ΖΟΥΛΟΥΜΗ ΚΩΝΣΤΑΝΤΙΝΑ | C27: Ο.Σ. ΑΙΓΙΝΙΟΥ | D27: ΠΑΓΚΟΡΑΣΙΔΕΣ Α | E27: 9 | F27: 37
A28: 3 | B28: ΤΣΙΡΕΛΗΣ ΑΘΑΝΑΣΙΟΣ | C28: Ο.Σ. ΑΙΓΙΝΙΟΥ | D28: ΠΑΜΠΑΙΔΕΣ Γ | E28: 3 | F28: 65
A29: 4 | B29: ΑΠΟΣΤΟΛΟΠΟΥΛΟΣ ΙΩΑΝΝΗΣ | C29: Ο.Σ. ΑΙΓΙΝΙΟΥ | D29: ΠΑΜΠΑΙΔΕΣ Β | E29: 2 | F29: 80
A30: 5 | B30: ΣΠΑΝΟΣ ΝΙΚΟΛΑΟΣ | C30: Ο.Σ. ΑΙΓΙΝΙΟΥ | D30: ΠΑΜΠΑΙΔΕΣ Β | E30: 3 | F30: 65
A31: 6 | B31: ΖΟΥΛΟΥΜΗΣ ΑΝΑΣΤΑΣΙΟΣ | C31: Ο.Σ. ΑΙΓΙΝΙΟΥ | D31: ΠΑΜΠΑΙΔΕΣ Β | E31: 4 | F31: 55
F32: =SUM(F26:F31) -> 357
A34: 4 | B34: Ε.Ο.Σ. ΑΘΗΝΩΝ | E34: θεση | F34: βαθμοί
A35: 1 | B35: ΚΑΒΒΑΔΙΑ ΕΙΡΗΝΗ ΑΝΝΑ | C35: Ε.Ο.Σ. ΑΘΗΝΩΝ | D35: ΠΑΓΚΟΡΑΣΙΔΕΣ Β | E35: 3 | F35: 65
A36: 2 | B36: ΠΑΠΑΔΗΜΗΤΡΙΟΥ ΕΥΑΓΓΕΛΟΣ | C36: Ε.Ο.Σ. ΑΘΗΝΩΝ | D36: ΠΑΜΠΑΙΔΕΣ Α | E36: 1 | F36: 100
A37: 3 | B37: ΠΑΠΑΛΕΞΗΣ ΓΕΩΡΓΙΟΣ | C37: Ε.Ο.Σ. ΑΘΗΝΩΝ | D37: ΠΑΜΠΑΙΔΕΣ Α | E37: 2 | F37: 80
F38: =SUM(F35:F37) -> 245
A40: 5 | B40: Ο.Λ. ΑΡΙΔΑΙΑΣ | E40: θεση | F40: βαθμοί
A41: 1 | B41: ΣΥΡΟΠΟΥΛΟΥ ΕΛΕΝΗ | C41: Ο.Λ. ΑΡΙΔΑΙΑΣ | D41: ΠΑΓΚΟΡΑΣΙΔΕΣ Α | E41: 1 | F41: 100
A42: 2 | B42: ΠΑΠΑΔΗΜΗΤΡΙΟΥ ΜΑΡΚΕΛΛΑ | C42: Ο.Λ. ΑΡΙΔΑΙΑΣ | D42: ΠΑΓΚΟΡΑΣΙΔΕΣ Α | E42: 2 | F42: 80
A43: 3 | B43: ΣΥΡΟΠΟΥΛΟΥ ΟΛΓΑ | C43: Ο.Λ. ΑΡΙΔΑΙΑΣ | D43: ΠΑΓΚΟΡΑΣΙΔΕΣ Α | E43: 4 | F43: 51
...

Sheet boulder μετάλλια
B2: Αγώνας Boulder Αλμυρός
B3: Πίνακας Μεταλλίων
A4: α/α | B4: Σύλλογος | C4: Χρυσά | D4: Αργυρά | E4: Χαλκινα | F4: Σύνολο
A5: 1 | B5: Ε.Ο.Σ. ΑΧΑΡΝΩΝ | C5: 2 | D5: 1 | E5: 1 | F5: =SUM(C5:E5) -> 4
A6: 2 | B6: Ε.Ο.Σ. ΑΘΗΝΩΝ | C6: 1 | D6: 1 | E6: 1 | F6: =SUM(C6:E6) -> 3
A7: 3 | B7: Ο.Λ. ΑΡΙΔΑΙΑΣ | C7: 1 | D7: 1 | F7: =SUM(C7:E7) -> 2
A8: 4 | B8: Ε.Ο.Σ. ΒΟΛΟΥ | C8: 1 | D8: 1 | F8: =SUM(C8:E8) -> 2
A9: 5 | B9: Σ.Χ.Ο. ΚΑΒΑΛΑΣ | C9: 1 | E9: 1 | F9: =SUM(C9:E9) -> 2
A10: 6 | B10: Ο.Σ. ΑΙΓΙΝΙΟΥ | D10: 1 | E10: 2 | F10: =SUM(C10:E10) -> 3
A11: 7 | B11: Ε.Π.Ο.Σ. ΦΥΛΗΣ | D11: 1 | F11: =SUM(C11:E11) -> 1
A12: 8 | B12: Π.Ο.Σ. ΠΕΤΡΟΥΠΟΛΗΣ | E12: 2 | F12: =SUM(C12:E12) -> 2
