Workbook

Sheet Βαθμολογία
A1: θέση | B1: Συλλογος | C1: Αγώνας Boulder Αλμυρός 22/5/2021 | D1: Αγώνας Δυσκολίας Βόλος 23/5/2021 | E1: Σύνολοκή Βαθμολογία
A2: 1 | B2: Σ.Ε.Ο ΘΕΣΣΑΛΟΝΙΚΗΣ | C2: ='βαθμολογία Συλλόγων boulder'!K3 -> 579 | D2: ='βαθμολογια Συλλογων Βολος '!J5 -> 530 | E2: =SUM(C2:D2) -> 1109
A3: 2 | B3: Ε.Ο.Σ. ΧΑΛΚΙΔΑΣ | C3: ='βαθμολογία Συλλόγων boulder'!K4 -> 408 | D3: ='βαθμολογια Συλλογων Βολος '!J6 -> 425 | E3: =SUM(C3:D3) -> 833
A4: 3 | B4: Ο.Σ. ΑΙΓΙΝΙΟΥ | C4: ='βαθμολογία Συλλόγων boulder'!K5 -> 381 | D4: ='βαθμολογια Συλλογων Βολος '!J7 -> 330 | E4: =SUM(C4:D4) -> 711
A5: 4 | B5: Ε.Ο.Σ. ΑΘΗΝΩΝ | C5: ='βαθμολογία Συλλόγων boulder'!K7 -> 263 | D5: ='βαθμολογια Συλλογων Βολος '!J8 -> 296 | E5: =SUM(C5:D5) -> 559
A6: 5 | B6: Ε.Ο.Σ. ΞΑΝΘΗΣ | C6: ='βαθμολογία Συλλόγων boulder'!K10 -> 180 | D6: ='βαθμολογια Συλλογων Βολος '!J9 -> 360 | E6: =SUM(C6:D6) -> 540
A7: 6 | B7: Ε.Ο.Σ. ΑΧΑΡΝΩΝ | C7: ='βαθμολογία Συλλόγων boulder'!K6 -> 269 | D7: ='βαθμολογια Συλλογων Βολος '!J10 -> 248 | E7: =SUM(C7:D7) -> 517
A8: 7 | B8: Ο.Λ. ΑΡΙΔΑΙΑΣ | C8: ='βαθμολογία Συλλόγων boulder'!K8 -> 215 | D8: ='βαθμολογια Συλλογων Βολος '!J11 -> 216 | E8: =SUM(C8:D8) -> 431
A9: 8 | B9: Π.Ο.Σ. ΠΕΤΡΟΥΠΟΛΗΣ | C9: ='βαθμολογία Συλλόγων boulder'!K9 -> 206 | D9: ='βαθμολογια Συλλογων Βολος '!J12 -> 181 | E9: =SUM(C9:D9) -> 387
A10: 9 | B10: Ε.Ο.Σ. ΗΡΑΚΛΕΙΟΥ | C10: ='βαθμολογία Συλλόγων boulder'!K12 -> 106 | D10: ='βαθμολογια Συλλογων Βολος '!J13 -> 123 | E10: =SUM(C10:D10) -> 229
A11: 10 | B11: Ε.Ο.Σ. ΑΛΜΥΡΟΥ | C11: ='βαθμολογία Συλλόγων boulder'!K11 -> 120 | D11: ='βαθμολογια Συλλογων Βολος '!J14 -> 106 | E11: =SUM(C11:D11) -> 226
A12: 11 | B12: Ε.Π.Ο.Σ. ΦΥΛΗΣ | C12: ='βαθμολογία Συλλόγων boulder'!K13 -> 80 | D12: ='βαθμολογια Συλλογων Βολος '!J15 -> 100 | E12: =SUM(C12:D12) -> 180
A13: 12 | B13: Ο.Σ. ΣΙΑΤΙΣΤΑΣ | C13: 65 | D13: ='βαθμολογια Συλλογων Βολος '!J16 -> 65 | E13: =SUM(C13:D13) -> 130
A14: 13 | B14: Ε.Ο.Σ. ΒΟΛΟΥ | C14: ='βαθμολογία Συλλόγων boulder'!K15 -> 49 | D14: ='βαθμολογια Συλλογων Βολος '!J17 -> 51 | E14: =SUM(C14:D14) -> 100
A15: 14 | B15: Ε.Ο.Σ. ΘΕΣΣΑΛΟΝΙΚΗΣ | C15: ='βαθμολογία Συλλόγων boulder'!K16 -> 47 | D15: ='βαθμολογια Συλλογων Βολος '!J19 -> 40 | E15: =SUM(C15:D15) -> 87
A16: 15 | B16: Ε.Ο.Σ. ΕΛΕΥΣΙΝΑΣ | C16: ='βαθμολογία Συλλόγων boulder'!K17 -> 34 | D16: ='βαθμολογια Συλλογων Βολος '!J20 -> 31 | E16: =SUM(C16:D16) -> 65
A17: 16 | B17: Λ.Ο.Χ. ΚΑΒΑΛΑΣ | C17: 0 | D17: ='βαθμολογια Συλλογων Βολος '!J18 -> 51 | E17: =SUM(C17:D17) -> 51

Sheet Μετάλλια
B1: 32ο Πανελλήνιο Πρωτάθλημα Δυσκολίας στο Βόλο
B2: Πίνακας Μεταλλίων
B3: Σύλλογος | C3: Χρυσό | D3: Ασημένιο | E3: Χάλκινα | F3: Σύνολο
A4: 1 | B4: Ε.Ο.Σ. ΞΑΝΘΗΣ | C4: 2 | D4: 2 | F4: =SUM(C4:E4) -> 4
A5: 2 | B5: Ε.Ο.Σ. ΧΑΛΚΙΔΑΣ | C5: 2 | D5: 2 | F5: =SUM(C5:E5) -> 4
A6: 3 | B6: Ε.Ο.Σ. ΑΘΗΝΩΝ | C6: 1 | D6: 1 | E6: 1 | F6: =SUM(C6:E6) -> 3
A7: 4 | B7: Σ.Ε.Ο ΘΕΣΣΑΛΟΝΙΚΗΣ | C7: 1 | D7: 1 | E7: 1 | F7: =SUM(C7:E7) -> 3
A8: 5 | B8: Ε.Π.Ο.Σ. ΦΥΛΗΣ | C8: 1 | F8: =SUM(C8:E8) -> 1
A9: 6 | B9: Ο.Λ. ΑΡΙΔΑΙΑΣ | C9: 1 | E9: 1 | F9: =SUM(C9:E9) -> 2
A10: 7 | B10: Ο.Σ. ΑΙΓΙΝΙΟΥ | D10: 1 | E10: 3 | F10: =SUM(C10:E10) -> 4
A11: 8 | B11: Ε.Ο.Σ. ΗΡΑΚΛΕΙΟΥ | D11: 1 | F11: =SUM(C11:E11) -> 1
A12: 9 | B12: Ε.Ο.Σ. ΑΧΑΡΝΩΝ | E12: 1 | F12: =SUM(C12:E12) -> 1
A13: 10 | B13: Ο.Σ. ΣΙΑΤΙΣΤΑΣ | E13: 1 | F13: =SUM(C13:E13) -> 1
B15: 32ο Πανελλήνιο Πρωτάθλημα boulder στον Αλμυρό
B16: Πίνακας Μεταλλίων
B17: Σύλλογος | C17: Χρυσό | D17: Ασημένιο | E17: Χάλκινα | F17: Σύνολο
A18: 1 | B18: Ε.Ο.Σ. ΧΑΛΚΙΔΑΣ | C18: 3 | F18: =SUM(C18:E18) -> 3
A19: 2 | B19: Ο.Σ. ΑΙΓΙΝΙΟΥ | C19: 2 | E19: 3 | F19: =SUM(C19:E19) -> 5
A20: 3 | B20: Σ.Ε.Ο ΘΕΣΣΑΛΟΝΙΚΗΣ | C20: 1 | D20: 2 | E20: 3 | F20: =SUM(C20:E20) -> 6
A21: 4 | B21: Ε.Ο.Σ. ΞΑΝΘΗΣ | C21: 1 | D21: 1 | F21: =SUM(C21:E21) -> 2
A22: 5 | B22: Ε.Ο.Σ. ΑΘΗΝΩΝ | C22: 1 | E22: 1 | F22: =SUM(C22:E22) -> 2
A23: 6 | B23: Ε.Ο.Σ. ΑΛΜΥΡΟΥ | E23: 1 | F23: =SUM(D23:E23) -> 1
A24: 7 | B24: Ε.Ο.Σ. ΑΧΑΡΝΩΝ | D24: 1 | F24: =SUM(D24:E24) -> 1
A25: 8 | B25: Ο.Λ. ΑΡΙΔΑΙΑΣ | D25: 2 | F25: =SUM(C25:E25) -> 2
A26: 9 | B26: Ε.Π.Ο.Σ. ΦΥΛΗΣ | D26: 1 | F26: =SUM(C26:E26) -> 1
A27: 10 | B27: Π.Ο.Σ. ΠΕΤΡΟΥΠΟΛΗΣ | D27: 1 | F27: =SUM(C27:E27) -> 1
A28: 11 | B28: Ο.Σ. ΣΙΑΤΙΣΤΑΣ | E28: 1 | F28: =SUM(C28:E28) -> 1
B30: Σύνολο Μετάλλια
B31: Πίνακας Μεταλλίων
B32: Σύλλογος | C32: Χρυσό | D32: Ασημένιο | E32: Χάλκινα | F32: Σύνολο
A33: 1 | B33: Ε.Ο.Σ. ΧΑΛΚΙΔΑΣ | C33: 5 | D33: 2 | F33: =SUM(C33:E33) -> 7
A34: 2 | B34: Ε.Ο.Σ. ΞΑΝΘΗΣ | C34: 3 | D34: 3 | F34: =SUM(C34:E34) -> 6
A35: 3 | B35: Σ.Ε.Ο ΘΕΣΣΑΛΟΝΙΚΗΣ | C35: 2 | D35: 3 | E35: 4 | F35: =SUM(C35:E35) -> 9
A36: 4 | B36: Ο.Σ. ΑΙΓΙΝΙΟΥ | C36: 2 | D36: 1 | E36: 6 | F36: =SUM(C36:E36) -> 9
A37: 5 | B37: Ε.Ο.Σ. ΑΘΗΝΩΝ | C37: 2 | D37: 1 | E37: 2 | F37: =SUM(C37:E37) -> 5
A38: 6 | B38: Ο.Λ. ΑΡΙΔΑΙΑΣ | C38: 1 | D38: 2 | E38: 1 | F38: =SUM(C38:E38) -> 4
A39: 7 | B39: Ε.Π.Ο.Σ. ΦΥΛΗΣ | C39: 1 | D39: 1 | F39: =SUM(C39:E39) -> 2
A40: 8 | B40: Ε.Ο.Σ. ΑΧΑΡΝΩΝ | D40: 1 | E40: 1 | F40: =SUM(C40:E40) -> 2
A41: 9 | B41: Π.Ο.Σ. ΠΕΤΡΟΥΠΟΛΗΣ | D41: 1 | F41: =SUM(C41:E41) -> 1
A42: 10 | B42: Ε.Ο.Σ. ΗΡΑΚΛΕΙΟΥ | D42: 1 | F42: =SUM(C42:E42) -> 1
...

Sheet Αποτελέσματα δυσκολίας
B1: 32ο Πανελλήνιο Πρωτάθλημα Δυσκολίας | C1: 44339
B2: Ανδρών | C2: Σύλλογος | D2: Κατηγορία | E2: Θέση | F2: βαθμοί | K2: Θέση | L2: Βαθμοί
A3: 1 | B3: ΒΑΛΣΑΜΙΔΗΣ ΜΑΤΘΑΙΟΣ | C3: Ε.Ο.Σ. ΞΑΝΘΗΣ | D3: Ανδρών | E3: 1 | F3: 100 | K3: 1 | L3: 100
A4: 2 | B4: ΚΟΣΜΑΣ ΘΩΜΑΣ | C4: Ε.Ο.Σ. ΧΑΛΚΙΔΑΣ | D4: Ανδρών | E4: 2 | F4: 80 | K4: 2 | L4: 80
A5: 3 | B5: ΣΕΜΠΡΟΣ ΒΙΚΤΩΡΑΣ | C5: Ε.Ο.Σ. ΑΘΗΝΩΝ | D5: Ανδρών | E5: 3 | F5: 65 | K5: 3 | L5: 65
A6: 4 | B6: ΤΣΙΑΟΥΣΗΣ ΟΡΦΕΑΣ | C6: Σ.Ε.Ο ΘΕΣΣΑΛΟΝΙΚΗΣ | D6: Ανδρών | E6: 4 | F6: 55 | K6: 4 | L6: 55
A7: 5 | B7: ΘΕΟΧΑΡΟΠΟΥΛΟΣ ΘΕΟΦΑΝΗΣ - ΕΡΜΗΣ | C7: Ε.Ο.Σ. ΑΧΑΡΝΩΝ | D7: Ανδρών | E7: 5 | F7: 51 | K7: 5 | L7: 51
A8: 6 | B8: ΒΟΛΥΡΑΚΗΣ ΜΙΧΑΗΛ | C8: Σ.Ε.Ο ΘΕΣΣΑΛΟΝΙΚΗΣ | D8: Ανδρών | E8: 6 | F8: 47 | K8: 6 | L8: 47
A9: 7 | B9: ΑΑΜΕΡ ΜΟΥΛΑΤΣΙΩΤΗΣ ΔΗΜΗΤΡΗΣ | C9: Ε.Ο.Σ. ΗΡΑΚΛΕΙΟΥ | D9: Ανδρών | E9: 7 | F9: 43 | K9: 7 | L9: 43
A10: 8 | B10: ΚΙΝΙΝΗΣ ΑΝΑΣΤΑΣΙΟΣ | C10: Ε.Ο.Σ. ΘΕΣΣΑΛΟΝΙΚΗΣ | D10: Ανδρών | E10: 8 | F10: 40 | K10: 8 | L10: 40
A11: 9 | B11: ΣΤΑΘΗΣ ΔΗΜΗΤΡΙΟΣ | C11: Ε.Ο.Σ. ΧΑΛΚΙΔΑΣ | D11: Ανδρών | E11: 9 | F11: 37 | K11: 9 | L11: 37
A12: 10 | B12: ΘΕΟΔΩΣΗΣ ΣΤΑΥΡΟΣ | C12: Ε.Ο.Σ. ΑΧΑΡΝΩΝ | D12: Ανδρών | E12: 10 | F12: 34 | K12: 10 | L12: 34
A13: 11 | B13: ΜΠΕΛΛΟΣ ΣΩΤΗΡΗΣ | C13: Ε.Ο.Σ. ΕΛΕΥΣΙΝΑΣ | D13: Ανδρών | E13: 11 | F13: 31 | K13: 11 | L13: 31
A14: 12 | B14: ΓΕΡΟΛΥΜΠΟΣ ΔΗΜΗΤΡΙΟΣ | C14: Ε.Ο.Σ. ΧΑΛΚΙΔΑΣ | D14: Ανδρών | E14: 12 | F14: 28 | K14: 12 | L14: 28
... A16: 14 | B16: ΚΥΡΙΑΖΗΣ ΓΕΩΡΓΙΟΣ | C16: Π.Ο.Σ. ΠΕΤΡΟΥΠΟΛΗΣ | D16: Ανδρών | E16: 14 | F16: 24 | K16: 14 | L16: 24
K17: 15 | L17: 22
B18: Γυναικών | C18: Σύλλογος | D18: Κατηγορία | E18: Θέση | F18: βαθμοί | K18: 16 | L18: 20
A19: 1 | B19: ΠΕΤΑΛΙΔΟΥ ΜΥΡΤΩ | C19: Σ.Ε.Ο ΘΕΣΣΑΛΟΝΙΚΗΣ | D19: Γυναικών | E19: 1 | F19: 100 | K19: 17 | L19: 18
A20: 2 | B20: ΚΑΤΕΡΗ ΑΛΕΞΑΝΔΡΑ | C20: Σ.Ε.Ο ΘΕΣΣΑΛΟΝΙΚΗΣ | D20: Γυναικών | E20: 2 | F20: 80 | K20: 18 | L20: 16
A21: 3 | B21: ΜΟΥΤΑΦΙΔΟΥ ΕΥΘΥΜΙΑ | C21: Ο.Λ. ΑΡΙΔΑΙΑΣ | D21: Γυναικών | E21: 3 | F21: 65 | K21: 19 | L21: 14
A22: 4 | B22: ΦΩΚΑ ΣΟΦΙΑ | C22: Σ.Ε.Ο ΘΕΣΣΑΛΟΝΙΚΗΣ | D22: Γυναικών | E22: 4 | F22: 55 | K22: 20 | L22: 12
A23: 5 | B23: ΚΑΡΚΑΤΣΕΛΗ ΧΑΤΖΗΠΑΝΑΓΙΩΤΟΥ ΜΑΡΙΑ | C23: Ε.Ο.Σ. ΒΟΛΟΥ | D23: Γυναικών | E23: 5 | F23: 51 | K23: 21 | L23: 10
K24: 22 | L24: 9
B25: Νέοι Ανδρες | C25: Σύλλογος | D25: Κατηγορία | E25: Θέση | F25: βαθμοί | K25: 23 | L25: 8
A26: 1 | B26: ΝΑΝΟΥΣΗΣ ΠΑΝΑΓΙΩΤΗΣ | C26: Ε.Π.Ο.Σ. ΦΥΛΗΣ | D26: Νέοι Ανδρες | E26: 1 | F26: 100 | K26: 24 | L26: 7
A27: 2 | B27: ΣΙΔΕΡΗΣ ΚΩΝΣΤΑΝΤΗΣ | C27: Ε.Ο.Σ. ΑΘΗΝΩΝ | D27: Νέοι Ανδρες | E27: 2 | F27: 80 | K27: 25 | L27: 6
A28: 3 | B28: ΜΠΑΝΙΤΣΙΩΤΗΣ ΘΕΟΔΩΡΟΣ | C28: Σ.Ε.Ο ΘΕΣΣΑΛΟΝΙΚΗΣ | D28: Νέοι Ανδρες | E28: 3 | F28: 65 | K28: 26 | L28: 5
A29: 4 | B29: ΚΥΡΙΑΖΗΣ ΕΥΘΥΜΗΣ | C29: Π.Ο.Σ. ΠΕΤΡΟΥΠΟΛΗΣ | D29: Νέοι Ανδρες | E29: 4 | F29: 55 | K29: 27 | L29: 4
A30: 5 | B30: ΑΝΤΩΝΙΑΔΗΣ ΚΙΜΩΝ-ΑΛΕΞΑΝΔΡΟΣ | C30: Λ.Ο.Χ. ΚΑΒΑΛΑΣ | D30: Νέοι Ανδρες | E30: 5 | F30: 51 | K30: 28 | L30: 3
K31: 29 | L31: 2
B32: Νέες Γυναίκες | C32: Σύλλογος | D32: Κατηγορία | E32: Θέση | F32: βαθμοί | K32: 30 | L32: 1
A33: 1 | B33: ΛΙΟΥΝΗ ΑΘΑΝΑΣΙΑ | C33: Ο.Λ. ΑΡΙΔΑΙΑΣ | D33: Νέες Γυναίκες | E33: 1 | F33: 100
A34: 2 | B34: ΚΑΛΛΙΑ ΕΥΔΟΞΙΑ ΑΙΚΑΤΕΡΙΝΗ | C34: Ε.Ο.Σ. ΧΑΛΚΙΔΑΣ | D34: Νέες Γυναίκες | E34: 2 | F34: 80
A35: 3 | B35: ΤΣΙΟΤΣΙΟΥ ΕΡΙΦΥΛΗ | C35: Ο.Σ. ΣΙΑΤΙΣΤΑΣ | D35: Νέες Γυναίκες | E35: 3 | F35: 65
B37: Έφηβοι | C37: Σύλλογος | D37: Κατηγορία | E37: Θέση | F37: βαθμοί
A38: 1 | B38: ΛΑΥΡΕΝΤΑΚΗΣ ΦΙΛΙΠΠΟΣ | C38: Ε.Ο.Σ. ΧΑΛΚΙΔΑΣ | D38: Έφηβοι | E38: 1 | F38: 100
A39: 2 | B39: ΛΥΔΑΚΑΚΗΣ ΝΙΚΟΣ | C39: Ε.Ο.Σ. ΗΡΑΚΛΕΙΟΥ | D39: Έφηβοι | E39: 2 | F39: 80
A40: 3 | B40: ΟΡΦΑΝΟΣ ΓΕΩΡΓΙΟΣ | C40: Ε.Ο.Σ. ΑΧΑΡΝΩΝ | D40: Έφηβοι | E40: 3 | F40: 65
A41: 4 | B41: ΠΑΚΟΣ ΗΡΑΚΛΗΣ | C41: Π.Ο.Σ. ΠΕΤΡΟΥΠΟΛΗΣ | D41: Έφηβοι | E41: 4 | F41: 55
A42: 5 | B42: ΚΑΛΛΙΚΑΣ ΔΗΜΗΤΡΗΣ | C42: Ε.Ο.Σ. ΑΛΜΥΡΟΥ | D42: Έφηβοι | E42: 5 | F42: 51
...

Sheet βαθμολογια Συλλογων Βολος 
B1: 32ο Πανελλήνιο Πρωτάθλημα Δυσκολίας | C1: 44339
A2: 1 | B2: Σ.Ε.Ο ΘΕΣΣΑΛΟΝΙΚΗΣ
A3: 4 | B3: ΤΣΙΑΟΥΣΗΣ ΟΡΦΕΑΣ | C3: Σ.Ε.Ο ΘΕΣΣΑΛΟΝΙΚΗΣ | D3: Ανδρών | E3: 4 | F3: 55 | I3: Πίνακς Βαθμολογίας δυσκολίας | L3: Πίνακας Μεταλλίων
A4: 6 | B4: ΒΟΛΥΡΑΚΗΣ ΜΙΧΑΗΛ | C4: Σ.Ε.Ο ΘΕΣΣΑΛΟΝΙΚΗΣ | D4: Ανδρών | E4: 6 | F4: 47 | H4: θεση | I4: Σύλλογος | J4: Βαθμοί | L4: Σύλλογος | M4: Χρυσό | N4: Ασημένιο | O4: Χάλκινα | P4: Σύνολο
A5: 13 | B5: ΠΑΛΛΑΣ ΓΕΩΡΓΙΟΣ | C5: Σ.Ε.Ο ΘΕΣΣΑΛΟΝΙΚΗΣ | D5: Ανδρών | E5: 13 | F5: 26 | H5: 1 | I5: Σ.Ε.Ο ΘΕΣΣΑΛΟΝΙΚΗΣ | J5: =F12 -> 530 | L5: Ε.Ο.Σ. ΞΑΝΘΗΣ | M5: 2 | N5: 2 | P5: =SUM(M5:O5) -> 4
A6: 1 | B6: ΠΕΤΑΛΙΔΟΥ ΜΥΡΤΩ | C6: Σ.Ε.Ο ΘΕΣΣΑΛΟΝΙΚΗΣ | D6: Γυναικών | E6: 1 | F6: 100 | H6: 2 | I6: Ε.Ο.Σ. ΧΑΛΚΙΔΑΣ | J6: =F20 -> 425 | L6: Ε.Ο.Σ. ΧΑΛΚΙΔΑΣ | M6: 2 | N6: 2 | P6: =SUM(M6:O6) -> 4
A7: 2 | B7: ΚΑΤΕΡΗ ΑΛΕΞΑΝΔΡΑ | C7: Σ.Ε.Ο ΘΕΣΣΑΛΟΝΙΚΗΣ | D7: Γυναικών | E7: 2 | F7: 80 | H7: 3 | I7: Ο.Σ. ΑΙΓΙΝΙΟΥ | J7: =F27 -> 330 | L7: Ε.Ο.Σ. ΑΘΗΝΩΝ | M7: 1 | N7: 1 | O7: 1 | P7: =SUM(M7:O7) -> 3
A8: 4 | B8: ΦΩΚΑ ΣΟΦΙΑ | C8: Σ.Ε.Ο ΘΕΣΣΑΛΟΝΙΚΗΣ | D8: Γυναικών | E8: 4 | F8: 55 | H8: 4 | I8: Ε.Ο.Σ. ΑΘΗΝΩΝ | J8: =F33 -> 296 | L8: Σ.Ε.Ο ΘΕΣΣΑΛΟΝΙΚΗΣ | M8: 1 | N8: 1 | O8: 1 | P8: =SUM(M8:O8) -> 3
A9: 3 | B9: ΜΠΑΝΙΤΣΙΩΤΗΣ ΘΕΟΔΩΡΟΣ | C9: Σ.Ε.Ο ΘΕΣΣΑΛΟΝΙΚΗΣ | D9: Νέοι Ανδρες | E9: 3 | F9: 65 | H9: 5 | I9: Ε.Ο.Σ. ΞΑΝΘΗΣ | J9: =F40 -> 360 | L9: Ε.Π.Ο.Σ. ΦΥΛΗΣ | M9: 1 | P9: =SUM(M9:O9) -> 1
A10: 4 | B10: ΜΑΓΚΙΟΡΟΥ ΧΡΥΣΗ | C10: Σ.Ε.Ο ΘΕΣΣΑΛΟΝΙΚΗΣ | D10: Νεάνιδες | E10: 4 | F10: 55 | H10: 6 | I10: Ε.Ο.Σ. ΑΧΑΡΝΩΝ | J10: =F48 -> 248 | L10: Ο.Λ. ΑΡΙΔΑΙΑΣ | M10: 1 | O10: 1 | P10: =SUM(M10:O10) -> 2
A11: 6 | B11: ΜΑΓΚΙΟΡΟΥ ΕΡΜΙΟΝΗ | C11: Σ.Ε.Ο ΘΕΣΣΑΛΟΝΙΚΗΣ | D11: Κορασίδες | E11: 6 | F11: 47 | H11: 7 | I11: Ο.Λ. ΑΡΙΔΑΙΑΣ | J11: =F54 -> 216 | L11: Ο.Σ. ΑΙΓΙΝΙΟΥ | N11: 1 | O11: 3 | P11: =SUM(M11:O11) -> 4
F12: =SUM(F3:F11) -> 530 | H12: 8 | I12: Π.Ο.Σ. ΠΕΤΡΟΥΠΟΛΗΣ | J12: =F61 -> 181 | L12: Ε.Ο.Σ. ΗΡΑΚΛΕΙΟΥ | N12: 1 | P12: =SUM(M12:O12) -> 1
A13: 2 | B13: Ε.Ο.Σ. ΧΑΛΚΙΔΑΣ | H13: 9 | I13: Ε.Ο.Σ. ΗΡΑΚΛΕΙΟΥ | J13: =F66 -> 123 | L13: Ε.Ο.Σ. ΑΧΑΡΝΩΝ | O13: 1 | P13: =SUM(M13:O13) -> 1
A14: 2 | B14: ΚΟΣΜΑΣ ΘΩΜΑΣ | C14: Ε.Ο.Σ. ΧΑΛΚΙΔΑΣ | D14: Ανδρών | E14: 2 | F14: 80 | H14: 10 | I14: Ε.Ο.Σ. ΑΛΜΥΡΟΥ | J14: =F71 -> 106 | L14: Ο.Σ. ΣΙΑΤΙΣΤΑΣ | O14: 1 | P14: =SUM(M14:O14) -> 1
A15: 9 | B15: ΣΤΑΘΗΣ ΔΗΜΗΤΡΙΟΣ | C15: Ε.Ο.Σ. ΧΑΛΚΙΔΑΣ | D15: Ανδρών | E15: 9 | F15: 37 | H15: 11 | I15: Ε.Π.Ο.Σ. ΦΥΛΗΣ | J15: =F75 -> 100
A16: 12 | B16: ΓΕΡΟΛΥΜΠΟΣ ΔΗΜΗΤΡΙΟΣ | C16: Ε.Ο.Σ. ΧΑΛΚΙΔΑΣ | D16: Ανδρών | E16: 12 | F16: 28 | H16: 12 | I16: Ο.Σ. ΣΙΑΤΙΣΤΑΣ | J16: =F79 -> 65
A17: 2 | B17: ΚΑΛΛΙΑ ΕΥΔΟΞΙΑ ΑΙΚΑΤΕΡΙΝΗ | C17: Ε.Ο.Σ. ΧΑΛΚΙΔΑΣ | D17: Νέες Γυναίκες | E17: 2 | F17: 80 | H17: 13 | I17: Ε.Ο.Σ. ΒΟΛΟΥ | J17: =F87 -> 51
A18: 1 | B18: ΛΑΥΡΕΝΤΑΚΗΣ ΦΙΛΙΠΠΟΣ | C18: Ε.Ο.Σ. ΧΑΛΚΙΔΑΣ | D18: Έφηβοι | E18: 1 | F18: 100 | H18: 13 | I18: Λ.Ο.Χ. ΚΑΒΑΛΑΣ | J18: =F83 -> 51
A19: 1 | B19: ΑΡΓΥΡΙΟΥ ΜΥΡΤΩ | C19: Ε.Ο.Σ. ΧΑΛΚΙΔΑΣ | D19: Νεάνιδες | E19: 1 | F19: 100 | H19: 15 | I19: Ε.Ο.Σ. ΘΕΣΣΑΛΟΝΙΚΗΣ | J19: =F91 -> 40
F20: =SUM(F14:F19) -> 425 | H20: 16 | I20: Ε.Ο.Σ. ΕΛΕΥΣΙΝΑΣ | J20: =F95 -> 31
A21: 3 | B21: Ο.Σ. ΑΙΓΙΝΙΟΥ
A22: 3 | B22: ΠΑΤΣΙΑ ΣΤΕΡΓΙΑΝΗ-ΕΛΕΥΘΕΡΙΑ | C22: Ο.Σ. ΑΙΓΙΝΙΟΥ | D22: Νεάνιδες | E22: 3 | F22: 65 | J22: 32ο Πανελλήνιο Πρωτάθλημα Δυσκολίας
A23: 3 | B23: ΜΠΕΝΟΣ ΙΩΑΝΝΗΣ | C23: Ο.Σ. ΑΙΓΙΝΙΟΥ | D23: Παίδες | E23: 3 | F23: 65
A24: 4 | B24: ΠΑΠΑΝΤΡΙΑΝΤΑΦΥΛΛΟΥ ΝΙΚΟΛΑΟΣ | C24: Ο.Σ. ΑΙΓΙΝΙΟΥ | D24: Παίδες | E24: 4 | F24: 55
A25: 2 | B25: ΣΠΑΝΟΥ ΕΥΤΥΧΙΑ | C25: Ο.Σ. ΑΙΓΙΝΙΟΥ | D25: Κορασίδες | E25: 2 | F25: 80
A26: 3 | B26: ΚΟΚΤΣΙΔΟΥ ΜΑΡΙΑΝΘΗ | C26: Ο.Σ. ΑΙΓΙΝΙΟΥ | D26: Κορασίδες | E26: 3 | F26: 65
F27: =SUM(F22:F26) -> 330
A28: 4 | B28: Ε.Ο.Σ. ΑΘΗΝΩΝ
A29: 3 | B29: ΣΕΜΠΡΟΣ ΒΙΚΤΩΡΑΣ | C29: Ε.Ο.Σ. ΑΘΗΝΩΝ | D29: Ανδρών | E29: 3 | F29: 65
A30: 2 | B30: ΣΙΔΕΡΗΣ ΚΩΝΣΤΑΝΤΗΣ | C30: Ε.Ο.Σ. ΑΘΗΝΩΝ | D30: Νέοι Ανδρες | E30: 2 | F30: 80
A31: 1 | B31: ΚΑΒΒΑΔΙΑ ΜΑΡΙΑ | C31: Ε.Ο.Σ. ΑΘΗΝΩΝ | D31: Κορασίδες | E31: 1 | F31: 100
A32: 5 | B32: ΧΑΛΔΑΙΟΥ ΣΟΦΙΑ | C32: Ε.Ο.Σ. ΑΘΗΝΩΝ | D32: Κορασίδες | E32: 5 | F32: 51
F33: =SUM(F29:F32) -> 296
A35: 5 | B35: Ε.Ο.Σ. ΞΑΝΘΗΣ
A36: 1 | B36: ΒΑΛΣΑΜΙΔΗΣ ΜΑΤΘΑΙΟΣ | C36: Ε.Ο.Σ. ΞΑΝΘΗΣ | D36: Ανδρών | E36: 1 | F36: 100
A37: 2 | B37: ΠΑΛΤΑΤΣΙΔΟΥ ΖΩΗ | C37: Ε.Ο.Σ. ΞΑΝΘΗΣ | D37: Νεάνιδες | E37: 2 | F37: 80
A38: 1 | B38: ΜΠΕΡΤΟΣ ΒΑΣΙΛΕΙΟΣ | C38: Ε.Ο.Σ. ΞΑΝΘΗΣ | D38: Παίδες | E38: 1 | F38: 100
A39: 2 | B39: ΒΑΛΣΑΜΙΔΗΣ ΙΑΣΩΝΑΣ | C39: Ε.Ο.Σ. ΞΑΝΘΗΣ | D39: Παίδες | E39: 2 | F39: 80
F40: =SUM(F36:F39) -> 360
A42: 6 | B42: Ε.Ο.Σ. ΑΧΑΡΝΩΝ
...

Sheet Αποτελέσματα boulder
B1: 32ο Πανελλήνιο Πρωτάθλημα boulder στον Αλμυρο | D1: 44338
B2: Ανδρών | C2: Σύλλογος | D2: Κατηγορία | E2: Θέση | F2: βαθμοί | J2: Θέση | K2: Βαθμοί
A3: 1 | B3: ΒΑΛΣΑΜΙΔΗΣ ΜΑΤΘΑΙΟΣ | C3: Ε.Ο.Σ. ΞΑΝΘΗΣ | D3: Ανδρών | E3: 1 | F3: 100 | J3: 1 | K3: 100
A4: 2 | B4: ΤΣΙΑΟΥΣΗΣ ΟΡΦΕΑΣ | C4: Σ.Ε.Ο ΘΕΣΣΑΛΟΝΙΚΗΣ | D4: Ανδρών | E4: 2 | F4: 80 | J4: 2 | K4: 80
A5: 3 | B5: ΣΕΜΠΡΟΣ ΒΙΚΤΩΡΑΣ | C5: Ε.Ο.Σ. ΑΘΗΝΩΝ | D5: Ανδρών | E5: 3 | F5: 65 | J5: 3 | K5: 65
A6: 4 | B6: ΘΕΟΧΑΡΟΠΟΥΛΟΣ ΘΕΟΦΑΝΗΣ - ΕΡΜΗΣ | C6: Ε.Ο.Σ. ΑΧΑΡΝΩΝ | D6: Ανδρών | E6: 4 | F6: 55 | J6: 4 | K6: 55
A7: 5 | B7: ΑΑΜΕΡ-ΜΟΥΛΑΤΣΙΩΤΗΣ ΔΗΜΗΤΡΙΟΣ | C7: Ε.Ο.Σ. ΗΡΑΚΛΕΙΟΥ | D7: Ανδρών | E7: 5 | F7: 51 | J7: 5 | K7: 51
A8: 6 | B8: ΚΙΝΙΝΗΣ ΑΝΑΣΤΑΣΙΟΣ | C8: Ε.Ο.Σ.ΘΕΣΣΑΛΟΝΙΚΗΣ | D8: Ανδρών | E8: 6 | F8: 47 | J8: 6 | K8: 47
A9: 7 | B9: ΒΟΛΥΡΑΚΗΣ ΜΙΧΑΗΛ | C9: Σ.Ε.Ο ΘΕΣΣΑΛΟΝΙΚΗΣ | D9: Ανδρών | E9: 7 | F9: 43 | J9: 7 | K9: 43
A10: 8 | B10: ΓΕΡΟΛΥΜΠΟΣ ΔΗΜΗΤΡΙΟΣ | C10: Ε.Ο.Σ. ΧΑΛΚΙΔΑΣ | D10: Ανδρών | E10: 8 | F10: 40 | J10: 8 | K10: 40
A11: 9 | B11: ΜΠΕΛΛΟΣ ΣΩΤΗΡΙΟΣ | C11: Ε.Ο.Σ. ΕΛΕΥΣΙΝΑΣ | D11: Ανδρών | E11: 9 | F11: 34 | J11: 9 | K11: 37
A12: 10 | B12: ΣΤΑΘΗΣ ΔΗΜΗΤΡΙΟΣ | C12: Ε.Ο.Σ. ΧΑΛΚΙΔΑΣ | D12: Ανδρών | E12: 9 | F12: 34 | J12: 10 | K12: 34
A13: 11 | B13: ΚΟΣΜΑΣ ΘΩΜΑΣ | C13: Ε.Ο.Σ. ΧΑΛΚΙΔΑΣ | D13: Ανδρών | E13: 9 | F13: 34 | J13: 11 | K13: 31
A14: 12 | B14: ΘΕΟΔΩΣΗΣ ΣΤΑΥΡΟΣ | C14: Ε.Ο.Σ. ΑΧΑΡΝΩΝ | D14: Ανδρών | E14: 12 | F14: 28 | J14: 12 | K14: 28
... A16: 14 | B16: ΚΥΡΙΑΖΗΣ ΓΕΩΡΓΙΟΣ | C16: Π.Ο.Σ. ΠΕΤΡΟΥΠΟΛΗΣ | D16: Ανδρών | E16: 14 | F16: 24 | J16: 14 | K16: 24
J17: 15 | K17: 22
B18: Γυναίκες | C18: Σύλλογος | D18: Κατηγορία | E18: Θέση | F18: βαθμοί | J18: 16 | K18: 20
A19: 1 | B19: ΚΑΤΕΡΗ ΑΛΕΞΑΝΔΡΑ | C19: Σ.Ε.Ο ΘΕΣΣΑΛΟΝΙΚΗΣ | D19: Γυναίκες | E19: 1 | F19: 100 | J19: 17 | K19: 18
A20: 2 | B20: ΜΟΥΤΑΦΙΔΟΥ ΕΥΘΥΜΙΑ | C20: Ο.Λ. ΑΡΙΔΑΙΑΣ | D20: Γυναίκες | E20: 2 | F20: 80 | J20: 18 | K20: 16
A21: 3 | B21: ΠΕΤΑΛΙΔΟΥ ΜΥΡΤΩ | C21: Σ.Ε.Ο ΘΕΣΣΑΛΟΝΙΚΗΣ | D21: Γυναίκες | E21: 3 | F21: 65 | J21: 19 | K21: 14
A22: 4 | B22: ΕΥΑΓΓΕΛΟΠΟΥΛΟΥ ΑΝΑΣΤΑΣΙΑ | C22: Σ.Ε.Ο ΘΕΣΣΑΛΟΝΙΚΗΣ | D22: Γυναίκες | E22: 4 | F22: 55 | J22: 20 | K22: 12
A23: 5 | B23: ΚΑΡΚΑΤΣΕΛΗ ΧΑΤΖΗΠΑΝΑΓΙΩΤΟΥ ΜΑΡΙΑ | C23: Ε.Ο.Σ. ΒΟΛΟΥ | D23: Γυναίκες | E23: 5 | F23: 49 | J23: 21 | K23: 10
A24: 5 | B24: ΦΩΚΑ ΣΟΦΙΑ | C24: Σ.Ε.Ο ΘΕΣΣΑΛΟΝΙΚΗΣ | D24: Γυναίκες | E24: 5 | F24: 49 | J24: 22 | K24: 9
J25: 23 | K25: 8
B26: Νέοι Ανδρες | C26: Σύλλογος | D26: Κατηγορία | E26: Θέση | F26: βαθμοί | J26: 24 | K26: 7
A27: 1 | B27: ΣΙΔΕΡΗΣ ΚΩΝΣΤΑΝΤΗΣ | C27: Ε.Ο.Σ. ΑΘΗΝΩΝ | D27: Νέοι Ανδρες | E27: 1 | F27: 100 | J27: 25 | K27: 6
A28: 2 | B28: ΝΑΝΟΥΣΗΣ ΠΑΝΑΓΙΩΤΗΣ | C28: Ε.Π.Ο.Σ. ΦΥΛΗΣ | D28: Νέοι Ανδρες | E28: 2 | F28: 80 | J28: 26 | K28: 5
A29: 3 | B29: ΜΠΑΝΙΤΣΙΩΤΗΣ ΘΕΟΔΩΡΟΣ | C29: Σ.Ε.Ο ΘΕΣΣΑΛΟΝΙΚΗΣ | D29: Νέοι Ανδρες | E29: 3 | F29: 65 | J29: 27 | K29: 4
A30: 4 | B30: ΚΥΡΙΑΖΗΣ ΕΥΘΥΜΗΣ | C30: Π.Ο.Σ. ΠΕΤΡΟΥΠΟΛΗΣ | D30: Νέοι Ανδρες | E30: 4 | F30: 55 | J30: 28 | K30: 3
J31: 29 | K31: 2
B32: Νέες Γυναίκες | C32: Σύλλογος | D32: Κατηγορία | E32: Θέση | F32: βαθμοί | J32: 30 | K32: 1
A33: 1 | B33: ΚΑΛΛΙΑ ΕΥΔΟΞΙΑ ΑΙΚΑΤΕΡΙΝΗ | C33: Ε.Ο.Σ. ΧΑΛΚΙΔΑΣ | D33: Νέες Γυναίκες | E33: 1 | F33: 100
A34: 2 | B34: ΛΙΟΥΝΗ ΑΘΑΝΑΣΙΑ | C34: Ο.Λ. ΑΡΙΔΑΙΑΣ | D34: Νέες Γυναίκες | E34: 2 | F34: 80
A35: 3 | B35: ΤΣΙΟΤΣΙΟΥ ΕΡΙΦΥΛΗ | C35: Ο.Σ. ΣΙΑΤΙΣΤΑΣ | D35: Νέες Γυναίκες | E35: 3 | F35: 65
B37: Έφηβοι | C37: Σύλλογος | D37: Κατηγορία | E37: Θέση | F37: βαθμοί
A38: 1 | B38: ΛΑΥΡΕΝΤΑΚΗΣ ΦΙΛΙΠΠΟΣ | C38: Ε.Ο.Σ. ΧΑΛΚΙΔΑΣ | D38: Έφηβοι | E38: 1 | F38: 100
A39: 2 | B39: ΠΑΚΟΣ ΗΡΑΚΛΗΣ | C39: Π.Ο.Σ. ΠΕΤΡΟΥΠΟΛΗΣ | D39: Έφηβοι | E39: 2 | F39: 80
A40: 3 | B40: ΚΑΛΛΙΚΑΣ ΔΗΜΗΤΡΗΣ | C40: Ε.Ο.Σ. ΑΛΜΥΡΟΥ | D40: Έφηβοι | E40: 3 | F40: 65
A41: 4 | B41: ΛΥΔΑΚΑΚΗΣ ΝΙΚΟΣ | C41: Ε.Ο.Σ. ΗΡΑΚΛΕΙΟΥ | D41: Έφηβοι | E41: 4 | F41: 55
A42: 5 | B42: ΟΡΦΑΝΟΣ ΓΕΩΡΓΙΟΣ | C42: Ε.Ο.Σ. ΑΧΑΡΝΩΝ | D42: Έφηβοι | E42: 5 | F42: 51
...

Sheet βαθμολογία Συλλόγων boulder
B1: 32ο Πανελλήνιο Πρωτάθλημα boulder στον Αλμυρο | D1: 44338 | J1: Πίνακς Βαθμολογίας δυσκολίας | M1: Πίνακας Μεταλλίων
A2: 1 | B2: Σ.Ε.Ο ΘΕΣΣΑΛΟΝΙΚΗΣ | I2: θεση | J2: Σύλλογος | K2: Βαθμοί | M2: Σύλλογος | N2: Χρυσό | O2: Ασημένιο | P2: Χάλκινα | Q2: Σύνολο
A3: 2 | B3: ΤΣΙΑΟΥΣΗΣ ΟΡΦΕΑΣ | C3: Σ.Ε.Ο ΘΕΣΣΑΛΟΝΙΚΗΣ | D3: Ανδρών | E3: 2 | F3: 80 | I3: 1 | J3: Σ.Ε.Ο ΘΕΣΣΑΛΟΝΙΚΗΣ | K3: =F13 -> 579 | M3: Ε.Ο.Σ. ΧΑΛΚΙΔΑΣ | N3: 3 | Q3: =SUM(N3:P3) -> 3
A4: 7 | B4: ΒΟΛΥΡΑΚΗΣ ΜΙΧΑΗΛ | C4: Σ.Ε.Ο ΘΕΣΣΑΛΟΝΙΚΗΣ | D4: Ανδρών | E4: 7 | F4: 43 | I4: 2 | J4: Ε.Ο.Σ. ΧΑΛΚΙΔΑΣ | K4: =F22 -> 408 | M4: Ο.Σ. ΑΙΓΙΝΙΟΥ | N4: 2 | P4: 3 | Q4: =SUM(N4:P4) -> 5
A5: 13 | B5: ΠΑΛΛΑΣ ΓΕΩΡΓΙΟΣ | C5: Σ.Ε.Ο ΘΕΣΣΑΛΟΝΙΚΗΣ | D5: Ανδρών | E5: 13 | F5: 26 | I5: 3 | J5: Ο.Σ. ΑΙΓΙΝΙΟΥ | K5: =F30 -> 381 | M5: Σ.Ε.Ο ΘΕΣΣΑΛΟΝΙΚΗΣ | N5: 1 | O5: 2 | P5: 3 | Q5: =SUM(N5:P5) -> 6
A6: 1 | B6: ΚΑΤΕΡΗ ΑΛΕΞΑΝΔΡΑ | C6: Σ.Ε.Ο ΘΕΣΣΑΛΟΝΙΚΗΣ | D6: Γυναίκες | E6: 1 | F6: 100 | I6: 4 | J6: Ε.Ο.Σ. ΑΧΑΡΝΩΝ | K6: =F38 -> 269 | M6: Ε.Ο.Σ. ΞΑΝΘΗΣ | N6: 1 | O6: 1 | Q6: =SUM(N6:P6) -> 2
A7: 3 | B7: ΠΕΤΑΛΙΔΟΥ ΜΥΡΤΩ | C7: Σ.Ε.Ο ΘΕΣΣΑΛΟΝΙΚΗΣ | D7: Γυναίκες | E7: 3 | F7: 65 | I7: 5 | J7: Ε.Ο.Σ. ΑΘΗΝΩΝ | K7: =F45 -> 263 | M7: Ε.Ο.Σ. ΑΘΗΝΩΝ | N7: 1 | P7: 1 | Q7: =SUM(N7:P7) -> 2
A8: 4 | B8: ΕΥΑΓΓΕΛΟΠΟΥΛΟΥ ΑΝΑΣΤΑΣΙΑ | C8: Σ.Ε.Ο ΘΕΣΣΑΛΟΝΙΚΗΣ | D8: Γυναίκες | E8: 4 | F8: 55 | I8: 6 | J8: Ο.Λ. ΑΡΙΔΑΙΑΣ | K8: =F51 -> 215 | M8: Ε.Ο.Σ. ΑΛΜΥΡΟΥ | P8: 1 | Q8: =SUM(O8:P8) -> 1
A9: 5 | B9: ΦΩΚΑ ΣΟΦΙΑ | C9: Σ.Ε.Ο ΘΕΣΣΑΛΟΝΙΚΗΣ | D9: Γυναίκες | E9: 5 | G9: 49 | I9: 7 | J9: Π.Ο.Σ. ΠΕΤΡΟΥΠΟΛΗΣ | K9: =F58 -> 206 | M9: Ο.Λ. ΑΡΙΔΑΙΑΣ | O9: 2 | Q9: =SUM(N9:P9) -> 2
A10: 3 | B10: ΜΠΑΝΙΤΣΙΩΤΗΣ ΘΕΟΔΩΡΟΣ | C10: Σ.Ε.Ο ΘΕΣΣΑΛΟΝΙΚΗΣ | D10: Νέοι Ανδρες | E10: 3 | F10: 65 | I10: 8 | J10: Ε.Ο.Σ. ΞΑΝΘΗΣ | K10: =F63 -> 180 | M10: Ε.Ο.Σ. ΑΧΑΡΝΩΝ | O10: 1 | Q10: =SUM(O10:P10) -> 1
A11: 3 | B11: ΜΑΓΚΙΟΡΟΥ ΧΡΥΣΗ | C11: Σ.Ε.Ο ΘΕΣΣΑΛΟΝΙΚΗΣ | D11: Νεάνιδες | E11: 3 | F11: 65 | I11: 9 | J11: Ε.Ο.Σ. ΑΛΜΥΡΟΥ | K11: =F68 -> 120 | M11: Ε.Π.Ο.Σ. ΦΥΛΗΣ | O11: 1 | Q11: =SUM(N11:P11) -> 1
A12: 2 | B12: ΜΑΓΚΙΟΡΟΥ ΕΡΜΙΟΝΗ | C12: Σ.Ε.Ο ΘΕΣΣΑΛΟΝΙΚΗΣ | D12: Κορασίδες | E12: 2 | F12: 80 | I12: 10 | J12: Ε.Ο.Σ. ΗΡΑΚΛΕΙΟΥ | K12: =F73 -> 106 | M12: Π.Ο.Σ. ΠΕΤΡΟΥΠΟΛΗΣ | O12: 1 | Q12: =SUM(N12:P12) -> 1
F13: =SUM(F3:F12) -> 579 | I13: 11 | J13: Ε.Π.Ο.Σ. ΦΥΛΗΣ | K13: =F77 -> 80 | M13: Ο.Σ. ΣΙΑΤΙΣΤΑΣ | P13: 1 | Q13: =SUM(N13:P13) -> 1
I14: 12 | J14: Ο.Σ. ΣΙΑΤΙΣΤΑΣ | K14: =F81 -> 65
A15: 2 | B15: Ε.Ο.Σ. ΧΑΛΚΙΔΑΣ | I15: 13 | J15: Ε.Ο.Σ. ΒΟΛΟΥ | K15: =F85 -> 49
A16: 8 | B16: ΓΕΡΟΛΥΜΠΟΣ ΔΗΜΗΤΡΙΟΣ | C16: Ε.Ο.Σ. ΧΑΛΚΙΔΑΣ | D16: Ανδρών | E16: 8 | F16: 40 | I16: 14 | J16: Ε.Ο.Σ.ΘΕΣΣΑΛΟΝΙΚΗΣ | K16: =F89 -> 47
A17: 10 | B17: ΣΤΑΘΗΣ ΔΗΜΗΤΡΙΟΣ | C17: Ε.Ο.Σ. ΧΑΛΚΙΔΑΣ | D17: Ανδρών | E17: 9 | F17: 34 | I17: 15 | J17: Ε.Ο.Σ. ΕΛΕΥΣΙΝΑΣ | K17: =F93 -> 34
A18: 11 | B18: ΚΟΣΜΑΣ ΘΩΜΑΣ | C18: Ε.Ο.Σ. ΧΑΛΚΙΔΑΣ | D18: Ανδρών | E18: 9 | F18: 34
A19: 1 | B19: ΚΑΛΛΙΑ ΕΥΔΟΞΙΑ ΑΙΚΑΤΕΡΙΝΗ | C19: Ε.Ο.Σ. ΧΑΛΚΙΔΑΣ | D19: Νέες Γυναίκες | E19: 1 | F19: 100
A20: 1 | B20: ΛΑΥΡΕΝΤΑΚΗΣ ΦΙΛΙΠΠΟΣ | C20: Ε.Ο.Σ. ΧΑΛΚΙΔΑΣ | D20: Έφηβοι | E20: 1 | F20: 100
A21: 1 | B21: ΑΡΓΥΡΙΟΥ ΜΥΡΤΩ | C21: Ε.Ο.Σ. ΧΑΛΚΙΔΑΣ | D21: Νεάνιδες | E21: 1 | F21: 100
F22: =SUM(F16:F21) -> 408
A24: 3 | B24: Ο.Σ. ΑΙΓΙΝΙΟΥ
A25: 5 | B25: ΠΑΤΣΙΑ ΣΤΕΡΓΙΑΝΗ-ΕΛΕΥΘΕΡΙΑ | C25: Ο.Σ. ΑΙΓΙΝΙΟΥ | D25: Νεάνιδες | E25: 4 | F25: 51
A26: 1 | B26: ΜΠΕΝΟΣ ΙΩΑΝΝΗΣ | C26: Ο.Σ. ΑΙΓΙΝΙΟΥ | D26: Παίδες | E26: 1 | F26: 100
A27: 3 | B27: ΠΑΠΑΝΤΡΙΑΝΤΑΦΥΛΛΟΥ ΝΙΚΟΛΑΟΣ | C27: Ο.Σ. ΑΙΓΙΝΙΟΥ | D27: Παίδες | E27: 3 | F27: 65
A28: 1 | B28: ΣΠΑΝΟΥ ΕΥΤΥΧΙΑ | C28: Ο.Σ. ΑΙΓΙΝΙΟΥ | D28: Κορασίδες | E28: 1 | F28: 100
A29: 3 | B29: ΚΟΚΤΣΙΔΟΥ ΜΑΡΙΑΝΘΗ | C29: Ο.Σ. ΑΙΓΙΝΙΟΥ | D29: Κορασίδες | E29: 3 | F29: 65
F30: =SUM(F25:F29) -> 381
A32: 4 | B32: Ε.Ο.Σ. ΑΧΑΡΝΩΝ
A33: 4 | B33: ΘΕΟΧΑΡΟΠΟΥΛΟΣ ΘΕΟΦΑΝΗΣ - ΕΡΜΗΣ | C33: Ε.Ο.Σ. ΑΧΑΡΝΩΝ | D33: Ανδρών | E33: 4 | F33: 55
A34: 12 | B34: ΘΕΟΔΩΣΗΣ ΣΤΑΥΡΟΣ | C34: Ε.Ο.Σ. ΑΧΑΡΝΩΝ | D34: Ανδρών | E34: 12 | F34: 28
A35: 5 | B35: ΟΡΦΑΝΟΣ ΓΕΩΡΓΙΟΣ | C35: Ε.Ο.Σ. ΑΧΑΡΝΩΝ | D35: Έφηβοι | E35: 5 | F35: 51
A36: 2 | B36: ΦΙΛΙΠΠΙΔΗΣ ΑΝΑΣΤΑΣΙΟΣ | C36: Ε.Ο.Σ. ΑΧΑΡΝΩΝ | D36: Παίδες | E36: 2 | F36: 80
A37: 4 | B37: ΦΙΛΙΠΠΙΔΗΣ ΦΩΤΙΟΣ | C37: Ε.Ο.Σ. ΑΧΑΡΝΩΝ | D37: Παίδες | E37: 4 | F37: 55
F38: =SUM(F33:F37) -> 269
A40: 5 | B40: Ε.Ο.Σ. ΑΘΗΝΩΝ
A41: 3 | B41: ΣΕΜΠΡΟΣ ΒΙΚΤΩΡΑΣ | C41: Ε.Ο.Σ. ΑΘΗΝΩΝ | D41: Ανδρών | E41: 3 | F41: 65
A42: 2 | B42: ΣΙΔΕΡΗΣ ΚΩΝΣΤΑΝΤΗΣ | C42: Ε.Ο.Σ. ΑΘΗΝΩΝ | D42: Νέοι Ανδρες | E42: 1 | F42: 100
A43: 5 | B43: ΚΑΒΒΑΔΙΑ ΜΑΡΙΑ | C43: Ε.Ο.Σ. ΑΘΗΝΩΝ | D43: Κορασίδες | E43: 5 | F43: 51
...
